Index of /checkResults/devel/bioc-LATEST/EventPointer/raw-results/kjohnson3

[ICO]NameLast modifiedSizeDescription

[DIR]Parent Directory  -  
[TXT]buildbin-out.txt24-Jul-2024 00:42 4.6K 
[   ]buildbin-summary.dcf24-Jul-2024 00:42 560  
[TXT]buildsrc-out.txt24-Jul-2024 00:42 1.3K 
[   ]buildsrc-summary.dcf24-Jul-2024 00:42 442  
[TXT]checksrc-out.txt24-Jul-2024 00:42 5.6K 
[   ]checksrc-summary.dcf24-Jul-2024 00:42 464  
[TXT]install-out.txt24-Jul-2024 00:42 2.6K 
[   ]install-summary.dcf24-Jul-2024 00:42 279