Back to Multiple platform build/check report for BioC 3.14
ABCD[E]FGHIJKLMNOPQRSTUVWXYZ

All results for package EventPointer

This page was generated on 2021-06-12 12:04:17 -0400 (Sat, 12 Jun 2021).

Package 581/1993HostnameOS / ArchINSTALLBUILDCHECKBUILD BIN
EventPointer 3.1.0  (landing page)
Juan A. Ferrer-Bonsoms
Snapshot Date: 2021-06-11 14:50:09 -0400 (Fri, 11 Jun 2021)
URL: https://git.bioconductor.org/packages/EventPointer
Branch: master
Last Commit: ed9dd41
Last Changed Date: 2021-05-19 12:26:09 -0400 (Wed, 19 May 2021)
nebbiolo2Linux (Ubuntu 20.04.2 LTS) / x86_64  OK    OK    OK  UNNEEDED, same version is already published
riesling1Windows Server 2019 Standard / x64  OK    OK    OK    OK  UNNEEDED, same version is already published
merida1macOS 10.14.6 Mojave / x86_64  OK    OK    OK    OK  UNNEEDED, same version is already published