Back to Multiple platform build/check report for BioC 3.14
ABCD[E]FGHIJKLMNOPQRSTUVWXYZ

This page was generated on 2021-08-05 12:06:56 -0400 (Thu, 05 Aug 2021).

BUILD BIN results for EnrichmentBrowser on merida1

To the developers/maintainers of the EnrichmentBrowser package:
- Please allow up to 24 hours (and sometimes 48 hours) for your latest push to git@git.bioconductor.org:packages/EnrichmentBrowser.git to
reflect on this report. See How and When does the builder pull? When will my changes propagate? here for more information.
- Make sure to use the following settings in order to reproduce any error or warning you see on this page.

raw results

Package 562/2015HostnameOS / ArchINSTALLBUILDCHECKBUILD BIN
EnrichmentBrowser 2.23.4  (landing page)
Ludwig Geistlinger
Snapshot Date: 2021-08-04 14:50:10 -0400 (Wed, 04 Aug 2021)
URL: https://git.bioconductor.org/packages/EnrichmentBrowser
Branch: master
Last Commit: b60c892
Last Changed Date: 2021-07-21 08:55:09 -0400 (Wed, 21 Jul 2021)
nebbiolo2Linux (Ubuntu 20.04.2 LTS) / x86_64  OK    OK    OK  UNNEEDED, same version is already published
riesling1Windows Server 2019 Standard / x64  OK    OK    OK    OK  NO, package depends on 'KEGGgraph' which is not available
merida1macOS 10.14.6 Mojave / x86_64  OK    OK    OK    OK  UNNEEDED, same version is already published

Summary

Package: EnrichmentBrowser
Version: 2.23.4
Command: rm -rf EnrichmentBrowser.buildbin-libdir && mkdir EnrichmentBrowser.buildbin-libdir && /Users/biocbuild/BBS/utils/build-universal.sh EnrichmentBrowser_2.23.4.tar.gz /Library/Frameworks/R.framework/Resources/bin/R EnrichmentBrowser.buildbin-libdir
StartedAt: 2021-08-05 09:21:47 -0400 (Thu, 05 Aug 2021)
EndedAt: 2021-08-05 09:22:31 -0400 (Thu, 05 Aug 2021)
EllapsedTime: 44.1 seconds
RetCode: 0
Status:   OK  
PackageFile: EnrichmentBrowser_2.23.4.tgz
PackageFileSize: 2.118 MiB

Command output

##############################################################################
##############################################################################
###
### Running command:
###
###   rm -rf EnrichmentBrowser.buildbin-libdir && mkdir EnrichmentBrowser.buildbin-libdir && /Users/biocbuild/BBS/utils/build-universal.sh EnrichmentBrowser_2.23.4.tar.gz /Library/Frameworks/R.framework/Resources/bin/R EnrichmentBrowser.buildbin-libdir
###
##############################################################################
##############################################################################


>>>>>>> 
>>>>>>> INSTALLATION WITH 'R CMD INSTALL --preclean --no-multiarch --library=EnrichmentBrowser.buildbin-libdir EnrichmentBrowser_2.23.4.tar.gz'
>>>>>>> 

* installing *source* package ‘EnrichmentBrowser’ ...
** using staged installation
** R
** inst
** byte-compile and prepare package for lazy loading
** help
*** installing help indices
** building package indices
** installing vignettes
** testing if installed package can be loaded from temporary location
** testing if installed package can be loaded from final location
** testing if installed package keeps a record of temporary installation path
* DONE (EnrichmentBrowser)