Back to Multiple platform build/check report for BioC 3.20:   simplified   long
ABCD[E]FGHIJKLMNOPQRSTUVWXYZ

This page was generated on 2024-06-20 12:14 -0400 (Thu, 20 Jun 2024).

HostnameOSArch (*)R versionInstalled pkgs
nebbiolo2Linux (Ubuntu 22.04.3 LTS)x86_644.4.0 RC (2024-04-16 r86468) -- "Puppy Cup" 4687
lconwaymacOS 12.7.1 Montereyx86_644.4.1 RC (2024-06-06 r86719) -- "Race for Your Life" 4402
Click on any hostname to see more info about the system (e.g. compilers)      (*) as reported by 'uname -p', except on Windows and Mac OS X

Package 659/2242HostnameOS / ArchINSTALLBUILDCHECKBUILD BIN
ERSSA 1.23.0  (landing page)
Zixuan Shao
Snapshot Date: 2024-06-19 14:00 -0400 (Wed, 19 Jun 2024)
git_url: https://git.bioconductor.org/packages/ERSSA
git_branch: devel
git_last_commit: 6435b60
git_last_commit_date: 2024-04-30 11:09:19 -0400 (Tue, 30 Apr 2024)
nebbiolo2Linux (Ubuntu 22.04.3 LTS) / x86_64  OK    OK    OK  UNNEEDED, same version is already published
lconwaymacOS 12.7.1 Monterey / x86_64  OK    OK    OK    OK  UNNEEDED, same version is already published


CHECK results for ERSSA on nebbiolo2

To the developers/maintainers of the ERSSA package:
- Allow up to 24 hours (and sometimes 48 hours) for your latest push to git@git.bioconductor.org:packages/ERSSA.git to reflect on this report. See Troubleshooting Build Report for more information.
- Use the following Renviron settings to reproduce errors and warnings.
- If 'R CMD check' started to fail recently on the Linux builder(s) over a missing dependency, add the missing dependency to 'Suggests:' in your DESCRIPTION file. See Renviron.bioc for more information.

raw results


Summary

Package: ERSSA
Version: 1.23.0
Command: /home/biocbuild/bbs-3.20-bioc/R/bin/R CMD check --install=check:ERSSA.install-out.txt --library=/home/biocbuild/bbs-3.20-bioc/R/site-library --timings ERSSA_1.23.0.tar.gz
StartedAt: 2024-06-19 22:57:04 -0400 (Wed, 19 Jun 2024)
EndedAt: 2024-06-19 23:01:37 -0400 (Wed, 19 Jun 2024)
EllapsedTime: 272.4 seconds
RetCode: 0
Status:   OK  
CheckDir: ERSSA.Rcheck
Warnings: 0

Command output

##############################################################################
##############################################################################
###
### Running command:
###
###   /home/biocbuild/bbs-3.20-bioc/R/bin/R CMD check --install=check:ERSSA.install-out.txt --library=/home/biocbuild/bbs-3.20-bioc/R/site-library --timings ERSSA_1.23.0.tar.gz
###
##############################################################################
##############################################################################


* using log directory ‘/home/biocbuild/bbs-3.20-bioc/meat/ERSSA.Rcheck’
* using R version 4.4.0 RC (2024-04-16 r86468)
* using platform: x86_64-pc-linux-gnu
* R was compiled by
    gcc (Ubuntu 11.4.0-1ubuntu1~22.04) 11.4.0
    GNU Fortran (Ubuntu 11.4.0-1ubuntu1~22.04) 11.4.0
* running under: Ubuntu 22.04.4 LTS
* using session charset: UTF-8
* checking for file ‘ERSSA/DESCRIPTION’ ... OK
* checking extension type ... Package
* this is package ‘ERSSA’ version ‘1.23.0’
* package encoding: UTF-8
* checking package namespace information ... OK
* checking package dependencies ... OK
* checking if this is a source package ... OK
* checking if there is a namespace ... OK
* checking for hidden files and directories ... OK
* checking for portable file names ... OK
* checking for sufficient/correct file permissions ... OK
* checking whether package ‘ERSSA’ can be installed ... OK
* checking installed package size ... OK
* checking package directory ... OK
* checking ‘build’ directory ... OK
* checking DESCRIPTION meta-information ... OK
* checking top-level files ... OK
* checking for left-over files ... OK
* checking index information ... OK
* checking package subdirectories ... OK
* checking code files for non-ASCII characters ... OK
* checking R files for syntax errors ... OK
* checking whether the package can be loaded ... OK
* checking whether the package can be loaded with stated dependencies ... OK
* checking whether the package can be unloaded cleanly ... OK
* checking whether the namespace can be loaded with stated dependencies ... OK
* checking whether the namespace can be unloaded cleanly ... OK
* checking loading without being on the library search path ... OK
* checking dependencies in R code ... NOTE
Namespace in Imports field not imported from: ‘apeglm’
  All declared Imports should be used.
* checking S3 generic/method consistency ... OK
* checking replacement functions ... OK
* checking foreign function calls ... OK
* checking R code for possible problems ... OK
* checking Rd files ... NOTE
checkRd: (-1) erssa.Rd:87: Lost braces in \itemize; \value handles \item{}{} directly
checkRd: (-1) erssa.Rd:88: Lost braces in \itemize; \value handles \item{}{} directly
checkRd: (-1) erssa.Rd:89: Lost braces in \itemize; \value handles \item{}{} directly
checkRd: (-1) erssa.Rd:90-91: Lost braces in \itemize; \value handles \item{}{} directly
checkRd: (-1) erssa.Rd:92-94: Lost braces in \itemize; \value handles \item{}{} directly
checkRd: (-1) erssa.Rd:95-97: Lost braces in \itemize; \value handles \item{}{} directly
checkRd: (-1) erssa.Rd:98-100: Lost braces in \itemize; \value handles \item{}{} directly
checkRd: (-1) ggplot2_TPR_FPRPlot.Rd:32-33: Lost braces in \itemize; \value handles \item{}{} directly
checkRd: (-1) ggplot2_TPR_FPRPlot.Rd:34: Lost braces in \itemize; \value handles \item{}{} directly
checkRd: (-1) ggplot2_TPR_FPRPlot.Rd:35-37: Lost braces in \itemize; \value handles \item{}{} directly
checkRd: (-1) ggplot2_dotplot.Rd:20-21: Lost braces in \itemize; \value handles \item{}{} directly
checkRd: (-1) ggplot2_dotplot.Rd:22: Lost braces in \itemize; \value handles \item{}{} directly
checkRd: (-1) ggplot2_dotplot.Rd:23: Lost braces in \itemize; \value handles \item{}{} directly
checkRd: (-1) ggplot2_intersectPlot.Rd:20-21: Lost braces in \itemize; \value handles \item{}{} directly
checkRd: (-1) ggplot2_intersectPlot.Rd:22: Lost braces in \itemize; \value handles \item{}{} directly
checkRd: (-1) ggplot2_intersectPlot.Rd:23-24: Lost braces in \itemize; \value handles \item{}{} directly
checkRd: (-1) ggplot2_intersectPlot.Rd:25-26: Lost braces in \itemize; \value handles \item{}{} directly
checkRd: (-1) ggplot2_intersectPlot.Rd:27: Lost braces in \itemize; \value handles \item{}{} directly
checkRd: (-1) ggplot2_marginPlot.Rd:23-24: Lost braces in \itemize; \value handles \item{}{} directly
checkRd: (-1) ggplot2_marginPlot.Rd:25-26: Lost braces in \itemize; \value handles \item{}{} directly
* checking Rd metadata ... OK
* checking Rd cross-references ... OK
* checking for missing documentation entries ... OK
* checking for code/documentation mismatches ... OK
* checking Rd \usage sections ... OK
* checking Rd contents ... OK
* checking for unstated dependencies in examples ... OK
* checking contents of ‘data’ directory ... OK
* checking data for non-ASCII characters ... OK
* checking LazyData ... OK
* checking data for ASCII and uncompressed saves ... OK
* checking files in ‘vignettes’ ... OK
* checking examples ... OK
Examples with CPU (user + system) or elapsed time > 5s
                        user system elapsed
erssa_deseq2_parallel 30.303  0.360  30.663
erssa_deseq2          29.459  0.288  29.748
erssa                  9.079  0.176   9.221
* checking for unstated dependencies in vignettes ... OK
* checking package vignettes ... OK
* checking re-building of vignette outputs ... OK
* checking PDF version of manual ... OK
* DONE

Status: 2 NOTEs
See
  ‘/home/biocbuild/bbs-3.20-bioc/meat/ERSSA.Rcheck/00check.log’
for details.


Installation output

ERSSA.Rcheck/00install.out

##############################################################################
##############################################################################
###
### Running command:
###
###   /home/biocbuild/bbs-3.20-bioc/R/bin/R CMD INSTALL ERSSA
###
##############################################################################
##############################################################################


* installing to library ‘/home/biocbuild/bbs-3.20-bioc/R/site-library’
* installing *source* package ‘ERSSA’ ...
** using staged installation
** R
** data
*** moving datasets to lazyload DB
** inst
** byte-compile and prepare package for lazy loading
** help
*** installing help indices
** building package indices
** installing vignettes
** testing if installed package can be loaded from temporary location
** testing if installed package can be loaded from final location
** testing if installed package keeps a record of temporary installation path
* DONE (ERSSA)

Tests output


Example timings

ERSSA.Rcheck/ERSSA-Ex.timings

nameusersystemelapsed
comb_gen0.0070.0000.007
count_filter0.0030.0000.003
erssa9.0790.1769.221
erssa_deseq229.459 0.28829.748
erssa_deseq2_parallel30.303 0.36030.663
erssa_edger1.6850.0361.722
erssa_edger_parallel4.7670.0684.835
ggplot2_TPR_FPRPlot0.3660.0000.366
ggplot2_dotplot0.4080.0000.407
ggplot2_intersectPlot0.4130.0000.413
ggplot2_marginPlot0.3130.0000.313