Back to Multiple platform build/check report for BioC 3.20:   simplified   long
ABCD[E]FGHIJKLMNOPQRSTUVWXYZ

This page was generated on 2024-06-21 13:21 -0400 (Fri, 21 Jun 2024).

HostnameOSArch (*)R versionInstalled pkgs
nebbiolo2Linux (Ubuntu 22.04.3 LTS)x86_644.4.0 RC (2024-04-16 r86468) -- "Puppy Cup" 4690
lconwaymacOS 12.7.1 Montereyx86_644.4.1 RC (2024-06-06 r86719) -- "Race for Your Life" 4404
kjohnson3macOS 13.6.5 Venturaarm644.4.1 RC (2024-06-06 r86719) -- "Race for Your Life" 4353
Click on any hostname to see more info about the system (e.g. compilers)      (*) as reported by 'uname -p', except on Windows and Mac OS X

Package 627/2242HostnameOS / ArchINSTALLBUILDCHECKBUILD BIN
EMDomics 2.35.0  (landing page)
Sadhika Malladi and Daniel Schmolze
Snapshot Date: 2024-06-20 14:00 -0400 (Thu, 20 Jun 2024)
git_url: https://git.bioconductor.org/packages/EMDomics
git_branch: devel
git_last_commit: 84cabcc
git_last_commit_date: 2024-04-30 10:43:50 -0400 (Tue, 30 Apr 2024)
nebbiolo2Linux (Ubuntu 22.04.3 LTS) / x86_64  OK    OK    OK  UNNEEDED, same version is already published
lconwaymacOS 12.7.1 Monterey / x86_64  OK    OK    OK    OK  UNNEEDED, same version is already published
kjohnson3macOS 13.6.5 Ventura / arm64  OK    OK    OK    OK  UNNEEDED, same version is already published


BUILD results for EMDomics on nebbiolo2

To the developers/maintainers of the EMDomics package:
- Allow up to 24 hours (and sometimes 48 hours) for your latest push to git@git.bioconductor.org:packages/EMDomics.git to reflect on this report. See Troubleshooting Build Report for more information.
- Use the following Renviron settings to reproduce errors and warnings.
- If 'R CMD check' started to fail recently on the Linux builder(s) over a missing dependency, add the missing dependency to 'Suggests:' in your DESCRIPTION file. See Renviron.bioc for more information.

raw results


Summary

Package: EMDomics
Version: 2.35.0
Command: /home/biocbuild/bbs-3.20-bioc/R/bin/R CMD build --keep-empty-dirs --no-resave-data --md5 EMDomics
StartedAt: 2024-06-20 17:17:46 -0400 (Thu, 20 Jun 2024)
EndedAt: 2024-06-20 17:17:59 -0400 (Thu, 20 Jun 2024)
EllapsedTime: 13.0 seconds
RetCode: 0
Status:   OK  
PackageFile: EMDomics_2.35.0.tar.gz
PackageFileSize: 258.7 KiB

Command output

##############################################################################
##############################################################################
###
### Running command:
###
###   /home/biocbuild/bbs-3.20-bioc/R/bin/R CMD build --keep-empty-dirs --no-resave-data --md5 EMDomics
###
##############################################################################
##############################################################################


* checking for file ‘EMDomics/DESCRIPTION’ ... OK
* preparing ‘EMDomics’:
* checking DESCRIPTION meta-information ... OK
* installing the package to build vignettes
* creating vignettes ... OK
* checking for LF line-endings in source and make files and shell scripts
* checking for empty or unneeded directories
Omitted ‘LazyData’ from DESCRIPTION
* adding MD5 file
* building ‘EMDomics_2.35.0.tar.gz’