Back to Multiple platform build/check report for BioC 3.14
ABCD[E]FGHIJKLMNOPQRSTUVWXYZ

This page was generated on 2021-06-24 12:04:49 -0400 (Thu, 24 Jun 2021).

All results for package EBcoexpress

To the developers/maintainers of the EBcoexpress package:
- Please allow up to 24 hours (and sometimes 48 hours) for your latest push to git@git.bioconductor.org:packages/EBcoexpress.git to
reflect on this report. See How and When does the builder pull? When will my changes propagate? here for more information.
- Make sure to use the following settings in order to reproduce any error or warning you see on this page.

raw results

Package 532/1993HostnameOS / ArchINSTALLBUILDCHECKBUILD BIN
EBcoexpress 1.37.0  (landing page)
John A. Dawson
Snapshot Date: 2021-06-23 14:50:10 -0400 (Wed, 23 Jun 2021)
URL: https://git.bioconductor.org/packages/EBcoexpress
Branch: master
Last Commit: 2497730
Last Changed Date: 2021-05-19 11:52:14 -0400 (Wed, 19 May 2021)
nebbiolo2Linux (Ubuntu 20.04.2 LTS) / x86_64  OK    OK    WARNINGS  UNNEEDED, same version is already published
riesling1Windows Server 2019 Standard / x64  OK    OK    WARNINGS    OK  UNNEEDED, same version is already published
merida1macOS 10.14.6 Mojave / x86_64  OK    OK    OK    OK  UNNEEDED, same version is already published

Results for Bioconductor software packages that depend directly on package EBcoexpress

QUICK STATSOS / ArchINSTALLBUILDCHECKBUILD BIN
nebbiolo2Linux (Ubuntu 20.04.2 LTS) / x86_64
010
010
0000
riesling1Windows Server 2019 Standard / x64
010
010
0000
000
merida1macOS 10.14.6 Mojave / x86_64
010
010
0000
000
Package 1/1HostnameOS / ArchINSTALLBUILDCHECKBUILD BIN
SRGnet 1.19.1  (landing page)
Isar Nassiri
Last Commit: 7df3262
Last Changed Date: 2021-06-21 10:53:19 -0400
nebbiolo2Linux (Ubuntu 20.04.2 LTS) / x86_64  ERROR    ERROR  skipped
riesling1Windows Server 2019 Standard / x64  ERROR    ERROR  skippedskipped
merida1macOS 10.14.6 Mojave / x86_64  ERROR    ERROR  skippedskipped