Back to Multiple platform build/check report for BioC 3.20:   simplified   long
ABC[D]EFGHIJKLMNOPQRSTUVWXYZ

This page was generated on 2024-06-07 20:28 -0400 (Fri, 07 Jun 2024).

HostnameOSArch (*)R versionInstalled pkgs
nebbiolo2Linux (Ubuntu 22.04.3 LTS)x86_644.4.0 RC (2024-04-16 r86468) -- "Puppy Cup" 4672
palomino4Windows Server 2022 Datacenterx644.4.0 RC (2024-04-16 r86468 ucrt) -- "Puppy Cup" 4407
merida1macOS 12.7.4 Montereyx86_644.4.0 Patched (2024-04-24 r86482) -- "Puppy Cup" 4434
kjohnson1macOS 13.6.6 Venturaarm644.4.0 Patched (2024-04-24 r86482) -- "Puppy Cup" 4387
Click on any hostname to see more info about the system (e.g. compilers)      (*) as reported by 'uname -p', except on Windows and Mac OS X

Package 555/2233HostnameOS / ArchINSTALLBUILDCHECKBUILD BIN
DifferentialRegulation 2.3.0  (landing page)
Simone Tiberi
Snapshot Date: 2024-06-05 14:00:27 -0400 (Wed, 05 Jun 2024)
git_url: https://git.bioconductor.org/packages/DifferentialRegulation
git_branch: devel
git_last_commit: fb49478
git_last_commit_date: 2024-04-30 11:42:30 -0400 (Tue, 30 Apr 2024)
nebbiolo2Linux (Ubuntu 22.04.3 LTS) / x86_64  OK    OK    OK  UNNEEDED, same version is already published
palomino4Windows Server 2022 Datacenter / x64  OK    OK    OK    OK  UNNEEDED, same version is already published
merida1macOS 12.7.4 Monterey / x86_64  OK    OK    OK    OK  UNNEEDED, same version is already published
kjohnson1macOS 13.6.6 Ventura / arm64  OK    OK    OK    OK  UNNEEDED, same version is already published


CHECK results for DifferentialRegulation on merida1

To the developers/maintainers of the DifferentialRegulation package:
- Allow up to 24 hours (and sometimes 48 hours) for your latest push to git@git.bioconductor.org:packages/DifferentialRegulation.git to reflect on this report. See Troubleshooting Build Report for more information.
- Use the following Renviron settings to reproduce errors and warnings.
- If 'R CMD check' started to fail recently on the Linux builder(s) over a missing dependency, add the missing dependency to 'Suggests:' in your DESCRIPTION file. See Renviron.bioc for more information.

raw results


Summary

Package: DifferentialRegulation
Version: 2.3.0
Command: /Library/Frameworks/R.framework/Resources/bin/R CMD check --install=check:DifferentialRegulation.install-out.txt --library=/Library/Frameworks/R.framework/Resources/library --no-vignettes --timings DifferentialRegulation_2.3.0.tar.gz
StartedAt: 2024-06-06 02:34:15 -0400 (Thu, 06 Jun 2024)
EndedAt: 2024-06-06 02:46:46 -0400 (Thu, 06 Jun 2024)
EllapsedTime: 751.6 seconds
RetCode: 0
Status:   OK  
CheckDir: DifferentialRegulation.Rcheck
Warnings: 0

Command output

##############################################################################
##############################################################################
###
### Running command:
###
###   /Library/Frameworks/R.framework/Resources/bin/R CMD check --install=check:DifferentialRegulation.install-out.txt --library=/Library/Frameworks/R.framework/Resources/library --no-vignettes --timings DifferentialRegulation_2.3.0.tar.gz
###
##############################################################################
##############################################################################


* using log directory ‘/Users/biocbuild/bbs-3.20-bioc/meat/DifferentialRegulation.Rcheck’
* using R version 4.4.0 Patched (2024-04-24 r86482)
* using platform: x86_64-apple-darwin20
* R was compiled by
    Apple clang version 14.0.0 (clang-1400.0.29.202)
    GNU Fortran (GCC) 12.2.0
* running under: macOS Monterey 12.7.4
* using session charset: UTF-8
* using option ‘--no-vignettes’
* checking for file ‘DifferentialRegulation/DESCRIPTION’ ... OK
* checking extension type ... Package
* this is package ‘DifferentialRegulation’ version ‘2.3.0’
* package encoding: UTF-8
* checking package namespace information ... OK
* checking package dependencies ... OK
* checking if this is a source package ... OK
* checking if there is a namespace ... OK
* checking for hidden files and directories ... OK
* checking for portable file names ... OK
* checking for sufficient/correct file permissions ... OK
* checking whether package ‘DifferentialRegulation’ can be installed ... OK
* used C++ compiler: ‘Apple clang version 14.0.0 (clang-1400.0.29.202)’
* used SDK: ‘MacOSX11.3.sdk’
* checking C++ specification ... OK
  Not all R platforms support C++17
* checking installed package size ... OK
* checking package directory ... OK
* checking ‘build’ directory ... OK
* checking DESCRIPTION meta-information ... OK
* checking top-level files ... OK
* checking for left-over files ... OK
* checking index information ... OK
* checking package subdirectories ... OK
* checking code files for non-ASCII characters ... OK
* checking R files for syntax errors ... OK
* checking whether the package can be loaded ... OK
* checking whether the package can be loaded with stated dependencies ... OK
* checking whether the package can be unloaded cleanly ... OK
* checking whether the namespace can be loaded with stated dependencies ... OK
* checking whether the namespace can be unloaded cleanly ... OK
* checking dependencies in R code ... OK
* checking S3 generic/method consistency ... OK
* checking replacement functions ... OK
* checking foreign function calls ... OK
* checking R code for possible problems ... NOTE
MCMC_ECs: no visible binding for global variable ‘cl’
Undefined global functions or variables:
  cl
* checking Rd files ... NOTE
checkRd: (-1) DifferentialRegulation.Rd:159: Lost braces
   159 | \code{\link{load_EC}}, \code{\link{load_USA}}, code{\link{compute_PB_counts}}, \code{\link{plot_pi}}, \code{\link{plot_traceplot}}
       |                                                    ^
* checking Rd metadata ... OK
* checking Rd cross-references ... OK
* checking for missing documentation entries ... OK
* checking for code/documentation mismatches ... OK
* checking Rd \usage sections ... OK
* checking Rd contents ... OK
* checking for unstated dependencies in examples ... OK
* checking line endings in C/C++/Fortran sources/headers ... OK
* checking line endings in Makefiles ... OK
* checking compilation flags in Makevars ... OK
* checking for GNU extensions in Makefiles ... OK
* checking for portable use of $(BLAS_LIBS) and $(LAPACK_LIBS) ... OK
* checking use of PKG_*FLAGS in Makefiles ... OK
* checking compiled code ... NOTE
Note: information on .o files is not available
* checking files in ‘vignettes’ ... OK
* checking examples ... OK
Examples with CPU (user + system) or elapsed time > 5s
                               user system elapsed
DifferentialRegulation_bulk 173.941 33.364 206.284
DifferentialRegulation       10.499  0.486  40.380
compute_PB_counts             5.726  0.105   6.652
load_bulk_EC                  0.280  0.113  28.105
* checking for unstated dependencies in ‘tests’ ... OK
* checking tests ...
  Running ‘testhat.R’
 OK
* checking for unstated dependencies in vignettes ... OK
* checking package vignettes ... OK
* checking running R code from vignettes ... SKIPPED
* checking re-building of vignette outputs ... SKIPPED
* checking PDF version of manual ... OK
* DONE

Status: 3 NOTEs
See
  ‘/Users/biocbuild/bbs-3.20-bioc/meat/DifferentialRegulation.Rcheck/00check.log’
for details.


Installation output

DifferentialRegulation.Rcheck/00install.out

##############################################################################
##############################################################################
###
### Running command:
###
###   /Library/Frameworks/R.framework/Resources/bin/R CMD INSTALL DifferentialRegulation
###
##############################################################################
##############################################################################


* installing to library ‘/Library/Frameworks/R.framework/Versions/4.4-x86_64/Resources/library’
* installing *source* package ‘DifferentialRegulation’ ...
** using staged installation
** libs
using C++ compiler: ‘Apple clang version 14.0.0 (clang-1400.0.29.202)’
using C++17
using SDK: ‘MacOSX11.3.sdk’
clang++ -arch x86_64 -std=gnu++17 -I"/Library/Frameworks/R.framework/Resources/include" -DNDEBUG  -I'/Library/Frameworks/R.framework/Versions/4.4-x86_64/Resources/library/Rcpp/include' -I'/Library/Frameworks/R.framework/Versions/4.4-x86_64/Resources/library/RcppArmadillo/include' -I/opt/R/x86_64/include    -fPIC  -falign-functions=64 -Wall -g -O2   -c RcppExports.cpp -o RcppExports.o
clang++ -arch x86_64 -std=gnu++17 -I"/Library/Frameworks/R.framework/Resources/include" -DNDEBUG  -I'/Library/Frameworks/R.framework/Versions/4.4-x86_64/Resources/library/Rcpp/include' -I'/Library/Frameworks/R.framework/Versions/4.4-x86_64/Resources/library/RcppArmadillo/include' -I/opt/R/x86_64/include    -fPIC  -falign-functions=64 -Wall -g -O2   -c Rcpp_MCMC.cpp -o Rcpp_MCMC.o
Rcpp_MCMC.cpp:135:24: warning: unused variable 'tmp_3' [-Wunused-variable]
  double tmp_1, tmp_2, tmp_3;
                       ^
Rcpp_MCMC.cpp:135:17: warning: unused variable 'tmp_2' [-Wunused-variable]
  double tmp_1, tmp_2, tmp_3;
                ^
Rcpp_MCMC.cpp:135:10: warning: unused variable 'tmp_1' [-Wunused-variable]
  double tmp_1, tmp_2, tmp_3;
         ^
3 warnings generated.
clang++ -arch x86_64 -std=gnu++17 -I"/Library/Frameworks/R.framework/Resources/include" -DNDEBUG  -I'/Library/Frameworks/R.framework/Versions/4.4-x86_64/Resources/library/Rcpp/include' -I'/Library/Frameworks/R.framework/Versions/4.4-x86_64/Resources/library/RcppArmadillo/include' -I/opt/R/x86_64/include    -fPIC  -falign-functions=64 -Wall -g -O2   -c Rcpp_MCMC_EC_US.cpp -o Rcpp_MCMC_EC_US.o
Rcpp_MCMC_EC_US.cpp:130:10: warning: unused variable 'tmp_1' [-Wunused-variable]
  double tmp_1, tmp_2, tmp;
         ^
Rcpp_MCMC_EC_US.cpp:130:17: warning: unused variable 'tmp_2' [-Wunused-variable]
  double tmp_1, tmp_2, tmp;
                ^
2 warnings generated.
clang++ -arch x86_64 -std=gnu++17 -dynamiclib -Wl,-headerpad_max_install_names -undefined dynamic_lookup -L/Library/Frameworks/R.framework/Resources/lib -L/opt/R/x86_64/lib -o DifferentialRegulation.so RcppExports.o Rcpp_MCMC.o Rcpp_MCMC_EC_US.o -L/Library/Frameworks/R.framework/Resources/lib -lRlapack -L/Library/Frameworks/R.framework/Resources/lib -lRblas -L/opt/gfortran/lib/gcc/x86_64-apple-darwin20.0/12.2.0 -L/opt/gfortran/lib -lgfortran -lquadmath -F/Library/Frameworks/R.framework/.. -framework R -Wl,-framework -Wl,CoreFoundation
installing to /Library/Frameworks/R.framework/Versions/4.4-x86_64/Resources/library/00LOCK-DifferentialRegulation/00new/DifferentialRegulation/libs
** R
** inst
** byte-compile and prepare package for lazy loading
** help
*** installing help indices
** building package indices
** installing vignettes
** testing if installed package can be loaded from temporary location
** checking absolute paths in shared objects and dynamic libraries
** testing if installed package can be loaded from final location
** testing if installed package keeps a record of temporary installation path
* DONE (DifferentialRegulation)

Tests output

DifferentialRegulation.Rcheck/tests/testhat.Rout


R version 4.4.0 Patched (2024-04-24 r86482) -- "Puppy Cup"
Copyright (C) 2024 The R Foundation for Statistical Computing
Platform: x86_64-apple-darwin20

R is free software and comes with ABSOLUTELY NO WARRANTY.
You are welcome to redistribute it under certain conditions.
Type 'license()' or 'licence()' for distribution details.

R is a collaborative project with many contributors.
Type 'contributors()' for more information and
'citation()' on how to cite R or R packages in publications.

Type 'demo()' for some demos, 'help()' for on-line help, or
'help.start()' for an HTML browser interface to help.
Type 'q()' to quit R.

> library(testthat)
> library(DifferentialRegulation)
> test_check("DifferentialRegulation")
[ FAIL 0 | WARN 0 | SKIP 0 | PASS 8 ]
Warning messages:
1: In for (i in seq_len(n)) { :
  closing unused connection 5 (<-localhost:11570)
2: In for (i in seq_len(n)) { :
  closing unused connection 4 (<-localhost:11570)
> 
> proc.time()
   user  system elapsed 
 24.596   1.513  54.433 

Example timings

DifferentialRegulation.Rcheck/DifferentialRegulation-Ex.timings

nameusersystemelapsed
DifferentialRegulation10.499 0.48640.380
DifferentialRegulation_bulk173.941 33.364206.284
compute_PB_counts5.7260.1056.652
load_EC2.9090.0813.323
load_USA0.4320.0100.488
load_bulk_EC 0.280 0.11328.105
load_bulk_US0.6670.0870.740
plot_bulk_pi0.2090.0930.401
plot_bulk_traceplot0.1830.0550.275
plot_pi0.1750.0560.256
plot_traceplot0.1720.0520.239