Index of /checkResults/devel/bioc-LATEST/DiffBind/raw-results/nebbiolo2

[ICO]NameLast modifiedSizeDescription

[DIR]Parent Directory  -  
[TXT]buildsrc-out.txt16-Jul-2024 00:38 927  
[   ]buildsrc-summary.dcf16-Jul-2024 00:38 427  
[TXT]checksrc-out.txt16-Jul-2024 00:38 17K 
[   ]checksrc-summary.dcf16-Jul-2024 00:38 418  
[TXT]install-out.txt16-Jul-2024 00:38 7.8K 
[   ]install-summary.dcf16-Jul-2024 00:38 261