Index of /checkResults/devel/bioc-LATEST/DiffBind/raw-results/lconway

[ICO]NameLast modifiedSizeDescription

[DIR]Parent Directory  -  
[TXT]buildbin-out.txt14-Jul-2024 00:41 13K 
[   ]buildbin-summary.dcf14-Jul-2024 00:41 537  
[TXT]buildsrc-out.txt14-Jul-2024 00:41 913  
[   ]buildsrc-summary.dcf14-Jul-2024 00:41 431  
[TXT]checksrc-out.txt14-Jul-2024 00:41 17K 
[   ]checksrc-summary.dcf14-Jul-2024 00:41 448  
[TXT]install-out.txt14-Jul-2024 00:41 10K 
[   ]install-summary.dcf14-Jul-2024 00:41 272