Index of /checkResults/devel/bioc-LATEST/DiffBind/raw-results/kjohnson3

[ICO]NameLast modifiedSizeDescription

[DIR]Parent Directory  -  
[TXT]buildbin-out.txt09-Jul-2024 00:43 13K 
[   ]buildbin-summary.dcf09-Jul-2024 00:43 536  
[TXT]buildsrc-out.txt09-Jul-2024 00:43 913  
[   ]buildsrc-summary.dcf09-Jul-2024 00:43 431  
[TXT]checksrc-out.txt09-Jul-2024 00:43 17K 
[   ]checksrc-summary.dcf09-Jul-2024 00:43 448  
[TXT]install-out.txt09-Jul-2024 00:43 10K 
[   ]install-summary.dcf09-Jul-2024 00:43 271