Back to Multiple platform build/check report for BioC 3.20:   simplified   long
ABC[D]EFGHIJKLMNOPQRSTUVWXYZ

This page was generated on 2024-05-22 11:35:03 -0400 (Wed, 22 May 2024).

HostnameOSArch (*)R versionInstalled pkgs
nebbiolo2Linux (Ubuntu 22.04.3 LTS)x86_644.4.0 RC (2024-04-16 r86468) -- "Puppy Cup" 4665
palomino4Windows Server 2022 Datacenterx644.4.0 RC (2024-04-16 r86468 ucrt) -- "Puppy Cup" 4400
merida1macOS 12.7.4 Montereyx86_644.4.0 Patched (2024-04-24 r86482) -- "Puppy Cup" 4427
Click on any hostname to see more info about the system (e.g. compilers)      (*) as reported by 'uname -p', except on Windows and Mac OS X

All results for package DelayedArray


To the developers/maintainers of the DelayedArray package:
- Allow up to 24 hours (and sometimes 48 hours) for your latest push to git@git.bioconductor.org:packages/DelayedArray.git to reflect on this report. See Troubleshooting Build Report for more information.
- Use the following Renviron settings to reproduce errors and warnings.
- If 'R CMD check' started to fail recently on the Linux builder(s) over a missing dependency, add the missing dependency to 'Suggests:' in your DESCRIPTION file. See Renviron.bioc for more information.

raw results

Package 520/2233HostnameOS / ArchINSTALLBUILDCHECKBUILD BIN
DelayedArray 0.31.1  (landing page)
Hervé Pagès
Snapshot Date: 2024-05-20 14:05:07 -0400 (Mon, 20 May 2024)
git_url: https://git.bioconductor.org/packages/DelayedArray
git_branch: devel
git_last_commit: 539b783
git_last_commit_date: 2024-05-06 19:22:25 -0400 (Mon, 06 May 2024)
nebbiolo2Linux (Ubuntu 22.04.3 LTS) / x86_64  OK    OK    WARNINGS  UNNEEDED, same version is already published
palomino4Windows Server 2022 Datacenter / x64  OK    OK    WARNINGS    OK  UNNEEDED, same version is already published
merida1macOS 12.7.4 Monterey / x86_64  OK    OK    WARNINGS    OK  UNNEEDED, same version is already published
kjohnson1macOS 13.6.6 Ventura / arm64see weekly results here

Results for Bioconductor software packages that depend directly on package DelayedArray

QUICK STATSOS / ArchINSTALLBUILDCHECKBUILD BIN
nebbiolo2Linux (Ubuntu 22.04.3 LTS) / x86_64
0090
0387
031668
palomino4Windows Server 2022 Datacenter / x64
0090
0486
121469
0086
merida1macOS 12.7.4 Monterey / x86_64
0090
0288
621664
0088
Package 1/90HostnameOS / ArchINSTALLBUILDCHECKBUILD BIN
adverSCarial 1.3.0  (landing page)
Ghislain FIEVET
git_last_commit: df12473
git_last_commit_date: 2024-04-30 11:49:59 -0400
nebbiolo2Linux (Ubuntu 22.04.3 LTS) / x86_64  OK    OK    WARNINGS  UNNEEDED, same version is already published
palomino4Windows Server 2022 Datacenter / x64  OK    OK    WARNINGS    OK  UNNEEDED, same version is already published
merida1macOS 12.7.4 Monterey / x86_64  OK    OK    WARNINGS    OK  UNNEEDED, same version is already published
kjohnson1macOS 13.6.6 Ventura / arm64see weekly results here
Package 2/90HostnameOS / ArchINSTALLBUILDCHECKBUILD BIN
alabaster.matrix 1.5.0  (landing page)
Aaron Lun
git_last_commit: a42f07a
git_last_commit_date: 2024-04-30 11:47:22 -0400
nebbiolo2Linux (Ubuntu 22.04.3 LTS) / x86_64  OK    OK    ERROR  
palomino4Windows Server 2022 Datacenter / x64  OK    OK    ERROR    OK  
merida1macOS 12.7.4 Monterey / x86_64  OK    OK    ERROR    OK  
kjohnson1macOS 13.6.6 Ventura / arm64see weekly results here
Package 3/90HostnameOS / ArchINSTALLBUILDCHECKBUILD BIN
AUCell 1.27.0  (landing page)
Gert Hulselmans
git_last_commit: 36e631b
git_last_commit_date: 2024-04-30 11:00:40 -0400
nebbiolo2Linux (Ubuntu 22.04.3 LTS) / x86_64  OK    ERROR  skipped
palomino4Windows Server 2022 Datacenter / x64  OK    OK    OK    OK  UNNEEDED, same version is already published
merida1macOS 12.7.4 Monterey / x86_64  OK    OK    OK    OK  UNNEEDED, same version is already published
kjohnson1macOS 13.6.6 Ventura / arm64see weekly results here
Package 4/90HostnameOS / ArchINSTALLBUILDCHECKBUILD BIN
batchelor 1.21.0  (landing page)
Aaron Lun
git_last_commit: 8b03562
git_last_commit_date: 2024-04-30 11:13:32 -0400
nebbiolo2Linux (Ubuntu 22.04.3 LTS) / x86_64  OK    OK    OK  UNNEEDED, same version is already published
palomino4Windows Server 2022 Datacenter / x64  OK    OK    OK    OK  UNNEEDED, same version is already published
merida1macOS 12.7.4 Monterey / x86_64  OK    OK    OK    OK  UNNEEDED, same version is already published
kjohnson1macOS 13.6.6 Ventura / arm64see weekly results here
Package 5/90HostnameOS / ArchINSTALLBUILDCHECKBUILD BIN
beachmat 2.21.0  (landing page)
Aaron Lun
git_last_commit: 15a173a
git_last_commit_date: 2024-04-30 10:59:08 -0400
nebbiolo2Linux (Ubuntu 22.04.3 LTS) / x86_64  OK    OK    ERROR  
palomino4Windows Server 2022 Datacenter / x64  OK    OK    ERROR    OK  
merida1macOS 12.7.4 Monterey / x86_64  OK    OK    ERROR    OK  
kjohnson1macOS 13.6.6 Ventura / arm64see weekly results here
Package 6/90HostnameOS / ArchINSTALLBUILDCHECKBUILD BIN
beachmat.hdf5 1.3.0  (landing page)
Aaron Lun
git_last_commit: 26aa382
git_last_commit_date: 2024-04-30 11:50:56 -0400
nebbiolo2Linux (Ubuntu 22.04.3 LTS) / x86_64  OK    OK    WARNINGS  UNNEEDED, same version is already published
palomino4Windows Server 2022 Datacenter / x64  OK    OK    OK    OK  UNNEEDED, same version is already published
merida1macOS 12.7.4 Monterey / x86_64  OK    OK    WARNINGS    OK  UNNEEDED, same version is already published
kjohnson1macOS 13.6.6 Ventura / arm64see weekly results here
Package 7/90HostnameOS / ArchINSTALLBUILDCHECKBUILD BIN
BiocSingular 1.21.0  (landing page)
Aaron Lun
git_last_commit: 7985b20
git_last_commit_date: 2024-04-30 11:12:31 -0400
nebbiolo2Linux (Ubuntu 22.04.3 LTS) / x86_64  OK    OK    OK  UNNEEDED, same version is already published
palomino4Windows Server 2022 Datacenter / x64  OK    OK    OK    OK  UNNEEDED, same version is already published
merida1macOS 12.7.4 Monterey / x86_64  OK    OK    OK    OK  UNNEEDED, same version is already published
kjohnson1macOS 13.6.6 Ventura / arm64see weekly results here
Package 8/90HostnameOS / ArchINSTALLBUILDCHECKBUILD BIN
bsseq 1.41.0  (landing page)
Kasper Daniel Hansen
git_last_commit: ebf8701
git_last_commit_date: 2024-04-30 10:28:16 -0400
nebbiolo2Linux (Ubuntu 22.04.3 LTS) / x86_64  OK    OK    OK  UNNEEDED, same version is already published
palomino4Windows Server 2022 Datacenter / x64  OK    OK    OK    OK  UNNEEDED, same version is already published
merida1macOS 12.7.4 Monterey / x86_64  OK    OK    OK    OK  UNNEEDED, same version is already published
kjohnson1macOS 13.6.6 Ventura / arm64see weekly results here
Package 9/90HostnameOS / ArchINSTALLBUILDCHECKBUILD BIN
celaref 1.23.0  (landing page)
Sarah Williams
git_last_commit: c4533d6
git_last_commit_date: 2024-04-30 11:08:16 -0400
nebbiolo2Linux (Ubuntu 22.04.3 LTS) / x86_64  OK    OK    OK  UNNEEDED, same version is already published
palomino4Windows Server 2022 Datacenter / x64  OK    OK    OK    OK  UNNEEDED, same version is already published
merida1macOS 12.7.4 Monterey / x86_64  OK    OK    OK    OK  UNNEEDED, same version is already published
kjohnson1macOS 13.6.6 Ventura / arm64see weekly results here
Package 10/90HostnameOS / ArchINSTALLBUILDCHECKBUILD BIN
celda 1.21.0  (landing page)
Joshua Campbell
git_last_commit: 705c668
git_last_commit_date: 2024-04-30 11:14:54 -0400
nebbiolo2Linux (Ubuntu 22.04.3 LTS) / x86_64  OK    OK    OK  UNNEEDED, same version is already published
palomino4Windows Server 2022 Datacenter / x64  OK    OK    OK    OK  UNNEEDED, same version is already published
merida1macOS 12.7.4 Monterey / x86_64  OK    OK    OK    OK  UNNEEDED, same version is already published
kjohnson1macOS 13.6.6 Ventura / arm64see weekly results here
Package 11/90HostnameOS / ArchINSTALLBUILDCHECKBUILD BIN
Cepo 1.11.0  (landing page)
Hani Jieun Kim
git_last_commit: 4918ee6
git_last_commit_date: 2024-04-30 11:38:35 -0400
nebbiolo2Linux (Ubuntu 22.04.3 LTS) / x86_64  OK    ERROR  skipped
palomino4Windows Server 2022 Datacenter / x64  OK    ERROR  skippedskipped
merida1macOS 12.7.4 Monterey / x86_64  OK    ERROR  skippedskipped
kjohnson1macOS 13.6.6 Ventura / arm64see weekly results here
Package 12/90HostnameOS / ArchINSTALLBUILDCHECKBUILD BIN
chihaya 1.5.0  (landing page)
Aaron Lun
git_last_commit: 8c31ab5
git_last_commit_date: 2024-04-30 11:47:46 -0400
nebbiolo2Linux (Ubuntu 22.04.3 LTS) / x86_64  OK    OK    WARNINGS  UNNEEDED, same version is already published
palomino4Windows Server 2022 Datacenter / x64  OK    OK    OK    OK  UNNEEDED, same version is already published
merida1macOS 12.7.4 Monterey / x86_64  OK    OK    WARNINGS    OK  UNNEEDED, same version is already published
kjohnson1macOS 13.6.6 Ventura / arm64see weekly results here
Package 13/90HostnameOS / ArchINSTALLBUILDCHECKBUILD BIN
ChromSCape 1.15.0  (landing page)
Pacome Prompsy
git_last_commit: f4aa771
git_last_commit_date: 2024-04-30 11:27:46 -0400
nebbiolo2Linux (Ubuntu 22.04.3 LTS) / x86_64  OK    OK    WARNINGS  UNNEEDED, same version is already published
palomino4Windows Server 2022 Datacenter / x64  OK    OK    WARNINGS    OK  UNNEEDED, same version is already published
merida1macOS 12.7.4 Monterey / x86_64  OK    OK    WARNINGS    OK  UNNEEDED, same version is already published
kjohnson1macOS 13.6.6 Ventura / arm64see weekly results here
Package 14/90HostnameOS / ArchINSTALLBUILDCHECKBUILD BIN
clusterExperiment 2.25.0  (landing page)
Elizabeth Purdom
git_last_commit: b9692d8
git_last_commit_date: 2024-04-30 10:52:11 -0400
nebbiolo2Linux (Ubuntu 22.04.3 LTS) / x86_64  OK    OK    WARNINGS  UNNEEDED, same version is already published
palomino4Windows Server 2022 Datacenter / x64  OK    OK    WARNINGS    OK  UNNEEDED, same version is already published
merida1macOS 12.7.4 Monterey / x86_64  OK    OK    TIMEOUT    OK  
kjohnson1macOS 13.6.6 Ventura / arm64see weekly results here
Package 15/90HostnameOS / ArchINSTALLBUILDCHECKBUILD BIN
concordexR 1.5.0  (landing page)
Kayla Jackson
git_last_commit: 281397f
git_last_commit_date: 2024-04-30 11:48:52 -0400
nebbiolo2Linux (Ubuntu 22.04.3 LTS) / x86_64  OK    OK    OK  UNNEEDED, same version is already published
palomino4Windows Server 2022 Datacenter / x64  OK    OK    OK    OK  UNNEEDED, same version is already published
merida1macOS 12.7.4 Monterey / x86_64  OK    OK    OK    OK  UNNEEDED, same version is already published
kjohnson1macOS 13.6.6 Ventura / arm64see weekly results here
Package 16/90HostnameOS / ArchINSTALLBUILDCHECKBUILD BIN
CRISPRseek 1.45.0  (landing page)
Lihua Julie Zhu
git_last_commit: d63723f
git_last_commit_date: 2024-04-30 10:34:25 -0400
nebbiolo2Linux (Ubuntu 22.04.3 LTS) / x86_64  OK    OK    OK  UNNEEDED, same version is already published
palomino4Windows Server 2022 Datacenter / x64  OK    OK    TIMEOUT    OK  
merida1macOS 12.7.4 Monterey / x86_64  OK    OK    TIMEOUT    OK  
kjohnson1macOS 13.6.6 Ventura / arm64see weekly results here
Package 17/90HostnameOS / ArchINSTALLBUILDCHECKBUILD BIN
cytomapper 1.17.0  (landing page)
Lasse Meyer
git_last_commit: 1992640
git_last_commit_date: 2024-04-30 11:22:25 -0400
nebbiolo2Linux (Ubuntu 22.04.3 LTS) / x86_64  OK    OK    OK  UNNEEDED, same version is already published
palomino4Windows Server 2022 Datacenter / x64  OK    OK    OK    OK  UNNEEDED, same version is already published
merida1macOS 12.7.4 Monterey / x86_64  OK    OK    OK    OK  UNNEEDED, same version is already published
kjohnson1macOS 13.6.6 Ventura / arm64see weekly results here
Package 18/90HostnameOS / ArchINSTALLBUILDCHECKBUILD BIN
decontX 1.3.0  (landing page)
Yuan Yin
git_last_commit: 5d43c57
git_last_commit_date: 2024-04-30 11:52:45 -0400
nebbiolo2Linux (Ubuntu 22.04.3 LTS) / x86_64  OK    OK    OK  UNNEEDED, same version is already published
palomino4Windows Server 2022 Datacenter / x64  OK    OK    OK    OK  UNNEEDED, same version is already published
merida1macOS 12.7.4 Monterey / x86_64  OK    OK    OK    OK  UNNEEDED, same version is already published
kjohnson1macOS 13.6.6 Ventura / arm64see weekly results here
Package 19/90HostnameOS / ArchINSTALLBUILDCHECKBUILD BIN
DelayedDataFrame 1.21.0  (landing page)
Qian Liu
git_last_commit: 088256d
git_last_commit_date: 2024-04-30 11:11:34 -0400
nebbiolo2Linux (Ubuntu 22.04.3 LTS) / x86_64  OK    OK    OK  UNNEEDED, same version is already published
palomino4Windows Server 2022 Datacenter / x64  OK    OK    OK    OK  UNNEEDED, same version is already published
merida1macOS 12.7.4 Monterey / x86_64  OK    OK    OK    OK  UNNEEDED, same version is already published
kjohnson1macOS 13.6.6 Ventura / arm64see weekly results here
Package 20/90HostnameOS / ArchINSTALLBUILDCHECKBUILD BIN
DelayedMatrixStats 1.27.0  (landing page)
Peter Hickey
git_last_commit: cee2cf6
git_last_commit_date: 2024-04-30 11:01:46 -0400
nebbiolo2Linux (Ubuntu 22.04.3 LTS) / x86_64  OK    OK    OK  UNNEEDED, same version is already published
palomino4Windows Server 2022 Datacenter / x64  OK    OK    OK    OK  UNNEEDED, same version is already published
merida1macOS 12.7.4 Monterey / x86_64  OK    OK    OK    OK  UNNEEDED, same version is already published
kjohnson1macOS 13.6.6 Ventura / arm64see weekly results here
Package 21/90HostnameOS / ArchINSTALLBUILDCHECKBUILD BIN
DelayedRandomArray 1.13.0  (landing page)
Aaron Lun
git_last_commit: 3032daf
git_last_commit_date: 2024-04-30 11:33:38 -0400
nebbiolo2Linux (Ubuntu 22.04.3 LTS) / x86_64  OK    OK    OK  UNNEEDED, same version is already published
palomino4Windows Server 2022 Datacenter / x64  OK    OK    OK    OK  UNNEEDED, same version is already published
merida1macOS 12.7.4 Monterey / x86_64  OK    OK    OK    OK  UNNEEDED, same version is already published
kjohnson1macOS 13.6.6 Ventura / arm64see weekly results here
Package 22/90HostnameOS / ArchINSTALLBUILDCHECKBUILD BIN
DelayedTensor 1.11.0  (landing page)
Koki Tsuyuzaki
git_last_commit: 7fb64d7
git_last_commit_date: 2024-04-30 11:35:19 -0400
nebbiolo2Linux (Ubuntu 22.04.3 LTS) / x86_64  OK    OK    WARNINGS  UNNEEDED, same version is already published
palomino4Windows Server 2022 Datacenter / x64  OK    OK    WARNINGS    OK  UNNEEDED, same version is already published
merida1macOS 12.7.4 Monterey / x86_64  OK    OK    WARNINGS    OK  UNNEEDED, same version is already published
kjohnson1macOS 13.6.6 Ventura / arm64see weekly results here
Package 23/90HostnameOS / ArchINSTALLBUILDCHECKBUILD BIN
DEScan2 1.25.0  (landing page)
Dario Righelli
git_last_commit: 4184efe
git_last_commit_date: 2024-04-30 11:04:37 -0400
nebbiolo2Linux (Ubuntu 22.04.3 LTS) / x86_64  OK    OK    WARNINGS  UNNEEDED, same version is already published
palomino4Windows Server 2022 Datacenter / x64  OK    OK    WARNINGS    OK  UNNEEDED, same version is already published
merida1macOS 12.7.4 Monterey / x86_64  OK    OK    WARNINGS    OK  UNNEEDED, same version is already published
kjohnson1macOS 13.6.6 Ventura / arm64see weekly results here
Package 24/90HostnameOS / ArchINSTALLBUILDCHECKBUILD BIN
dreamlet 1.3.0  (landing page)
Gabriel Hoffman
git_last_commit: cf98b09
git_last_commit_date: 2024-04-30 11:51:18 -0400
nebbiolo2Linux (Ubuntu 22.04.3 LTS) / x86_64  OK    OK    OK  UNNEEDED, same version is already published
palomino4Windows Server 2022 Datacenter / x64  OK    OK    OK    OK  UNNEEDED, same version is already published
merida1macOS 12.7.4 Monterey / x86_64  OK    OK    OK    OK  UNNEEDED, same version is already published
kjohnson1macOS 13.6.6 Ventura / arm64see weekly results here
Package 25/90HostnameOS / ArchINSTALLBUILDCHECKBUILD BIN
DropletUtils 1.25.0  (landing page)
Jonathan Griffiths
git_last_commit: 09b8cf7
git_last_commit_date: 2024-04-30 11:03:17 -0400
nebbiolo2Linux (Ubuntu 22.04.3 LTS) / x86_64  OK    OK    WARNINGS  UNNEEDED, same version is already published
palomino4Windows Server 2022 Datacenter / x64  OK    OK    OK    OK  UNNEEDED, same version is already published
merida1macOS 12.7.4 Monterey / x86_64  OK    OK    WARNINGS    OK  UNNEEDED, same version is already published
kjohnson1macOS 13.6.6 Ventura / arm64see weekly results here
Package 26/90HostnameOS / ArchINSTALLBUILDCHECKBUILD BIN
ELMER 2.29.0  (landing page)
Tiago Chedraoui Silva
git_last_commit: 80d0841
git_last_commit_date: 2024-04-30 10:44:07 -0400
nebbiolo2Linux (Ubuntu 22.04.3 LTS) / x86_64  OK    OK    OK  UNNEEDED, same version is already published
palomino4Windows Server 2022 Datacenter / x64  OK    OK    OK    OK  UNNEEDED, same version is already published
merida1macOS 12.7.4 Monterey / x86_64  OK    OK    OK    OK  UNNEEDED, same version is already published
kjohnson1macOS 13.6.6 Ventura / arm64see weekly results here
Package 27/90HostnameOS / ArchINSTALLBUILDCHECKBUILD BIN
EWCE 1.13.0  (landing page)
Alan Murphy
git_last_commit: ce52346
git_last_commit_date: 2024-04-30 11:33:11 -0400
nebbiolo2Linux (Ubuntu 22.04.3 LTS) / x86_64  OK    OK    OK  UNNEEDED, same version is already published
palomino4Windows Server 2022 Datacenter / x64  OK    OK    OK    OK  UNNEEDED, same version is already published
merida1macOS 12.7.4 Monterey / x86_64  OK    OK    OK    OK  UNNEEDED, same version is already published
kjohnson1macOS 13.6.6 Ventura / arm64see weekly results here
Package 28/90HostnameOS / ArchINSTALLBUILDCHECKBUILD BIN
flowWorkspace 4.17.0  (landing page)
Greg Finak , Mike Jiang
git_last_commit: cdae1b1
git_last_commit_date: 2024-04-30 10:24:28 -0400
nebbiolo2Linux (Ubuntu 22.04.3 LTS) / x86_64  OK    OK    WARNINGS  UNNEEDED, same version is already published
palomino4Windows Server 2022 Datacenter / x64  OK    OK    WARNINGS    OK  UNNEEDED, same version is already published
merida1macOS 12.7.4 Monterey / x86_64  OK    OK    WARNINGS    OK  UNNEEDED, same version is already published
kjohnson1macOS 13.6.6 Ventura / arm64see weekly results here
Package 29/90HostnameOS / ArchINSTALLBUILDCHECKBUILD BIN
FRASER 2.1.0  (landing page)
Christian Mertes
git_last_commit: 14fe09e
git_last_commit_date: 2024-04-30 11:23:25 -0400
nebbiolo2Linux (Ubuntu 22.04.3 LTS) / x86_64  OK    OK    OK  UNNEEDED, same version is already published
palomino4Windows Server 2022 Datacenter / x64  OK    OK    OK    OK  UNNEEDED, same version is already published
merida1macOS 12.7.4 Monterey / x86_64  OK    OK    TIMEOUT    OK  
kjohnson1macOS 13.6.6 Ventura / arm64see weekly results here
Package 30/90HostnameOS / ArchINSTALLBUILDCHECKBUILD BIN
GDSArray 1.25.0  (landing page)
Qian Liu
git_last_commit: 1ff7fbe
git_last_commit_date: 2024-04-30 11:05:22 -0400
nebbiolo2Linux (Ubuntu 22.04.3 LTS) / x86_64  OK    OK    WARNINGS  UNNEEDED, same version is already published
palomino4Windows Server 2022 Datacenter / x64  OK    OK    WARNINGS    OK  UNNEEDED, same version is already published
merida1macOS 12.7.4 Monterey / x86_64  OK    OK    WARNINGS    OK  UNNEEDED, same version is already published
kjohnson1macOS 13.6.6 Ventura / arm64see weekly results here
Package 31/90HostnameOS / ArchINSTALLBUILDCHECKBUILD BIN
GenomicScores 2.17.0  (landing page)
Robert Castelo
git_last_commit: b2a17dd
git_last_commit_date: 2024-04-30 10:57:39 -0400
nebbiolo2Linux (Ubuntu 22.04.3 LTS) / x86_64  OK    OK    OK  UNNEEDED, same version is already published
palomino4Windows Server 2022 Datacenter / x64  OK    OK    OK    OK  UNNEEDED, same version is already published
merida1macOS 12.7.4 Monterey / x86_64  OK    OK    OK    OK  UNNEEDED, same version is already published
kjohnson1macOS 13.6.6 Ventura / arm64see weekly results here
Package 32/90HostnameOS / ArchINSTALLBUILDCHECKBUILD BIN
glmGamPoi 1.17.0  (landing page)
Constantin Ahlmann-Eltze
git_last_commit: d07de0f
git_last_commit_date: 2024-04-30 11:22:42 -0400
nebbiolo2Linux (Ubuntu 22.04.3 LTS) / x86_64  OK    OK    OK  UNNEEDED, same version is already published
palomino4Windows Server 2022 Datacenter / x64  OK    OK    OK    OK  UNNEEDED, same version is already published
merida1macOS 12.7.4 Monterey / x86_64  OK    OK    OK    OK  UNNEEDED, same version is already published
kjohnson1macOS 13.6.6 Ventura / arm64see weekly results here
Package 33/90HostnameOS / ArchINSTALLBUILDCHECKBUILD BIN
GSVA 1.53.2  (landing page)
Robert Castelo
git_last_commit: 845fe6e
git_last_commit_date: 2024-05-08 12:40:29 -0400
nebbiolo2Linux (Ubuntu 22.04.3 LTS) / x86_64  OK    OK    OK  UNNEEDED, same version is already published
palomino4Windows Server 2022 Datacenter / x64  OK    OK    OK    OK  UNNEEDED, same version is already published
merida1macOS 12.7.4 Monterey / x86_64  OK    OK    OK    OK  UNNEEDED, same version is already published
kjohnson1macOS 13.6.6 Ventura / arm64see weekly results here
Package 34/90HostnameOS / ArchINSTALLBUILDCHECKBUILD BIN
HDF5Array 1.33.0  (landing page)
Hervé Pagès
git_last_commit: decd6b8
git_last_commit_date: 2024-04-30 14:09:32 -0400
nebbiolo2Linux (Ubuntu 22.04.3 LTS) / x86_64  OK    OK    WARNINGS  UNNEEDED, same version is already published
palomino4Windows Server 2022 Datacenter / x64  OK    OK    WARNINGS    OK  UNNEEDED, same version is already published
merida1macOS 12.7.4 Monterey / x86_64  OK    OK    WARNINGS    OK  UNNEEDED, same version is already published
kjohnson1macOS 13.6.6 Ventura / arm64see weekly results here
Package 35/90HostnameOS / ArchINSTALLBUILDCHECKBUILD BIN
hipathia 3.5.0  (landing page)
Marta R. Hidalgo
git_last_commit: 8457cec
git_last_commit_date: 2024-04-30 11:05:56 -0400
nebbiolo2Linux (Ubuntu 22.04.3 LTS) / x86_64  OK    OK    OK  UNNEEDED, same version is already published
palomino4Windows Server 2022 Datacenter / x64  OK    OK    OK    OK  UNNEEDED, same version is already published
merida1macOS 12.7.4 Monterey / x86_64  OK    OK    OK    OK  UNNEEDED, same version is already published
kjohnson1macOS 13.6.6 Ventura / arm64see weekly results here
Package 36/90HostnameOS / ArchINSTALLBUILDCHECKBUILD BIN
LoomExperiment 1.23.0  (landing page)
Bioconductor Package Maintainer
git_last_commit: 9dc016d
git_last_commit_date: 2024-04-30 11:11:09 -0400
nebbiolo2Linux (Ubuntu 22.04.3 LTS) / x86_64  OK    OK    OK  UNNEEDED, same version is already published
palomino4Windows Server 2022 Datacenter / x64  OK    OK    OK    OK  UNNEEDED, same version is already published
merida1macOS 12.7.4 Monterey / x86_64  OK    OK    OK    OK  UNNEEDED, same version is already published
kjohnson1macOS 13.6.6 Ventura / arm64see weekly results here
Package 37/90HostnameOS / ArchINSTALLBUILDCHECKBUILD BIN
Macarron 1.9.0  (landing page)
Sagun Maharjan
git_last_commit: f9fdaa6
git_last_commit_date: 2024-04-30 11:42:21 -0400
nebbiolo2Linux (Ubuntu 22.04.3 LTS) / x86_64  OK    OK    ERROR  
palomino4Windows Server 2022 Datacenter / x64  OK    OK    WARNINGS    OK  UNNEEDED, same version is already published
merida1macOS 12.7.4 Monterey / x86_64  OK    OK    WARNINGS    OK  UNNEEDED, same version is already published
kjohnson1macOS 13.6.6 Ventura / arm64see weekly results here
Package 38/90HostnameOS / ArchINSTALLBUILDCHECKBUILD BIN
mariner 1.5.0  (landing page)
Eric Davis
git_last_commit: e8791c8
git_last_commit_date: 2024-04-30 11:49:21 -0400
nebbiolo2Linux (Ubuntu 22.04.3 LTS) / x86_64  OK    OK    OK  UNNEEDED, same version is already published
palomino4Windows Server 2022 Datacenter / x64  OK    OK    OK    OK  UNNEEDED, same version is already published
merida1macOS 12.7.4 Monterey / x86_64  OK    OK    OK    OK  UNNEEDED, same version is already published
kjohnson1macOS 13.6.6 Ventura / arm64see weekly results here
Package 39/90HostnameOS / ArchINSTALLBUILDCHECKBUILD BIN
mbkmeans 1.21.0  (landing page)
Davide Risso
git_last_commit: 8980ffa
git_last_commit_date: 2024-04-30 11:13:46 -0400
nebbiolo2Linux (Ubuntu 22.04.3 LTS) / x86_64  OK    OK    OK  UNNEEDED, same version is already published
palomino4Windows Server 2022 Datacenter / x64  OK    OK    OK    OK  UNNEEDED, same version is already published
merida1macOS 12.7.4 Monterey / x86_64  OK    OK    OK    OK  UNNEEDED, same version is already published
kjohnson1macOS 13.6.6 Ventura / arm64see weekly results here
Package 40/90HostnameOS / ArchINSTALLBUILDCHECKBUILD BIN
methodical 1.1.0  (landing page)
Richard Heery
git_last_commit: 3aab960
git_last_commit_date: 2024-04-30 11:53:36 -0400
nebbiolo2Linux (Ubuntu 22.04.3 LTS) / x86_64  OK    OK    OK  UNNEEDED, same version is already published
palomino4Windows Server 2022 Datacenter / x64  OK    ERROR  skippedskipped
merida1macOS 12.7.4 Monterey / x86_64  OK    OK    OK    OK  UNNEEDED, same version is already published
kjohnson1macOS 13.6.6 Ventura / arm64see weekly results here
Package 41/90HostnameOS / ArchINSTALLBUILDCHECKBUILD BIN
MethReg 1.15.0  (landing page)
Tiago Silva
git_last_commit: aeb2a7e
git_last_commit_date: 2024-04-30 11:27:17 -0400
nebbiolo2Linux (Ubuntu 22.04.3 LTS) / x86_64  OK    OK    OK  UNNEEDED, same version is already published
palomino4Windows Server 2022 Datacenter / x64  OK    OK    OK    OK  UNNEEDED, same version is already published
merida1macOS 12.7.4 Monterey / x86_64  OK    OK    OK    OK  UNNEEDED, same version is already published
kjohnson1macOS 13.6.6 Ventura / arm64see weekly results here
Package 42/90HostnameOS / ArchINSTALLBUILDCHECKBUILD BIN
methrix 1.19.0  (landing page)
Anand Mayakonda
git_last_commit: 34add75
git_last_commit_date: 2024-04-30 11:18:55 -0400
nebbiolo2Linux (Ubuntu 22.04.3 LTS) / x86_64  OK    OK    OK  UNNEEDED, same version is already published
palomino4Windows Server 2022 Datacenter / x64  OK    OK    OK    OK  UNNEEDED, same version is already published
merida1macOS 12.7.4 Monterey / x86_64  OK    OK    OK    OK  UNNEEDED, same version is already published
kjohnson1macOS 13.6.6 Ventura / arm64see weekly results here
Package 43/90HostnameOS / ArchINSTALLBUILDCHECKBUILD BIN
methylSig 1.17.0  (landing page)
Raymond G. Cavalcante
git_last_commit: 0003bd7
git_last_commit_date: 2024-04-30 11:23:23 -0400
nebbiolo2Linux (Ubuntu 22.04.3 LTS) / x86_64  OK    OK    OK  UNNEEDED, same version is already published
palomino4Windows Server 2022 Datacenter / x64  OK    OK    OK    OK  UNNEEDED, same version is already published
merida1macOS 12.7.4 Monterey / x86_64  OK    OK    OK    OK  UNNEEDED, same version is already published
kjohnson1macOS 13.6.6 Ventura / arm64see weekly results here
Package 44/90HostnameOS / ArchINSTALLBUILDCHECKBUILD BIN
mia 1.13.0  (landing page)
Tuomas Borman
git_last_commit: f257732
git_last_commit_date: 2024-04-30 11:32:24 -0400
nebbiolo2Linux (Ubuntu 22.04.3 LTS) / x86_64  OK    OK    OK  UNNEEDED, same version is already published
palomino4Windows Server 2022 Datacenter / x64  OK    OK    OK    OK  UNNEEDED, same version is already published
merida1macOS 12.7.4 Monterey / x86_64  OK    OK    TIMEOUT    OK  
kjohnson1macOS 13.6.6 Ventura / arm64see weekly results here
Package 45/90HostnameOS / ArchINSTALLBUILDCHECKBUILD BIN
miaViz 1.13.0  (landing page)
Tuomas Borman
git_last_commit: 47ad304
git_last_commit_date: 2024-04-30 11:32:37 -0400
nebbiolo2Linux (Ubuntu 22.04.3 LTS) / x86_64  OK    OK    OK  UNNEEDED, same version is already published
palomino4Windows Server 2022 Datacenter / x64  OK    OK    OK    OK  UNNEEDED, same version is already published
merida1macOS 12.7.4 Monterey / x86_64  OK    OK    OK    OK  UNNEEDED, same version is already published
kjohnson1macOS 13.6.6 Ventura / arm64see weekly results here
Package 46/90HostnameOS / ArchINSTALLBUILDCHECKBUILD BIN
minfi 1.51.0  (landing page)
Kasper Daniel Hansen
git_last_commit: eeda660
git_last_commit_date: 2024-04-30 10:25:56 -0400
nebbiolo2Linux (Ubuntu 22.04.3 LTS) / x86_64  OK    OK    OK  UNNEEDED, same version is already published
palomino4Windows Server 2022 Datacenter / x64  OK    OK    OK    OK  UNNEEDED, same version is already published
merida1macOS 12.7.4 Monterey / x86_64  OK    OK    OK    OK  UNNEEDED, same version is already published
kjohnson1macOS 13.6.6 Ventura / arm64see weekly results here
Package 47/90HostnameOS / ArchINSTALLBUILDCHECKBUILD BIN
MOFA2 1.15.0  (landing page)
Ricard Argelaguet
git_last_commit: 591d80c
git_last_commit_date: 2024-04-30 11:28:22 -0400
nebbiolo2Linux (Ubuntu 22.04.3 LTS) / x86_64  OK    OK    WARNINGS  UNNEEDED, same version is already published
palomino4Windows Server 2022 Datacenter / x64  OK    OK    WARNINGS    OK  UNNEEDED, same version is already published
merida1macOS 12.7.4 Monterey / x86_64  OK    OK    WARNINGS    OK  UNNEEDED, same version is already published
kjohnson1macOS 13.6.6 Ventura / arm64see weekly results here
Package 48/90HostnameOS / ArchINSTALLBUILDCHECKBUILD BIN
MuData 1.9.0  (landing page)
Danila Bredikhin
git_last_commit: 9ec354a
git_last_commit_date: 2024-04-30 11:40:33 -0400
nebbiolo2Linux (Ubuntu 22.04.3 LTS) / x86_64  OK    OK    OK  UNNEEDED, same version is already published
palomino4Windows Server 2022 Datacenter / x64  OK    OK    OK    OK  UNNEEDED, same version is already published
merida1macOS 12.7.4 Monterey / x86_64  OK    OK    OK    OK  UNNEEDED, same version is already published
kjohnson1macOS 13.6.6 Ventura / arm64see weekly results here
Package 49/90HostnameOS / ArchINSTALLBUILDCHECKBUILD BIN
MultiAssayExperiment 1.31.1  (landing page)
Marcel Ramos
git_last_commit: 768e96e
git_last_commit_date: 2024-05-01 17:48:26 -0400
nebbiolo2Linux (Ubuntu 22.04.3 LTS) / x86_64  OK    OK    OK  UNNEEDED, same version is already published
palomino4Windows Server 2022 Datacenter / x64  OK    OK    OK    OK  UNNEEDED, same version is already published
merida1macOS 12.7.4 Monterey / x86_64  OK    OK    OK    OK  UNNEEDED, same version is already published
kjohnson1macOS 13.6.6 Ventura / arm64see weekly results here
Package 50/90HostnameOS / ArchINSTALLBUILDCHECKBUILD BIN
mumosa 1.13.0  (landing page)
Aaron Lun
git_last_commit: f558a92
git_last_commit_date: 2024-04-30 11:30:09 -0400
nebbiolo2Linux (Ubuntu 22.04.3 LTS) / x86_64  OK    OK    OK  UNNEEDED, same version is already published
palomino4Windows Server 2022 Datacenter / x64  OK    OK    OK    OK  UNNEEDED, same version is already published
merida1macOS 12.7.4 Monterey / x86_64  OK    OK    OK    OK  UNNEEDED, same version is already published
kjohnson1macOS 13.6.6 Ventura / arm64see weekly results here
Package 51/90HostnameOS / ArchINSTALLBUILDCHECKBUILD BIN
NetActivity 1.7.0  (landing page)
Carlos Ruiz-Arenas
git_last_commit: a57b155
git_last_commit_date: 2024-04-30 11:45:52 -0400
nebbiolo2Linux (Ubuntu 22.04.3 LTS) / x86_64  OK    OK    OK  UNNEEDED, same version is already published
palomino4Windows Server 2022 Datacenter / x64  OK    OK    OK    OK  UNNEEDED, same version is already published
merida1macOS 12.7.4 Monterey / x86_64  OK    OK    OK    OK  UNNEEDED, same version is already published
kjohnson1macOS 13.6.6 Ventura / arm64see weekly results here
Package 52/90HostnameOS / ArchINSTALLBUILDCHECKBUILD BIN
netSmooth 1.25.0  (landing page)
Jonathan Ronen
git_last_commit: ee9993b
git_last_commit_date: 2024-04-30 11:06:35 -0400
nebbiolo2Linux (Ubuntu 22.04.3 LTS) / x86_64  OK    OK    OK  UNNEEDED, same version is already published
palomino4Windows Server 2022 Datacenter / x64  OK    OK    OK    OK  UNNEEDED, same version is already published
merida1macOS 12.7.4 Monterey / x86_64  OK    OK    OK    OK  NO, package depends on 'clusterExperiment' which is only available as a source package that needs compilation
kjohnson1macOS 13.6.6 Ventura / arm64see weekly results here
Package 53/90HostnameOS / ArchINSTALLBUILDCHECKBUILD BIN
NewWave 1.15.0  (landing page)
Federico Agostinis
git_last_commit: 04d6ef8
git_last_commit_date: 2024-04-30 11:29:21 -0400
nebbiolo2Linux (Ubuntu 22.04.3 LTS) / x86_64  OK    OK    OK  UNNEEDED, same version is already published
palomino4Windows Server 2022 Datacenter / x64  OK    OK    OK    OK  UNNEEDED, same version is already published
merida1macOS 12.7.4 Monterey / x86_64  OK    OK    OK    OK  UNNEEDED, same version is already published
kjohnson1macOS 13.6.6 Ventura / arm64see weekly results here
Package 54/90HostnameOS / ArchINSTALLBUILDCHECKBUILD BIN
orthogene 1.11.0  (landing page)
Brian Schilder
git_last_commit: 37712f2
git_last_commit_date: 2024-04-30 11:37:18 -0400
nebbiolo2Linux (Ubuntu 22.04.3 LTS) / x86_64  OK    OK    OK  UNNEEDED, same version is already published
palomino4Windows Server 2022 Datacenter / x64  OK    OK    OK    OK  UNNEEDED, same version is already published
merida1macOS 12.7.4 Monterey / x86_64  OK    OK    OK    OK  UNNEEDED, same version is already published
kjohnson1macOS 13.6.6 Ventura / arm64see weekly results here
Package 55/90HostnameOS / ArchINSTALLBUILDCHECKBUILD BIN
orthos 1.3.0  (landing page)
Panagiotis Papasaikas
git_last_commit: ef3a3ea
git_last_commit_date: 2024-04-30 11:50:32 -0400
nebbiolo2Linux (Ubuntu 22.04.3 LTS) / x86_64  OK    OK    OK  UNNEEDED, same version is already published
palomino4Windows Server 2022 Datacenter / x64  OK    OK    OK    OK  UNNEEDED, same version is already published
merida1macOS 12.7.4 Monterey / x86_64  OK    OK    OK    OK  UNNEEDED, same version is already published
kjohnson1macOS 13.6.6 Ventura / arm64see weekly results here
Package 56/90HostnameOS / ArchINSTALLBUILDCHECKBUILD BIN
PCAtools 2.17.0  (landing page)
Kevin Blighe
git_last_commit: f7b5819
git_last_commit_date: 2024-04-30 11:11:50 -0400
nebbiolo2Linux (Ubuntu 22.04.3 LTS) / x86_64  OK    ERROR  skipped
palomino4Windows Server 2022 Datacenter / x64  OK    OK    OK    OK  UNNEEDED, same version is already published
merida1macOS 12.7.4 Monterey / x86_64  OK    OK    OK    OK  UNNEEDED, same version is already published
kjohnson1macOS 13.6.6 Ventura / arm64see weekly results here
Package 57/90HostnameOS / ArchINSTALLBUILDCHECKBUILD BIN
ResidualMatrix 1.15.0  (landing page)
Aaron Lun
git_last_commit: 9ae2dfa
git_last_commit_date: 2024-04-30 11:26:56 -0400
nebbiolo2Linux (Ubuntu 22.04.3 LTS) / x86_64  OK    OK    OK  UNNEEDED, same version is already published
palomino4Windows Server 2022 Datacenter / x64  OK    OK    OK    OK  UNNEEDED, same version is already published
merida1macOS 12.7.4 Monterey / x86_64  OK    OK    OK    OK  UNNEEDED, same version is already published
kjohnson1macOS 13.6.6 Ventura / arm64see weekly results here
Package 58/90HostnameOS / ArchINSTALLBUILDCHECKBUILD BIN
rhdf5client 1.27.1  (landing page)
Vincent Carey
git_last_commit: 6e27c0c
git_last_commit_date: 2024-05-02 11:25:07 -0400
nebbiolo2Linux (Ubuntu 22.04.3 LTS) / x86_64  OK    OK    OK  UNNEEDED, same version is already published
palomino4Windows Server 2022 Datacenter / x64  OK    OK    OK    OK  UNNEEDED, same version is already published
merida1macOS 12.7.4 Monterey / x86_64  OK    OK    OK    OK  UNNEEDED, same version is already published
kjohnson1macOS 13.6.6 Ventura / arm64see weekly results here
Package 59/90HostnameOS / ArchINSTALLBUILDCHECKBUILD BIN
RTCGAToolbox 2.35.0  (landing page)
Marcel Ramos
git_last_commit: e922ad1
git_last_commit_date: 2024-04-30 10:43:59 -0400
nebbiolo2Linux (Ubuntu 22.04.3 LTS) / x86_64  OK    OK    OK  UNNEEDED, same version is already published
palomino4Windows Server 2022 Datacenter / x64  OK    OK    OK    OK  UNNEEDED, same version is already published
merida1macOS 12.7.4 Monterey / x86_64  OK    OK    OK    OK  UNNEEDED, same version is already published
kjohnson1macOS 13.6.6 Ventura / arm64see weekly results here
Package 60/90HostnameOS / ArchINSTALLBUILDCHECKBUILD BIN
ScaledMatrix 1.13.0  (landing page)
Aaron Lun
git_last_commit: b4bf8cb
git_last_commit_date: 2024-04-30 11:30:27 -0400
nebbiolo2Linux (Ubuntu 22.04.3 LTS) / x86_64  OK    OK    OK  UNNEEDED, same version is already published
palomino4Windows Server 2022 Datacenter / x64  OK    OK    OK    OK  UNNEEDED, same version is already published
merida1macOS 12.7.4 Monterey / x86_64  OK    OK    OK    OK  UNNEEDED, same version is already published
kjohnson1macOS 13.6.6 Ventura / arm64see weekly results here
Package 61/90HostnameOS / ArchINSTALLBUILDCHECKBUILD BIN
SCArray 1.13.0  (landing page)
Xiuwen Zheng
git_last_commit: 5df3190
git_last_commit_date: 2024-04-30 11:30:24 -0400
nebbiolo2Linux (Ubuntu 22.04.3 LTS) / x86_64  OK    OK    OK  UNNEEDED, same version is already published
palomino4Windows Server 2022 Datacenter / x64  OK    OK    OK    OK  UNNEEDED, same version is already published
merida1macOS 12.7.4 Monterey / x86_64  OK    OK    OK    OK  UNNEEDED, same version is already published
kjohnson1macOS 13.6.6 Ventura / arm64see weekly results here
Package 62/90HostnameOS / ArchINSTALLBUILDCHECKBUILD BIN
SCArray.sat 1.5.0  (landing page)
Xiuwen Zheng
git_last_commit: 17b97a4
git_last_commit_date: 2024-04-30 11:48:15 -0400
nebbiolo2Linux (Ubuntu 22.04.3 LTS) / x86_64  OK    OK    OK  UNNEEDED, same version is already published
palomino4Windows Server 2022 Datacenter / x64  OK    OK    OK    OK  UNNEEDED, same version is already published
merida1macOS 12.7.4 Monterey / x86_64  OK    OK    OK    OK  UNNEEDED, same version is already published
kjohnson1macOS 13.6.6 Ventura / arm64see weekly results here
Package 63/90HostnameOS / ArchINSTALLBUILDCHECKBUILD BIN
scater 1.33.0  (landing page)
Alan O'Callaghan
git_last_commit: 483f942
git_last_commit_date: 2024-04-30 10:48:21 -0400
nebbiolo2Linux (Ubuntu 22.04.3 LTS) / x86_64  OK    OK    OK  UNNEEDED, same version is already published
palomino4Windows Server 2022 Datacenter / x64  OK    OK    OK    OK  UNNEEDED, same version is already published
merida1macOS 12.7.4 Monterey / x86_64  OK    OK    OK    OK  UNNEEDED, same version is already published
kjohnson1macOS 13.6.6 Ventura / arm64see weekly results here
Package 64/90HostnameOS / ArchINSTALLBUILDCHECKBUILD BIN
scDblFinder 1.19.0  (landing page)
Pierre-Luc Germain
git_last_commit: 53c2715
git_last_commit_date: 2024-04-30 11:18:45 -0400
nebbiolo2Linux (Ubuntu 22.04.3 LTS) / x86_64  OK    OK    OK  UNNEEDED, same version is already published
palomino4Windows Server 2022 Datacenter / x64  OK    OK    OK    OK  UNNEEDED, same version is already published
merida1macOS 12.7.4 Monterey / x86_64  OK    OK    OK    OK  UNNEEDED, same version is already published
kjohnson1macOS 13.6.6 Ventura / arm64see weekly results here
Package 65/90HostnameOS / ArchINSTALLBUILDCHECKBUILD BIN
scFeatures 1.5.0  (landing page)
Yue Cao
git_last_commit: 030b7be
git_last_commit_date: 2024-04-30 11:47:00 -0400
nebbiolo2Linux (Ubuntu 22.04.3 LTS) / x86_64  OK    OK    OK  UNNEEDED, same version is already published
palomino4Windows Server 2022 Datacenter / x64  OK    OK    OK    OK  UNNEEDED, same version is already published
merida1macOS 12.7.4 Monterey / x86_64  OK    OK    OK    OK  UNNEEDED, same version is already published
kjohnson1macOS 13.6.6 Ventura / arm64see weekly results here
Package 66/90HostnameOS / ArchINSTALLBUILDCHECKBUILD BIN
scMerge 1.21.0  (landing page)
Yingxin Lin
git_last_commit: 4b2e3ee
git_last_commit_date: 2024-04-30 11:14:29 -0400
nebbiolo2Linux (Ubuntu 22.04.3 LTS) / x86_64  OK    OK    OK  UNNEEDED, same version is already published
palomino4Windows Server 2022 Datacenter / x64  OK    OK    OK    OK  UNNEEDED, same version is already published
merida1macOS 12.7.4 Monterey / x86_64  OK    OK    OK    OK  UNNEEDED, same version is already published
kjohnson1macOS 13.6.6 Ventura / arm64see weekly results here
Package 67/90HostnameOS / ArchINSTALLBUILDCHECKBUILD BIN
scmeth 1.25.0  (landing page)
Divy Kangeyan
git_last_commit: 363cbc5
git_last_commit_date: 2024-04-30 11:04:04 -0400
nebbiolo2Linux (Ubuntu 22.04.3 LTS) / x86_64  OK    OK    OK  UNNEEDED, same version is already published
palomino4Windows Server 2022 Datacenter / x64  OK    OK    OK    OK  UNNEEDED, same version is already published
merida1macOS 12.7.4 Monterey / x86_64  OK    OK    OK    OK  UNNEEDED, same version is already published
kjohnson1macOS 13.6.6 Ventura / arm64see weekly results here
Package 68/90HostnameOS / ArchINSTALLBUILDCHECKBUILD BIN
scPCA 1.19.0  (landing page)
Philippe Boileau
git_last_commit: dd18d37
git_last_commit_date: 2024-04-30 11:18:48 -0400
nebbiolo2Linux (Ubuntu 22.04.3 LTS) / x86_64  OK    OK    OK  UNNEEDED, same version is already published
palomino4Windows Server 2022 Datacenter / x64  OK    OK    OK    OK  UNNEEDED, same version is already published
merida1macOS 12.7.4 Monterey / x86_64  OK    OK    OK    OK  UNNEEDED, same version is already published
kjohnson1macOS 13.6.6 Ventura / arm64see weekly results here
Package 69/90HostnameOS / ArchINSTALLBUILDCHECKBUILD BIN
scran 1.33.0  (landing page)
Aaron Lun
git_last_commit: edd02ba
git_last_commit_date: 2024-04-30 10:50:14 -0400
nebbiolo2Linux (Ubuntu 22.04.3 LTS) / x86_64  OK    OK    WARNINGS  UNNEEDED, same version is already published
palomino4Windows Server 2022 Datacenter / x64  OK    OK    WARNINGS    OK  UNNEEDED, same version is already published
merida1macOS 12.7.4 Monterey / x86_64  OK    OK    WARNINGS    OK  UNNEEDED, same version is already published
kjohnson1macOS 13.6.6 Ventura / arm64see weekly results here
Package 70/90HostnameOS / ArchINSTALLBUILDCHECKBUILD BIN
scry 1.17.0  (landing page)
Kelly Street
git_last_commit: 82669ca
git_last_commit_date: 2024-04-30 11:23:42 -0400
nebbiolo2Linux (Ubuntu 22.04.3 LTS) / x86_64  OK    OK    OK  UNNEEDED, same version is already published
palomino4Windows Server 2022 Datacenter / x64  OK    OK    OK    OK  UNNEEDED, same version is already published
merida1macOS 12.7.4 Monterey / x86_64  OK    OK    OK    OK  UNNEEDED, same version is already published
kjohnson1macOS 13.6.6 Ventura / arm64see weekly results here
Package 71/90HostnameOS / ArchINSTALLBUILDCHECKBUILD BIN
scuttle 1.15.0  (landing page)
Aaron Lun
git_last_commit: fd7d1ad
git_last_commit_date: 2024-04-30 11:24:27 -0400
nebbiolo2Linux (Ubuntu 22.04.3 LTS) / x86_64  OK    OK    OK  UNNEEDED, same version is already published
palomino4Windows Server 2022 Datacenter / x64  OK    OK    OK    OK  UNNEEDED, same version is already published
merida1macOS 12.7.4 Monterey / x86_64  OK    OK    OK    OK  UNNEEDED, same version is already published
kjohnson1macOS 13.6.6 Ventura / arm64see weekly results here
Package 72/90HostnameOS / ArchINSTALLBUILDCHECKBUILD BIN
signatureSearch 1.19.0  (landing page)
Brendan Gongol
git_last_commit: d3e13a4
git_last_commit_date: 2024-04-30 11:19:09 -0400
nebbiolo2Linux (Ubuntu 22.04.3 LTS) / x86_64  OK    OK    OK  UNNEEDED, same version is already published
palomino4Windows Server 2022 Datacenter / x64  OK    OK    OK    OK  UNNEEDED, same version is already published
merida1macOS 12.7.4 Monterey / x86_64  OK    OK    OK    OK  UNNEEDED, same version is already published
kjohnson1macOS 13.6.6 Ventura / arm64see weekly results here
Package 73/90HostnameOS / ArchINSTALLBUILDCHECKBUILD BIN
SingleCellAlleleExperiment 1.1.0  (landing page)
Jonas Schuck
git_last_commit: 23e0f9f
git_last_commit_date: 2024-04-30 11:56:29 -0400
nebbiolo2Linux (Ubuntu 22.04.3 LTS) / x86_64  OK    OK    OK  UNNEEDED, same version is already published
palomino4Windows Server 2022 Datacenter / x64  OK    ERROR  skippedskipped
merida1macOS 12.7.4 Monterey / x86_64  OK    OK    OK    OK  UNNEEDED, same version is already published
kjohnson1macOS 13.6.6 Ventura / arm64see weekly results here
Package 74/90HostnameOS / ArchINSTALLBUILDCHECKBUILD BIN
SingleCellExperiment 1.27.0  (landing page)
Davide Risso
git_last_commit: 9a26b66
git_last_commit_date: 2024-04-30 10:59:03 -0400
nebbiolo2Linux (Ubuntu 22.04.3 LTS) / x86_64  OK    OK    OK  UNNEEDED, same version is already published
palomino4Windows Server 2022 Datacenter / x64  OK    OK    OK    OK  UNNEEDED, same version is already published
merida1macOS 12.7.4 Monterey / x86_64  OK    OK    OK    OK  UNNEEDED, same version is already published
kjohnson1macOS 13.6.6 Ventura / arm64see weekly results here
Package 75/90HostnameOS / ArchINSTALLBUILDCHECKBUILD BIN
singleCellTK 2.15.0  (landing page)
Joshua David Campbell
git_last_commit: 4d7a515
git_last_commit_date: 2024-04-30 11:06:02 -0400
nebbiolo2Linux (Ubuntu 22.04.3 LTS) / x86_64  OK    OK    OK  UNNEEDED, same version is already published
palomino4Windows Server 2022 Datacenter / x64  OK    OK    OK    OK  UNNEEDED, same version is already published
merida1macOS 12.7.4 Monterey / x86_64  OK    OK    TIMEOUT    OK  
kjohnson1macOS 13.6.6 Ventura / arm64see weekly results here
Package 76/90HostnameOS / ArchINSTALLBUILDCHECKBUILD BIN
SingleR 2.7.0  (landing page)
Aaron Lun
git_last_commit: db9c9be
git_last_commit_date: 2024-04-30 11:16:52 -0400
nebbiolo2Linux (Ubuntu 22.04.3 LTS) / x86_64  OK    OK    WARNINGS  UNNEEDED, same version is already published
palomino4Windows Server 2022 Datacenter / x64  OK    OK    WARNINGS    OK  UNNEEDED, same version is already published
merida1macOS 12.7.4 Monterey / x86_64  OK    OK    WARNINGS    OK  UNNEEDED, same version is already published
kjohnson1macOS 13.6.6 Ventura / arm64see weekly results here
Package 77/90HostnameOS / ArchINSTALLBUILDCHECKBUILD BIN
sketchR 1.1.0  (landing page)
Charlotte Soneson
git_last_commit: de35d60
git_last_commit_date: 2024-04-30 11:54:29 -0400
nebbiolo2Linux (Ubuntu 22.04.3 LTS) / x86_64  OK    OK    OK  UNNEEDED, same version is already published
palomino4Windows Server 2022 Datacenter / x64  OK    OK    OK    OK  UNNEEDED, same version is already published
merida1macOS 12.7.4 Monterey / x86_64  OK    OK    OK    OK  UNNEEDED, same version is already published
kjohnson1macOS 13.6.6 Ventura / arm64see weekly results here
Package 78/90HostnameOS / ArchINSTALLBUILDCHECKBUILD BIN
SpliceWiz 1.7.0  (landing page)
Alex Chit Hei Wong
git_last_commit: 609e0e1
git_last_commit_date: 2024-04-30 11:43:22 -0400
nebbiolo2Linux (Ubuntu 22.04.3 LTS) / x86_64  OK    OK    OK  UNNEEDED, same version is already published
palomino4Windows Server 2022 Datacenter / x64  OK    OK    OK    OK  UNNEEDED, same version is already published
merida1macOS 12.7.4 Monterey / x86_64  OK    OK    TIMEOUT    OK  
kjohnson1macOS 13.6.6 Ventura / arm64see weekly results here
Package 79/90HostnameOS / ArchINSTALLBUILDCHECKBUILD BIN
SQLDataFrame 1.19.0  (landing page)
Qian Liu
git_last_commit: ee7374d
git_last_commit_date: 2024-04-30 11:15:18 -0400
nebbiolo2Linux (Ubuntu 22.04.3 LTS) / x86_64  OK    OK    WARNINGS  UNNEEDED, same version is already published
palomino4Windows Server 2022 Datacenter / x64  OK    OK    WARNINGS    OK  UNNEEDED, same version is already published
merida1macOS 12.7.4 Monterey / x86_64  OK    OK    WARNINGS    OK  UNNEEDED, same version is already published
kjohnson1macOS 13.6.6 Ventura / arm64see weekly results here
Package 80/90HostnameOS / ArchINSTALLBUILDCHECKBUILD BIN
SummarizedExperiment 1.35.0  (landing page)
Hervé Pagès
git_last_commit: b5b7041
git_last_commit_date: 2024-04-30 14:50:20 -0400
nebbiolo2Linux (Ubuntu 22.04.3 LTS) / x86_64  OK    OK    OK  UNNEEDED, same version is already published
palomino4Windows Server 2022 Datacenter / x64  OK    OK    OK    OK  UNNEEDED, same version is already published
merida1macOS 12.7.4 Monterey / x86_64  OK    OK    OK    OK  UNNEEDED, same version is already published
kjohnson1macOS 13.6.6 Ventura / arm64see weekly results here
Package 81/90HostnameOS / ArchINSTALLBUILDCHECKBUILD BIN
TileDBArray 1.15.0  (landing page)
Aaron Lun
git_last_commit: 81f0708
git_last_commit_date: 2024-04-30 11:27:13 -0400
nebbiolo2Linux (Ubuntu 22.04.3 LTS) / x86_64  OK    OK    OK  UNNEEDED, same version is already published
palomino4Windows Server 2022 Datacenter / x64  OK    OK    OK    OK  UNNEEDED, same version is already published
merida1macOS 12.7.4 Monterey / x86_64  OK    OK    OK    OK  UNNEEDED, same version is already published
kjohnson1macOS 13.6.6 Ventura / arm64see weekly results here
Package 82/90HostnameOS / ArchINSTALLBUILDCHECKBUILD BIN
transformGamPoi 1.11.0  (landing page)
Constantin Ahlmann-Eltze
git_last_commit: 281d3ea
git_last_commit_date: 2024-04-30 11:37:13 -0400
nebbiolo2Linux (Ubuntu 22.04.3 LTS) / x86_64  OK    OK    OK  UNNEEDED, same version is already published
palomino4Windows Server 2022 Datacenter / x64  OK    OK    OK    OK  UNNEEDED, same version is already published
merida1macOS 12.7.4 Monterey / x86_64  OK    OK    OK    OK  UNNEEDED, same version is already published
kjohnson1macOS 13.6.6 Ventura / arm64see weekly results here
Package 83/90HostnameOS / ArchINSTALLBUILDCHECKBUILD BIN
TSCAN 1.43.0  (landing page)
Zhicheng Ji
git_last_commit: a2c4e7c
git_last_commit_date: 2024-04-30 10:38:44 -0400
nebbiolo2Linux (Ubuntu 22.04.3 LTS) / x86_64  OK    OK    WARNINGS  UNNEEDED, same version is already published
palomino4Windows Server 2022 Datacenter / x64  OK    OK    WARNINGS    OK  UNNEEDED, same version is already published
merida1macOS 12.7.4 Monterey / x86_64  OK    OK    WARNINGS    OK  UNNEEDED, same version is already published
kjohnson1macOS 13.6.6 Ventura / arm64see weekly results here
Package 84/90HostnameOS / ArchINSTALLBUILDCHECKBUILD BIN
VariantExperiment 1.19.1  (landing page)
Qian Liu
git_last_commit: 2d201ae
git_last_commit_date: 2024-05-11 15:55:21 -0400
nebbiolo2Linux (Ubuntu 22.04.3 LTS) / x86_64  OK    OK    OK  UNNEEDED, same version is already published
palomino4Windows Server 2022 Datacenter / x64  OK    ERROR  skippedskipped
merida1macOS 12.7.4 Monterey / x86_64  OK    ERROR  skippedskipped
kjohnson1macOS 13.6.6 Ventura / arm64see weekly results here
Package 85/90HostnameOS / ArchINSTALLBUILDCHECKBUILD BIN
VCFArray 1.21.0  (landing page)
Qian Liu
git_last_commit: b7efef1
git_last_commit_date: 2024-04-30 11:11:37 -0400
nebbiolo2Linux (Ubuntu 22.04.3 LTS) / x86_64  OK    OK    OK  UNNEEDED, same version is already published
palomino4Windows Server 2022 Datacenter / x64  OK    OK    OK    OK  UNNEEDED, same version is already published
merida1macOS 12.7.4 Monterey / x86_64  OK    OK    OK    OK  UNNEEDED, same version is already published
kjohnson1macOS 13.6.6 Ventura / arm64see weekly results here
Package 86/90HostnameOS / ArchINSTALLBUILDCHECKBUILD BIN
velociraptor 1.15.0  (landing page)
Kevin Rue-Albrecht
git_last_commit: dbc6491
git_last_commit_date: 2024-04-30 11:27:28 -0400
nebbiolo2Linux (Ubuntu 22.04.3 LTS) / x86_64  OK    OK    OK  UNNEEDED, same version is already published
palomino4Windows Server 2022 Datacenter / x64  OK    OK    OK    OK  UNNEEDED, same version is already published
merida1macOS 12.7.4 Monterey / x86_64  OK    OK    OK    OK  UNNEEDED, same version is already published
kjohnson1macOS 13.6.6 Ventura / arm64see weekly results here
Package 87/90HostnameOS / ArchINSTALLBUILDCHECKBUILD BIN
weitrix 1.17.0  (landing page)
Paul Harrison
git_last_commit: d230708
git_last_commit_date: 2024-04-30 11:23:57 -0400
nebbiolo2Linux (Ubuntu 22.04.3 LTS) / x86_64  OK    OK    OK  UNNEEDED, same version is already published
palomino4Windows Server 2022 Datacenter / x64  OK    OK    OK    OK  UNNEEDED, same version is already published
merida1macOS 12.7.4 Monterey / x86_64  OK    OK    OK    OK  UNNEEDED, same version is already published
kjohnson1macOS 13.6.6 Ventura / arm64see weekly results here
Package 88/90HostnameOS / ArchINSTALLBUILDCHECKBUILD BIN
xcore 1.9.0  (landing page)
Maciej Migdał
git_last_commit: e1f2e82
git_last_commit_date: 2024-04-30 11:40:48 -0400
nebbiolo2Linux (Ubuntu 22.04.3 LTS) / x86_64  OK    OK    OK  UNNEEDED, same version is already published
palomino4Windows Server 2022 Datacenter / x64  OK    OK    OK    OK  UNNEEDED, same version is already published
merida1macOS 12.7.4 Monterey / x86_64  OK    OK    OK    OK  UNNEEDED, same version is already published
kjohnson1macOS 13.6.6 Ventura / arm64see weekly results here
Package 89/90HostnameOS / ArchINSTALLBUILDCHECKBUILD BIN
zellkonverter 1.15.0  (landing page)
Luke Zappia
git_last_commit: 7b11865
git_last_commit_date: 2024-05-06 07:52:04 -0400
nebbiolo2Linux (Ubuntu 22.04.3 LTS) / x86_64  OK    OK    OK  UNNEEDED, same version is already published
palomino4Windows Server 2022 Datacenter / x64  OK    OK    OK    OK  UNNEEDED, same version is already published
merida1macOS 12.7.4 Monterey / x86_64  OK    OK    OK    OK  UNNEEDED, same version is already published
kjohnson1macOS 13.6.6 Ventura / arm64see weekly results here
Package 90/90HostnameOS / ArchINSTALLBUILDCHECKBUILD BIN
ZygosityPredictor 1.5.0  (landing page)
Marco Rheinnecker
git_last_commit: 4445bbb
git_last_commit_date: 2024-04-30 11:48:18 -0400
nebbiolo2Linux (Ubuntu 22.04.3 LTS) / x86_64  OK    OK    OK  UNNEEDED, same version is already published
palomino4Windows Server 2022 Datacenter / x64  OK    OK    OK    OK  UNNEEDED, same version is already published
merida1macOS 12.7.4 Monterey / x86_64  OK    OK    OK    OK  UNNEEDED, same version is already published
kjohnson1macOS 13.6.6 Ventura / arm64see weekly results here