Back to Multiple platform build/check report for BioC 3.14
ABC[D]EFGHIJKLMNOPQRSTUVWXYZ

This page was generated on 2021-09-16 12:05:39 -0400 (Thu, 16 Sep 2021).

BUILD results for DEsubs on riesling1

To the developers/maintainers of the DEsubs package:
- Please allow up to 24 hours (and sometimes 48 hours) for your latest push to git@git.bioconductor.org:packages/DEsubs.git to
reflect on this report. See How and When does the builder pull? When will my changes propagate? here for more information.
- Make sure to use the following settings in order to reproduce any error or warning you see on this page.

raw results

Package 482/2029HostnameOS / ArchINSTALLBUILDCHECKBUILD BIN
DEsubs 1.19.1  (landing page)
Aristidis G. Vrahatis , Panos Balomenos
Snapshot Date: 2021-09-15 14:50:10 -0400 (Wed, 15 Sep 2021)
git_url: https://git.bioconductor.org/packages/DEsubs
git_branch: master
git_last_commit: fe35de3
git_last_commit_date: 2021-06-18 19:34:29 -0400 (Fri, 18 Jun 2021)
nebbiolo2Linux (Ubuntu 20.04.2 LTS) / x86_64  OK    OK    OK  UNNEEDED, same version is already published
riesling1Windows Server 2019 Standard / x64  OK    OK    OK    OK  UNNEEDED, same version is already published
merida1macOS 10.14.6 Mojave / x86_64  OK    OK    OK    OK  UNNEEDED, same version is already published

Summary

Package: DEsubs
Version: 1.19.1
Command: chmod a+r DEsubs -R && D:\biocbuild\bbs-3.14-bioc\R\bin\R.exe CMD build --keep-empty-dirs --no-resave-data DEsubs
StartedAt: 2021-09-15 20:18:00 -0400 (Wed, 15 Sep 2021)
EndedAt: 2021-09-15 20:22:30 -0400 (Wed, 15 Sep 2021)
EllapsedTime: 269.6 seconds
RetCode: 0
Status:   OK  
PackageFile: DEsubs_1.19.1.tar.gz
PackageFileSize: 3.966 MiB

Command output

##############################################################################
##############################################################################
###
### Running command:
###
###   chmod a+r DEsubs -R && D:\biocbuild\bbs-3.14-bioc\R\bin\R.exe CMD build --keep-empty-dirs --no-resave-data DEsubs
###
##############################################################################
##############################################################################


* checking for file 'DEsubs/DESCRIPTION' ... OK
* preparing 'DEsubs':
* checking DESCRIPTION meta-information ... OK
* installing the package to build vignettes
* creating vignettes ... OK
* checking for LF line-endings in source and make files and shell scripts
* checking for empty or unneeded directories
* building 'DEsubs_1.19.1.tar.gz'