Back to Multiple platform build/check report for BioC 3.14
ABC[D]EFGHIJKLMNOPQRSTUVWXYZ

This page was generated on 2021-08-02 12:05:10 -0400 (Mon, 02 Aug 2021).

CHECK results for DEsubs on merida1

To the developers/maintainers of the DEsubs package:
- Please allow up to 24 hours (and sometimes 48 hours) for your latest push to git@git.bioconductor.org:packages/DEsubs.git to
reflect on this report. See How and When does the builder pull? When will my changes propagate? here for more information.
- Make sure to use the following settings in order to reproduce any error or warning you see on this page.

raw results

Package 480/2015HostnameOS / ArchINSTALLBUILDCHECKBUILD BIN
DEsubs 1.19.1  (landing page)
Aristidis G. Vrahatis , Panos Balomenos
Snapshot Date: 2021-08-01 14:50:04 -0400 (Sun, 01 Aug 2021)
URL: https://git.bioconductor.org/packages/DEsubs
Branch: master
Last Commit: fe35de3
Last Changed Date: 2021-06-18 19:34:29 -0400 (Fri, 18 Jun 2021)
nebbiolo2Linux (Ubuntu 20.04.2 LTS) / x86_64  OK    OK    OK  UNNEEDED, same version is already published
riesling1Windows Server 2019 Standard / x64  OK    OK    OK    OK  UNNEEDED, same version is already published
merida1macOS 10.14.6 Mojave / x86_64  OK    OK    OK    OK  UNNEEDED, same version is already published

Summary

Package: DEsubs
Version: 1.19.1
Command: /Library/Frameworks/R.framework/Resources/bin/R CMD check --install=check:DEsubs.install-out.txt --library=/Library/Frameworks/R.framework/Resources/library --no-vignettes --timings DEsubs_1.19.1.tar.gz
StartedAt: 2021-08-02 01:40:01 -0400 (Mon, 02 Aug 2021)
EndedAt: 2021-08-02 01:44:42 -0400 (Mon, 02 Aug 2021)
EllapsedTime: 281.3 seconds
RetCode: 0
Status:   OK  
CheckDir: DEsubs.Rcheck
Warnings: 0

Command output

##############################################################################
##############################################################################
###
### Running command:
###
###   /Library/Frameworks/R.framework/Resources/bin/R CMD check --install=check:DEsubs.install-out.txt --library=/Library/Frameworks/R.framework/Resources/library --no-vignettes --timings DEsubs_1.19.1.tar.gz
###
##############################################################################
##############################################################################


* using log directory ‘/Users/biocbuild/bbs-3.14-bioc/meat/DEsubs.Rcheck’
* using R version 4.1.0 RC (2021-05-16 r80304)
* using platform: x86_64-apple-darwin17.0 (64-bit)
* using session charset: UTF-8
* using option ‘--no-vignettes’
* checking for file ‘DEsubs/DESCRIPTION’ ... OK
* this is package ‘DEsubs’ version ‘1.19.1’
* checking package namespace information ... OK
* checking package dependencies ... OK
* checking if this is a source package ... OK
* checking if there is a namespace ... OK
* checking for hidden files and directories ... OK
* checking for portable file names ... OK
* checking for sufficient/correct file permissions ... OK
* checking whether package ‘DEsubs’ can be installed ... OK
* checking installed package size ... OK
* checking package directory ... OK
* checking ‘build’ directory ... OK
* checking DESCRIPTION meta-information ... OK
* checking top-level files ... OK
* checking for left-over files ... OK
* checking index information ... OK
* checking package subdirectories ... OK
* checking R files for non-ASCII characters ... OK
* checking R files for syntax errors ... OK
* checking whether the package can be loaded ... OK
* checking whether the package can be loaded with stated dependencies ... OK
* checking whether the package can be unloaded cleanly ... OK
* checking whether the namespace can be loaded with stated dependencies ... OK
* checking whether the namespace can be unloaded cleanly ... OK
* checking dependencies in R code ... OK
* checking S3 generic/method consistency ... OK
* checking replacement functions ... OK
* checking foreign function calls ... OK
* checking R code for possible problems ... OK
* checking Rd files ... OK
* checking Rd metadata ... OK
* checking Rd cross-references ... OK
* checking for missing documentation entries ... OK
* checking for code/documentation mismatches ... OK
* checking Rd \usage sections ... OK
* checking Rd contents ... OK
* checking for unstated dependencies in examples ... OK
* checking sizes of PDF files under ‘inst/doc’ ... OK
* checking files in ‘vignettes’ ... OK
* checking examples ... OK
* checking for unstated dependencies in ‘tests’ ... OK
* checking tests ...
  Running ‘runTests.R’
 OK
* checking for unstated dependencies in vignettes ... OK
* checking package vignettes in ‘inst/doc’ ... OK
* checking running R code from vignettes ... SKIPPED
* checking re-building of vignette outputs ... SKIPPED
* checking PDF version of manual ... OK
* DONE

Status: OK


Installation output

DEsubs.Rcheck/00install.out

##############################################################################
##############################################################################
###
### Running command:
###
###   /Library/Frameworks/R.framework/Resources/bin/R CMD INSTALL DEsubs
###
##############################################################################
##############################################################################


* installing to library ‘/Library/Frameworks/R.framework/Versions/4.1/Resources/library’
* installing *source* package ‘DEsubs’ ...
** using staged installation
** R
** inst
** byte-compile and prepare package for lazy loading
** help
*** installing help indices
** building package indices
** installing vignettes
** testing if installed package can be loaded from temporary location
** testing if installed package can be loaded from final location
** testing if installed package keeps a record of temporary installation path
* DONE (DEsubs)

Tests output

DEsubs.Rcheck/tests/runTests.Rout


R version 4.1.0 RC (2021-05-16 r80304) -- "Camp Pontanezen"
Copyright (C) 2021 The R Foundation for Statistical Computing
Platform: x86_64-apple-darwin17.0 (64-bit)

R is free software and comes with ABSOLUTELY NO WARRANTY.
You are welcome to redistribute it under certain conditions.
Type 'license()' or 'licence()' for distribution details.

R is a collaborative project with many contributors.
Type 'contributors()' for more information and
'citation()' on how to cite R or R packages in publications.

Type 'demo()' for some demos, 'help()' for on-line help, or
'help.start()' for an HTML browser interface to help.
Type 'q()' to quit R.

> BiocGenerics:::testPackage('DEsubs')
locfit 1.5-9.4 	 2020-03-24
Testing DEsubs...Pruning nodes...done.
Pruning edges...done.
done.
Testing geneVisualizationdone.
Testing organismVisualizationdone.
Testing subpathwayToGraphdone.
Testing subpathwayVisualizationdone.


RUNIT TEST PROTOCOL -- Mon Aug  2 01:44:35 2021 
*********************************************** 
Number of test functions: 5 
Number of errors: 0 
Number of failures: 0 

 
1 Test Suite : 
DEsubs RUnit Tests - 5 test functions, 0 errors, 0 failures
Number of test functions: 5 
Number of errors: 0 
Number of failures: 0 
> 
> 
> proc.time()
   user  system elapsed 
 16.090   0.711  16.809 

Example timings

DEsubs.Rcheck/DEsubs-Ex.timings

nameusersystemelapsed
DEsubs2.7740.0392.820
geneVisualization0.8800.0820.968
organismVisualization1.4920.0351.529
subpathwayToGraph0.1690.0050.174
subpathwayTypes0.0160.0020.018
subpathwayVisualization1.9900.1112.105