Back to Multiple platform build/check report for BioC 3.14
ABC[D]EFGHIJKLMNOPQRSTUVWXYZ

This page was generated on 2021-07-31 12:06:36 -0400 (Sat, 31 Jul 2021).

BUILD results for DEsubs on merida1

To the developers/maintainers of the DEsubs package:
- Please allow up to 24 hours (and sometimes 48 hours) for your latest push to git@git.bioconductor.org:packages/DEsubs.git to
reflect on this report. See How and When does the builder pull? When will my changes propagate? here for more information.
- Make sure to use the following settings in order to reproduce any error or warning you see on this page.

raw results

Package 480/2015HostnameOS / ArchINSTALLBUILDCHECKBUILD BIN
DEsubs 1.19.1  (landing page)
Aristidis G. Vrahatis , Panos Balomenos
Snapshot Date: 2021-07-30 14:50:06 -0400 (Fri, 30 Jul 2021)
URL: https://git.bioconductor.org/packages/DEsubs
Branch: master
Last Commit: fe35de3
Last Changed Date: 2021-06-18 19:34:29 -0400 (Fri, 18 Jun 2021)
nebbiolo2Linux (Ubuntu 20.04.2 LTS) / x86_64  OK    OK    OK  UNNEEDED, same version is already published
riesling1Windows Server 2019 Standard / x64  OK    OK    OK    OK  UNNEEDED, same version is already published
merida1macOS 10.14.6 Mojave / x86_64  OK    OK    OK    OK  UNNEEDED, same version is already published

Summary

Package: DEsubs
Version: 1.19.1
Command: /Library/Frameworks/R.framework/Resources/bin/R CMD build --keep-empty-dirs --no-resave-data DEsubs
StartedAt: 2021-07-30 19:15:40 -0400 (Fri, 30 Jul 2021)
EndedAt: 2021-07-30 19:17:11 -0400 (Fri, 30 Jul 2021)
EllapsedTime: 90.7 seconds
RetCode: 0
Status:   OK  
PackageFile: DEsubs_1.19.1.tar.gz
PackageFileSize: 3.963 MiB

Command output

##############################################################################
##############################################################################
###
### Running command:
###
###   /Library/Frameworks/R.framework/Resources/bin/R CMD build --keep-empty-dirs --no-resave-data DEsubs
###
##############################################################################
##############################################################################


* checking for file ‘DEsubs/DESCRIPTION’ ... OK
* preparing ‘DEsubs’:
* checking DESCRIPTION meta-information ... OK
* installing the package to build vignettes
* creating vignettes ... OK
* checking for LF line-endings in source and make files and shell scripts
* checking for empty or unneeded directories
* building ‘DEsubs_1.19.1.tar.gz’