Back to Multiple platform build/check report for BioC 3.14
ABC[D]EFGHIJKLMNOPQRSTUVWXYZ

This page was generated on 2021-10-22 12:04:56 -0400 (Fri, 22 Oct 2021).

BUILD BIN results for DEsubs on merida1

To the developers/maintainers of the DEsubs package:
- Please allow up to 24 hours (and sometimes 48 hours) for your latest push to git@git.bioconductor.org:packages/DEsubs.git to
reflect on this report. See How and When does the builder pull? When will my changes propagate? here for more information.
- Make sure to use the following settings in order to reproduce any error or warning you see on this page.

raw results

Package 494/2075HostnameOS / ArchINSTALLBUILDCHECKBUILD BIN
DEsubs 1.19.1  (landing page)
Aristidis G. Vrahatis , Panos Balomenos
Snapshot Date: 2021-10-21 14:50:08 -0400 (Thu, 21 Oct 2021)
git_url: https://git.bioconductor.org/packages/DEsubs
git_branch: master
git_last_commit: fe35de3
git_last_commit_date: 2021-06-18 19:34:29 -0400 (Fri, 18 Jun 2021)
nebbiolo2Linux (Ubuntu 20.04.2 LTS) / x86_64  OK    OK    OK  UNNEEDED, same version is already published
riesling1Windows Server 2019 Standard / x64  OK    OK    OK    OK  UNNEEDED, same version is already published
merida1macOS 10.14.6 Mojave / x86_64  OK    OK    OK    OK  UNNEEDED, same version is already published

Summary

Package: DEsubs
Version: 1.19.1
Command: rm -rf DEsubs.buildbin-libdir && mkdir DEsubs.buildbin-libdir && /Users/biocbuild/BBS/utils/build-universal.sh DEsubs_1.19.1.tar.gz /Library/Frameworks/R.framework/Resources/bin/R DEsubs.buildbin-libdir
StartedAt: 2021-10-22 11:54:52 -0400 (Fri, 22 Oct 2021)
EndedAt: 2021-10-22 11:56:05 -0400 (Fri, 22 Oct 2021)
EllapsedTime: 72.5 seconds
RetCode: 0
Status:   OK  
PackageFile: DEsubs_1.19.1.tgz
PackageFileSize: 3.735 MiB

Command output

##############################################################################
##############################################################################
###
### Running command:
###
###   rm -rf DEsubs.buildbin-libdir && mkdir DEsubs.buildbin-libdir && /Users/biocbuild/BBS/utils/build-universal.sh DEsubs_1.19.1.tar.gz /Library/Frameworks/R.framework/Resources/bin/R DEsubs.buildbin-libdir
###
##############################################################################
##############################################################################


>>>>>>> 
>>>>>>> INSTALLATION WITH 'R CMD INSTALL --preclean --no-multiarch --library=DEsubs.buildbin-libdir DEsubs_1.19.1.tar.gz'
>>>>>>> 

* installing *source* package ‘DEsubs’ ...
** using staged installation
** R
** inst
** byte-compile and prepare package for lazy loading
** help
*** installing help indices
** building package indices
** installing vignettes
** testing if installed package can be loaded from temporary location
** testing if installed package can be loaded from final location
** testing if installed package keeps a record of temporary installation path
* DONE (DEsubs)