Back to Multiple platform build/check report for BioC 3.14
ABC[D]EFGHIJKLMNOPQRSTUVWXYZ

This page was generated on 2021-10-25 14:06:12 -0400 (Mon, 25 Oct 2021).

BUILD results for DEScan2 on riesling1

To the developers/maintainers of the DEScan2 package:
- Please allow up to 24 hours (and sometimes 48 hours) for your latest push to git@git.bioconductor.org:packages/DEScan2.git to
reflect on this report. See How and When does the builder pull? When will my changes propagate? here for more information.
- Make sure to use the following settings in order to reproduce any error or warning you see on this page.

raw results

Package 493/2083HostnameOS / ArchINSTALLBUILDCHECKBUILD BIN
DEScan2 1.13.0  (landing page)
Dario Righelli
Snapshot Date: 2021-10-24 14:50:04 -0400 (Sun, 24 Oct 2021)
git_url: https://git.bioconductor.org/packages/DEScan2
git_branch: master
git_last_commit: 6225802
git_last_commit_date: 2021-05-19 12:33:58 -0400 (Wed, 19 May 2021)
nebbiolo2Linux (Ubuntu 20.04.2 LTS) / x86_64  OK    OK    OK  UNNEEDED, same version is already published
riesling1Windows Server 2019 Standard / x64  OK    OK    OK    OK  UNNEEDED, same version is already published
merida1macOS 10.14.6 Mojave / x86_64  OK    OK    OK    OK  UNNEEDED, same version is already published
machv2macOS 10.14.6 Mojave / x86_64  OK    OK    OK    OK  

Summary

Package: DEScan2
Version: 1.13.0
Command: chmod a+r DEScan2 -R && D:\biocbuild\bbs-3.14-bioc\R\bin\R.exe CMD build --keep-empty-dirs --no-resave-data DEScan2
StartedAt: 2021-10-24 20:31:50 -0400 (Sun, 24 Oct 2021)
EndedAt: 2021-10-24 20:36:26 -0400 (Sun, 24 Oct 2021)
EllapsedTime: 276.4 seconds
RetCode: 0
Status:   OK  
PackageFile: DEScan2_1.13.0.tar.gz
PackageFileSize: 2.422 MiB

Command output

##############################################################################
##############################################################################
###
### Running command:
###
###   chmod a+r DEScan2 -R && D:\biocbuild\bbs-3.14-bioc\R\bin\R.exe CMD build --keep-empty-dirs --no-resave-data DEScan2
###
##############################################################################
##############################################################################


* checking for file 'DEScan2/DESCRIPTION' ... OK
* preparing 'DEScan2':
* checking DESCRIPTION meta-information ... OK
* cleaning src
* installing the package to build vignettes
* creating vignettes ... OK
* cleaning src
* checking for LF line-endings in source and make files and shell scripts
* checking for empty or unneeded directories
Omitted 'LazyData' from DESCRIPTION
* building 'DEScan2_1.13.0.tar.gz'