Index of /checkResults/devel/bioc-LATEST/DEScan2/raw-results/nebbiolo1

[ICO]NameLast modifiedSizeDescription

[DIR]Parent Directory  -  
[TXT]buildsrc-out.txt23-Jan-2022 01:05 876  
[   ]buildsrc-summary.dcf23-Jan-2022 01:05 417  
[TXT]checksrc-out.txt23-Jan-2022 01:05 3.9K 
[   ]checksrc-summary.dcf23-Jan-2022 01:05 424  
[TXT]install-out.txt23-Jan-2022 01:05 1.9K 
[   ]install-summary.dcf23-Jan-2022 01:05 259