Back to Multiple platform build/check report for BioC 3.14
ABC[D]EFGHIJKLMNOPQRSTUVWXYZ

This page was generated on 2021-10-21 12:04:16 -0400 (Thu, 21 Oct 2021).

BUILD results for DEScan2 on nebbiolo2

To the developers/maintainers of the DEScan2 package:
- Please allow up to 24 hours (and sometimes 48 hours) for your latest push to git@git.bioconductor.org:packages/DEScan2.git to
reflect on this report. See How and When does the builder pull? When will my changes propagate? here for more information.
- Make sure to use the following settings in order to reproduce any error or warning you see on this page.

raw results

Package 490/2075HostnameOS / ArchINSTALLBUILDCHECKBUILD BIN
DEScan2 1.13.0  (landing page)
Dario Righelli
Snapshot Date: 2021-10-20 14:50:05 -0400 (Wed, 20 Oct 2021)
git_url: https://git.bioconductor.org/packages/DEScan2
git_branch: master
git_last_commit: 6225802
git_last_commit_date: 2021-05-19 12:33:58 -0400 (Wed, 19 May 2021)
nebbiolo2Linux (Ubuntu 20.04.2 LTS) / x86_64  OK    OK    OK  UNNEEDED, same version is already published
riesling1Windows Server 2019 Standard / x64  OK    OK    OK    OK  UNNEEDED, same version is already published
merida1macOS 10.14.6 Mojave / x86_64  OK    OK    OK    OK  UNNEEDED, same version is already published

Summary

Package: DEScan2
Version: 1.13.0
Command: /home/biocbuild/bbs-3.14-bioc/R/bin/R CMD build --keep-empty-dirs --no-resave-data DEScan2
StartedAt: 2021-10-20 17:12:08 -0400 (Wed, 20 Oct 2021)
EndedAt: 2021-10-20 17:13:43 -0400 (Wed, 20 Oct 2021)
EllapsedTime: 94.8 seconds
RetCode: 0
Status:   OK  
PackageFile: DEScan2_1.13.0.tar.gz
PackageFileSize: 2.479 MiB

Command output

##############################################################################
##############################################################################
###
### Running command:
###
###   /home/biocbuild/bbs-3.14-bioc/R/bin/R CMD build --keep-empty-dirs --no-resave-data DEScan2
###
##############################################################################
##############################################################################


* checking for file ‘DEScan2/DESCRIPTION’ ... OK
* preparing ‘DEScan2’:
* checking DESCRIPTION meta-information ... OK
* cleaning src
* installing the package to build vignettes
* creating vignettes ... OK
* cleaning src
* checking for LF line-endings in source and make files and shell scripts
* checking for empty or unneeded directories
Omitted ‘LazyData’ from DESCRIPTION
* building ‘DEScan2_1.13.0.tar.gz’