Index of /checkResults/devel/bioc-LATEST/DAPAR/raw-results/riesling1

[ICO]NameLast modifiedSizeDescription

[DIR]Parent Directory  -  
[   ]install-summary.dcf24-Oct-2021 03:06 611  
[TXT]install-out.txt24-Oct-2021 03:06 11K 
[   ]checksrc-summary.dcf24-Oct-2021 03:06 446  
[TXT]checksrc-out.txt24-Oct-2021 03:06 1.3K 
[   ]buildsrc-summary.dcf24-Oct-2021 03:06 445  
[TXT]buildsrc-out.txt24-Oct-2021 03:06 829  
[   ]buildbin-summary.dcf24-Oct-2021 03:06 522  
[TXT]buildbin-out.txt24-Oct-2021 03:06 10K