Index of /checkResults/devel/bioc-LATEST/DAPAR/raw-results/riesling1

[ICO]NameLast modifiedSizeDescription

[DIR]Parent Directory  -  
[TXT]buildbin-out.txt25-Sep-2021 01:04 9.8K 
[   ]buildbin-summary.dcf25-Sep-2021 01:04 522  
[TXT]buildsrc-out.txt25-Sep-2021 01:04 829  
[   ]buildsrc-summary.dcf25-Sep-2021 01:04 445  
[TXT]checksrc-out.txt25-Sep-2021 01:04 20K 
[   ]checksrc-summary.dcf25-Sep-2021 01:04 446  
[TXT]install-out.txt25-Sep-2021 01:04 11K 
[   ]install-summary.dcf25-Sep-2021 01:04 611