Index of /checkResults/devel/bioc-LATEST/DAPAR/raw-results/nebbiolo2

[ICO]NameLast modifiedSizeDescription

[DIR]Parent Directory  -  
[TXT]install-out.txt24-Oct-2021 03:05 941  
[   ]install-summary.dcf24-Oct-2021 03:05 255  
[TXT]buildsrc-out.txt24-Oct-2021 03:05 798  
[   ]buildsrc-summary.dcf24-Oct-2021 03:05 411  
[TXT]checksrc-out.txt24-Oct-2021 03:05 1.3K 
[   ]checksrc-summary.dcf24-Oct-2021 03:05 418