Index of /checkResults/devel/bioc-LATEST/DAPAR/raw-results/nebbiolo2

[ICO]NameLast modifiedSizeDescription

[DIR]Parent Directory  -  
[TXT]buildsrc-out.txt25-Sep-2021 01:04 798  
[   ]buildsrc-summary.dcf25-Sep-2021 01:04 411  
[TXT]checksrc-out.txt25-Sep-2021 01:04 13K 
[   ]checksrc-summary.dcf25-Sep-2021 01:04 420  
[TXT]install-out.txt25-Sep-2021 01:04 941  
[   ]install-summary.dcf25-Sep-2021 01:04 255