Index of /checkResults/devel/bioc-LATEST/DAPAR/raw-results/nebbiolo1

[ICO]NameLast modifiedSizeDescription

[DIR]Parent Directory  -  
[TXT]buildsrc-out.txt22-Jan-2022 01:05 866  
[   ]buildsrc-summary.dcf22-Jan-2022 01:05 328  
[TXT]checksrc-out.txt07-Jan-2022 01:04 1.3K 
[   ]checksrc-summary.dcf07-Jan-2022 01:04 418  
[TXT]install-out.txt22-Jan-2022 01:05 621  
[   ]install-summary.dcf22-Jan-2022 01:05 257