Index of /checkResults/devel/bioc-LATEST/DAPAR/raw-results/merida1

[ICO]NameLast modifiedSizeDescription

[DIR]Parent Directory  -  
[   ]install-summary.dcf23-Oct-2021 01:04 265  
[TXT]install-out.txt23-Oct-2021 01:04 1.0K 
[   ]checksrc-summary.dcf23-Oct-2021 01:04 439  
[TXT]checksrc-out.txt23-Oct-2021 01:04 1.3K 
[   ]buildsrc-summary.dcf23-Oct-2021 01:04 421  
[TXT]buildsrc-out.txt23-Oct-2021 01:04 808  
[   ]buildbin-summary.dcf23-Oct-2021 01:04 517  
[TXT]buildbin-out.txt23-Oct-2021 01:04 1.1K