Index of /checkResults/devel/bioc-LATEST/DAPAR/raw-results/merida1

[ICO]NameLast modifiedSizeDescription

[DIR]Parent Directory  -  
[TXT]buildbin-out.txt25-Sep-2021 01:05 1.1K 
[   ]buildbin-summary.dcf25-Sep-2021 01:05 518  
[TXT]buildsrc-out.txt25-Sep-2021 01:05 808  
[   ]buildsrc-summary.dcf25-Sep-2021 01:05 421  
[TXT]checksrc-out.txt25-Sep-2021 01:05 13K 
[   ]checksrc-summary.dcf25-Sep-2021 01:05 440  
[TXT]install-out.txt25-Sep-2021 01:05 1.0K 
[   ]install-summary.dcf25-Sep-2021 01:05 265