Index of /checkResults/devel/bioc-LATEST/DAPAR/raw-results

[ICO]NameLast modifiedSizeDescription

[DIR]Parent Directory  -  
[   ]info.dcf25-Sep-2021 01:05 268  
[DIR]merida1/25-Sep-2021 01:05 -  
[DIR]nebbiolo2/25-Sep-2021 01:04 -  
[DIR]riesling1/25-Sep-2021 01:04 -