Back to Multiple platform build/check report for BioC 3.15
AB[C]DEFGHIJKLMNOPQRSTUVWXYZ

This page was generated on 2021-11-27 14:05:35 -0500 (Sat, 27 Nov 2021).

INSTALL results for CytoTree on merida1

To the developers/maintainers of the CytoTree package:
- Please allow up to 24 hours (and sometimes 48 hours) for your latest push to git@git.bioconductor.org:packages/CytoTree.git to
reflect on this report. See How and When does the builder pull? When will my changes propagate? here for more information.
- Make sure to use the following settings in order to reproduce any error or warning you see on this page.

raw results

Package 442/2068HostnameOS / ArchINSTALLBUILDCHECKBUILD BIN
CytoTree 1.5.0  (landing page)
Yuting Dai
Snapshot Date: 2021-11-26 14:50:14 -0500 (Fri, 26 Nov 2021)
git_url: https://git.bioconductor.org/packages/CytoTree
git_branch: master
git_last_commit: 0aca0f5
git_last_commit_date: 2021-10-26 13:00:49 -0500 (Tue, 26 Oct 2021)
nebbiolo1Linux (Ubuntu 20.04.3 LTS) / x86_64  ERROR    ERROR  skipped
riesling1Windows Server 2019 Standard / x64  ERROR    ERROR  skippedskipped
merida1macOS 10.14.6 Mojave / x86_64  ERROR    ERROR  skippedskipped

Summary

Package: CytoTree
Version: 1.5.0
Command: /Library/Frameworks/R.framework/Resources/bin/R CMD INSTALL CytoTree
StartedAt: 2021-11-26 18:25:29 -0500 (Fri, 26 Nov 2021)
EndedAt: 2021-11-26 18:25:30 -0500 (Fri, 26 Nov 2021)
EllapsedTime: 0.4 seconds
RetCode: 1
Status:   ERROR  

Command output

##############################################################################
##############################################################################
###
### Running command:
###
###   /Library/Frameworks/R.framework/Resources/bin/R CMD INSTALL CytoTree
###
##############################################################################
##############################################################################


* installing to library ‘/Library/Frameworks/R.framework/Versions/4.2/Resources/library’
ERROR: dependency ‘destiny’ is not available for package ‘CytoTree’
* removing ‘/Library/Frameworks/R.framework/Versions/4.2/Resources/library/CytoTree’