Back to Multiple platform build/check report for BioC 3.14
AB[C]DEFGHIJKLMNOPQRSTUVWXYZ

BUILD results for CytoML on riesling1

This page was generated on 2021-06-12 12:05:00 -0400 (Sat, 12 Jun 2021).

Package 422/1993HostnameOS / ArchINSTALLBUILDCHECKBUILD BIN
CytoML 2.5.3  (landing page)
Mike Jiang
Snapshot Date: 2021-06-11 14:50:09 -0400 (Fri, 11 Jun 2021)
URL: https://git.bioconductor.org/packages/CytoML
Branch: master
Last Commit: a1c6ddb
Last Changed Date: 2021-06-08 14:56:28 -0400 (Tue, 08 Jun 2021)
nebbiolo2Linux (Ubuntu 20.04.2 LTS) / x86_64  OK    OK    WARNINGS  UNNEEDED, same version is already published
riesling1Windows Server 2019 Standard / x64  OK    OK    WARNINGS    OK  NO, package depends on 'flowWorkspace' which is not available
merida1macOS 10.14.6 Mojave / x86_64  OK    OK    WARNINGS    OK  UNNEEDED, same version is already published
To the developers/maintainers of the CytoML package:
- Please allow up to 24 hours (and sometimes 48 hours) for your latest push to git@git.bioconductor.org:packages/CytoML.git to
reflect on this report. See How and When does the builder pull? When will my changes propagate? here for more information.
- Make sure to use the following settings in order to reproduce any error or warning you see on this page.

Summary

Package: CytoML
Version: 2.5.3
Command: chmod a+r CytoML -R && D:\biocbuild\bbs-3.14-bioc\R\bin\R.exe CMD build --keep-empty-dirs --no-resave-data CytoML
StartedAt: 2021-06-11 19:32:21 -0400 (Fri, 11 Jun 2021)
EndedAt: 2021-06-11 19:36:32 -0400 (Fri, 11 Jun 2021)
EllapsedTime: 251.3 seconds
RetCode: 0
Status:   OK   
PackageFile: CytoML_2.5.3.tar.gz
PackageFileSize: 9.605 MiB

Command output

##############################################################################
##############################################################################
###
### Running command:
###
###   chmod a+r CytoML -R && D:\biocbuild\bbs-3.14-bioc\R\bin\R.exe CMD build --keep-empty-dirs --no-resave-data CytoML
###
##############################################################################
##############################################################################


* checking for file 'CytoML/DESCRIPTION' ... OK
* preparing 'CytoML':
* checking DESCRIPTION meta-information ... OK
* cleaning src
* installing the package to build vignettes
* creating vignettes ... OK
* cleaning src
* checking for LF line-endings in source and make files and shell scripts
* checking for empty or unneeded directories
Omitted 'LazyData' from DESCRIPTION
  NB: this package now depends on R (>= 3.5.0)
  WARNING: Added dependency on R >= 3.5.0 because serialized objects in
  serialize/load version 3 cannot be read in older versions of R.
  File(s) containing such objects:
    'CytoML/tests/testthat/expect_result/flowJoWorkspace_expect.rds'
* building 'CytoML_2.5.3.tar.gz'
Warning: file 'CytoML/configure' did not have execute permissions: corrected