Back to Multiple platform build/check report for BioC 3.14
AB[C]DEFGHIJKLMNOPQRSTUVWXYZ

This page was generated on 2021-07-31 12:05:34 -0400 (Sat, 31 Jul 2021).

BUILD results for CytoML on nebbiolo2

To the developers/maintainers of the CytoML package:
- Please allow up to 24 hours (and sometimes 48 hours) for your latest push to git@git.bioconductor.org:packages/CytoML.git to
reflect on this report. See How and When does the builder pull? When will my changes propagate? here for more information.
- Make sure to use the following settings in order to reproduce any error or warning you see on this page.

raw results

Package 427/2015HostnameOS / ArchINSTALLBUILDCHECKBUILD BIN
CytoML 2.5.3  (landing page)
Mike Jiang
Snapshot Date: 2021-07-30 14:50:06 -0400 (Fri, 30 Jul 2021)
URL: https://git.bioconductor.org/packages/CytoML
Branch: master
Last Commit: a1c6ddb
Last Changed Date: 2021-06-08 14:56:28 -0400 (Tue, 08 Jun 2021)
nebbiolo2Linux (Ubuntu 20.04.2 LTS) / x86_64  OK    OK    ERROR  
riesling1Windows Server 2019 Standard / x64  OK    OK    ERROR    OK  
merida1macOS 10.14.6 Mojave / x86_64  OK    OK    ERROR    OK  

Summary

Package: CytoML
Version: 2.5.3
Command: /home/biocbuild/bbs-3.14-bioc/R/bin/R CMD build --keep-empty-dirs --no-resave-data CytoML
StartedAt: 2021-07-30 17:01:50 -0400 (Fri, 30 Jul 2021)
EndedAt: 2021-07-30 17:03:37 -0400 (Fri, 30 Jul 2021)
EllapsedTime: 106.7 seconds
RetCode: 0
Status:   OK  
PackageFile: CytoML_2.5.3.tar.gz
PackageFileSize: 7.891 MiB

Command output

##############################################################################
##############################################################################
###
### Running command:
###
###   /home/biocbuild/bbs-3.14-bioc/R/bin/R CMD build --keep-empty-dirs --no-resave-data CytoML
###
##############################################################################
##############################################################################


* checking for file ‘CytoML/DESCRIPTION’ ... OK
* preparing ‘CytoML’:
* checking DESCRIPTION meta-information ... OK
* cleaning src
* installing the package to build vignettes
* creating vignettes ... OK
* cleaning src
* checking for LF line-endings in source and make files and shell scripts
* checking for empty or unneeded directories
Omitted ‘LazyData’ from DESCRIPTION
  NB: this package now depends on R (>= 3.5.0)
  WARNING: Added dependency on R >= 3.5.0 because serialized objects in
  serialize/load version 3 cannot be read in older versions of R.
  File(s) containing such objects:
    ‘CytoML/tests/testthat/expect_result/flowJoWorkspace_expect.rds’
* building ‘CytoML_2.5.3.tar.gz’