Back to Multiple platform build/check report for BioC 3.20:   simplified   long
AB[C]DEFGHIJKLMNOPQRSTUVWXYZ

This page was generated on 2024-07-01 11:41 -0400 (Mon, 01 Jul 2024).

HostnameOSArch (*)R versionInstalled pkgs
nebbiolo2Linux (Ubuntu 22.04.3 LTS)x86_644.4.0 RC (2024-04-16 r86468) -- "Puppy Cup" 4693
palomino6Windows Server 2022 Datacenterx644.4.1 (2024-06-14 ucrt) -- "Race for Your Life" 4409
lconwaymacOS 12.7.1 Montereyx86_644.4.1 RC (2024-06-06 r86719) -- "Race for Your Life" 4407
kjohnson3macOS 13.6.5 Venturaarm644.4.1 RC (2024-06-06 r86719) -- "Race for Your Life" 4356
kunpeng2Linux (openEuler 22.03 LTS-SP1)aarch644.4.0 (2024-04-24) -- "Puppy Cup" 4407
Click on any hostname to see more info about the system (e.g. compilers)      (*) as reported by 'uname -p', except on Windows and Mac OS X

Package 374/2243HostnameOS / ArchINSTALLBUILDCHECKBUILD BIN
ClustIRR 1.3.8  (landing page)
Simo Kitanovski
Snapshot Date: 2024-06-30 14:00 -0400 (Sun, 30 Jun 2024)
git_url: https://git.bioconductor.org/packages/ClustIRR
git_branch: devel
git_last_commit: 41f14f2
git_last_commit_date: 2024-06-28 17:33:30 -0400 (Fri, 28 Jun 2024)
nebbiolo2Linux (Ubuntu 22.04.3 LTS) / x86_64  OK    OK    WARNINGS  YES
palomino6Windows Server 2022 Datacenter / x64  OK    OK    WARNINGS    OK  
lconwaymacOS 12.7.1 Monterey / x86_64  OK    OK    WARNINGS    OK  YES
kjohnson3macOS 13.6.5 Ventura / arm64  OK    OK    WARNINGS    OK  YES
kunpeng2Linux (openEuler 22.03 LTS-SP1) / aarch64  OK    OK    WARNINGS  


BUILD BIN results for ClustIRR on lconway

To the developers/maintainers of the ClustIRR package:
- Allow up to 24 hours (and sometimes 48 hours) for your latest push to git@git.bioconductor.org:packages/ClustIRR.git to reflect on this report. See Troubleshooting Build Report for more information.
- Use the following Renviron settings to reproduce errors and warnings.
- If 'R CMD check' started to fail recently on the Linux builder(s) over a missing dependency, add the missing dependency to 'Suggests:' in your DESCRIPTION file. See Renviron.bioc for more information.

raw results


Summary

Package: ClustIRR
Version: 1.3.8
Command: rm -rf ClustIRR.buildbin-libdir && mkdir ClustIRR.buildbin-libdir && /Users/biocbuild/BBS/utils/build-universal.sh ClustIRR_1.3.8.tar.gz /Library/Frameworks/R.framework/Resources/bin/R ClustIRR.buildbin-libdir
StartedAt: 2024-07-01 00:42:59 -0400 (Mon, 01 Jul 2024)
EndedAt: 2024-07-01 00:43:18 -0400 (Mon, 01 Jul 2024)
EllapsedTime: 19.6 seconds
RetCode: 0
Status:   OK  
PackageFile: ClustIRR_1.3.8.tgz
PackageFileSize: 2.623 MiB

Command output

##############################################################################
##############################################################################
###
### Running command:
###
###   rm -rf ClustIRR.buildbin-libdir && mkdir ClustIRR.buildbin-libdir && /Users/biocbuild/BBS/utils/build-universal.sh ClustIRR_1.3.8.tar.gz /Library/Frameworks/R.framework/Resources/bin/R ClustIRR.buildbin-libdir
###
##############################################################################
##############################################################################


>>>>>>> 
>>>>>>> INSTALLATION WITH 'R CMD INSTALL --preclean --no-multiarch --library=ClustIRR.buildbin-libdir ClustIRR_1.3.8.tar.gz'
>>>>>>> 

* installing *source* package ‘ClustIRR’ ...
** using staged installation
** R
** data
** inst
** byte-compile and prepare package for lazy loading
** help
*** installing help indices
** building package indices
** installing vignettes
** testing if installed package can be loaded from temporary location
** testing if installed package can be loaded from final location
** testing if installed package keeps a record of temporary installation path
* DONE (ClustIRR)