Back to Multiple platform build/check report for BioC 3.14
AB[C]DEFGHIJKLMNOPQRSTUVWXYZ

This page was generated on 2021-06-17 12:05:26 -0400 (Thu, 17 Jun 2021).

INSTALL results for ClassifyR on riesling1

To the developers/maintainers of the ClassifyR package:
- Please allow up to 24 hours (and sometimes 48 hours) for your latest push to git@git.bioconductor.org:packages/ClassifyR.git to
reflect on this report. See How and When does the builder pull? When will my changes propagate? here for more information.
- Make sure to use the following settings in order to reproduce any error or warning you see on this page.

raw results

Package 308/1993HostnameOS / ArchINSTALLBUILDCHECKBUILD BIN
ClassifyR 2.13.2  (landing page)
Dario Strbenac
Snapshot Date: 2021-06-16 14:50:06 -0400 (Wed, 16 Jun 2021)
URL: https://git.bioconductor.org/packages/ClassifyR
Branch: master
Last Commit: 354813f
Last Changed Date: 2021-06-10 01:42:44 -0400 (Thu, 10 Jun 2021)
nebbiolo2Linux (Ubuntu 20.04.2 LTS) / x86_64  OK    OK    OK  UNNEEDED, same version is already published
riesling1Windows Server 2019 Standard / x64  OK    OK    OK    OK  UNNEEDED, same version is already published
merida1macOS 10.14.6 Mojave / x86_64  OK    OK    OK    OK  UNNEEDED, same version is already published

Summary

Package: ClassifyR
Version: 2.13.2
Command: C:\cygwin\bin\curl.exe -O http://155.52.207.166/BBS/3.14/bioc/src/contrib/ClassifyR_2.13.2.tar.gz && rm -rf ClassifyR.buildbin-libdir && mkdir ClassifyR.buildbin-libdir && D:\biocbuild\bbs-3.14-bioc\R\bin\R.exe CMD INSTALL --merge-multiarch --build --library=ClassifyR.buildbin-libdir ClassifyR_2.13.2.tar.gz && D:\biocbuild\bbs-3.14-bioc\R\bin\R.exe CMD INSTALL ClassifyR_2.13.2.zip && rm ClassifyR_2.13.2.tar.gz ClassifyR_2.13.2.zip
StartedAt: 2021-06-16 17:50:43 -0400 (Wed, 16 Jun 2021)
EndedAt: 2021-06-16 17:53:24 -0400 (Wed, 16 Jun 2021)
EllapsedTime: 161.4 seconds
RetCode: 0
Status:   OK  

Command output

##############################################################################
##############################################################################
###
### Running command:
###
###   C:\cygwin\bin\curl.exe -O http://155.52.207.166/BBS/3.14/bioc/src/contrib/ClassifyR_2.13.2.tar.gz && rm -rf ClassifyR.buildbin-libdir && mkdir ClassifyR.buildbin-libdir && D:\biocbuild\bbs-3.14-bioc\R\bin\R.exe CMD INSTALL --merge-multiarch --build --library=ClassifyR.buildbin-libdir ClassifyR_2.13.2.tar.gz && D:\biocbuild\bbs-3.14-bioc\R\bin\R.exe CMD INSTALL ClassifyR_2.13.2.zip && rm ClassifyR_2.13.2.tar.gz ClassifyR_2.13.2.zip
###
##############################################################################
##############################################################################


  % Total    % Received % Xferd  Average Speed   Time    Time     Time  Current
                                 Dload  Upload   Total   Spent    Left  Speed

  0     0    0     0    0     0      0      0 --:--:-- --:--:-- --:--:--     0
100 1011k  100 1011k    0     0  4340k      0 --:--:-- --:--:-- --:--:-- 4340k

install for i386

* installing *source* package 'ClassifyR' ...
** using staged installation
** R
** data
** inst
** byte-compile and prepare package for lazy loading
** help
*** installing help indices
  converting help for package 'ClassifyR'
    finding HTML links ... done
    ClassifyResult-class                    html  
    finding level-2 HTML links ... done

    DLDAinterface                           html  
    DMDselection                            html  
    EasyHardClassifier-class                html  
    FeatureSetCollection-class              html  
    FeatureSetCollectionOrNULL-class        html  
    KolmogorovSmirnovSelection              html  
    KullbackLeiblerSelection                html  
    MixModelsListsSet-class                 html  
    NSCpredictInterface                     html  
    NSCselectionInterface                   html  
    NSCtrainInterface                       html  
    PredictParams-class                     html  
    ROCplot                                 html  
    ResubstituteParams-class                html  
    SVMinterface                            html  
    SelectParams-class                      html  
    SelectResult-class                      html  
    TrainParams-class                       html  
    TransformParams-class                   html  
    asthmaDataset                           html  
    bartlettSelection                       html  
    calcPerformance                         html  
    characterOrDataFrame-class              html  
    classifyInterface                       html  
    differentMeansSelection                 html  
    distribution                            html  
    dlda-class                              html  
    easyHardClassifier                      html  
REDIRECT:topic	 Previous alias or file overwritten by alias: D:/biocbuild/bbs-3.14-bioc/meat/ClassifyR.buildbin-libdir/00LOCK-ClassifyR/00new/ClassifyR/help/easyHardClassifier.html
    easyHardFeatures                        html  
    edgeRselection                          html  
    edgesToHubNetworks                      html  
    elasticNetFeatures                      html  
    elasticNetGLMinterface                  html  
    featureSetSummary                       html  
    fisherDiscriminant                      html  
    forestFeatures                          html  
    functionOrList-class                    html  
    functionOrNULL-class                    html  
    getLocationsAndScales                   html  
    integerOrNumeric-class                  html  
    interactorDifferences                   html  
    kTSPclassifier                          html  
    knnInterface                            html  
    leveneSelection                         html  
    likelihoodRatioSelection                html  
    limmaSelection                          html  
    listOrCharacterOrNULL-class             html  
    listOrNULL-class                        html  
    mixmodels                               html  
    multnet-class                           html  
    naiveBayesKernel                        html  
    networkCorrelationsSelection            html  
    pairsDifferencesSelection               html  
    pamrtrained-class                       html  
    performancePlot                         html  
    plotFeatureClasses                      html  
    previousSelection                       html  
    previousTrained                         html  
    randomForest-class                      html  
    randomForestInterface                   html  
    rankingPlot                             html  
    runTest                                 html  
    runTests                                html  
    samplesMetricMap                        html  
    selectionPlot                           html  
    subtractFromLocation                    html  
    svm-class                               html  
** building package indices
** installing vignettes
** testing if installed package can be loaded from temporary location
** testing if installed package can be loaded from final location
** testing if installed package keeps a record of temporary installation path

install for x64

* installing *source* package 'ClassifyR' ...
** testing if installed package can be loaded
* MD5 sums
packaged installation of 'ClassifyR' as ClassifyR_2.13.2.zip
* DONE (ClassifyR)
* installing to library 'D:/biocbuild/bbs-3.14-bioc/R/library'
package 'ClassifyR' successfully unpacked and MD5 sums checked