Back to Multiple platform build/check report for BioC 3.14
AB[C]DEFGHIJKLMNOPQRSTUVWXYZ

This page was generated on 2021-06-23 12:04:28 -0400 (Wed, 23 Jun 2021).

CHECK results for ChIPpeakAnno on riesling1

To the developers/maintainers of the ChIPpeakAnno package:
- Please allow up to 24 hours (and sometimes 48 hours) for your latest push to git@git.bioconductor.org:packages/ChIPpeakAnno.git to
reflect on this report. See How and When does the builder pull? When will my changes propagate? here for more information.
- Make sure to use the following settings in order to reproduce any error or warning you see on this page.

raw results

Package 286/1993HostnameOS / ArchINSTALLBUILDCHECKBUILD BIN
ChIPpeakAnno 3.27.0  (landing page)
Jianhong Ou
Snapshot Date: 2021-06-22 14:50:07 -0400 (Tue, 22 Jun 2021)
URL: https://git.bioconductor.org/packages/ChIPpeakAnno
Branch: master
Last Commit: 3aa31ea
Last Changed Date: 2021-05-19 11:43:39 -0400 (Wed, 19 May 2021)
nebbiolo2Linux (Ubuntu 20.04.2 LTS) / x86_64  OK    OK    OK  UNNEEDED, same version is already published
riesling1Windows Server 2019 Standard / x64  OK    OK    OK    OK  UNNEEDED, same version is already published
merida1macOS 10.14.6 Mojave / x86_64  OK    OK    OK    OK  UNNEEDED, same version is already published

Summary

Package: ChIPpeakAnno
Version: 3.27.0
Command: D:\biocbuild\bbs-3.14-bioc\R\bin\R.exe CMD check --force-multiarch --install=check:ChIPpeakAnno.install-out.txt --library=D:\biocbuild\bbs-3.14-bioc\R\library --no-vignettes --timings ChIPpeakAnno_3.27.0.tar.gz
StartedAt: 2021-06-22 23:39:50 -0400 (Tue, 22 Jun 2021)
EndedAt: 2021-06-22 23:52:44 -0400 (Tue, 22 Jun 2021)
EllapsedTime: 774.3 seconds
RetCode: 0
Status:   OK  
CheckDir: ChIPpeakAnno.Rcheck
Warnings: 0

Command output

##############################################################################
##############################################################################
###
### Running command:
###
###   D:\biocbuild\bbs-3.14-bioc\R\bin\R.exe CMD check --force-multiarch --install=check:ChIPpeakAnno.install-out.txt --library=D:\biocbuild\bbs-3.14-bioc\R\library --no-vignettes --timings ChIPpeakAnno_3.27.0.tar.gz
###
##############################################################################
##############################################################################


* using log directory 'D:/biocbuild/bbs-3.14-bioc/meat/ChIPpeakAnno.Rcheck'
* using R version 4.1.0 (2021-05-18)
* using platform: x86_64-w64-mingw32 (64-bit)
* using session charset: ISO8859-1
* using option '--no-vignettes'
* checking for file 'ChIPpeakAnno/DESCRIPTION' ... OK
* checking extension type ... Package
* this is package 'ChIPpeakAnno' version '3.27.0'
* package encoding: UTF-8
* checking package namespace information ... OK
* checking package dependencies ... OK
* checking if this is a source package ... OK
* checking if there is a namespace ... OK
* checking for hidden files and directories ... OK
* checking for portable file names ... OK
* checking whether package 'ChIPpeakAnno' can be installed ... OK
* checking installed package size ... NOTE
  installed size is 19.6Mb
  sub-directories of 1Mb or more:
    data     12.6Mb
    extdata   5.2Mb
* checking package directory ... OK
* checking 'build' directory ... OK
* checking DESCRIPTION meta-information ... OK
* checking top-level files ... OK
* checking for left-over files ... OK
* checking index information ... OK
* checking package subdirectories ... OK
* checking R files for non-ASCII characters ... OK
* checking R files for syntax errors ... OK
* loading checks for arch 'i386'
** checking whether the package can be loaded ... OK
** checking whether the package can be loaded with stated dependencies ... OK
** checking whether the package can be unloaded cleanly ... OK
** checking whether the namespace can be loaded with stated dependencies ... OK
** checking whether the namespace can be unloaded cleanly ... OK
* loading checks for arch 'x64'
** checking whether the package can be loaded ... OK
** checking whether the package can be loaded with stated dependencies ... OK
** checking whether the package can be unloaded cleanly ... OK
** checking whether the namespace can be loaded with stated dependencies ... OK
** checking whether the namespace can be unloaded cleanly ... OK
* checking dependencies in R code ... OK
* checking S3 generic/method consistency ... OK
* checking replacement functions ... OK
* checking foreign function calls ... OK
* checking R code for possible problems ... OK
* checking Rd files ... OK
* checking Rd metadata ... OK
* checking Rd cross-references ... OK
* checking for missing documentation entries ... OK
* checking for code/documentation mismatches ... OK
* checking Rd \usage sections ... OK
* checking Rd contents ... OK
* checking for unstated dependencies in examples ... OK
* checking contents of 'data' directory ... OK
* checking data for non-ASCII characters ... OK
* checking LazyData ... OK
* checking data for ASCII and uncompressed saves ... OK
* checking files in 'vignettes' ... OK
* checking examples ...
** running examples for arch 'i386' ... OK
Examples with CPU (user + system) or elapsed time > 5s
                          user system elapsed
findEnhancers            18.81   0.17   18.98
findMotifsInPromoterSeqs  8.68   0.13    8.92
annotatePeakInBatch       7.81   0.31    8.12
summarizeOverlapsByBins   1.55   0.00   11.97
tileCount                 0.73   0.00   11.19
** running examples for arch 'x64' ... OK
Examples with CPU (user + system) or elapsed time > 5s
                          user system elapsed
findEnhancers            19.09   0.30   19.39
annotatePeakInBatch       9.80   0.31   10.14
findMotifsInPromoterSeqs  8.27   0.08    8.35
summarizeOverlapsByBins   1.97   0.02   14.37
tileCount                 0.97   0.00   12.53
* checking for unstated dependencies in 'tests' ... OK
* checking tests ...
** running tests for arch 'i386' ...
  Running 'runTests.R'
 OK
** running tests for arch 'x64' ...
  Running 'runTests.R'
 OK
* checking for unstated dependencies in vignettes ... OK
* checking package vignettes in 'inst/doc' ... OK
* checking running R code from vignettes ... SKIPPED
* checking re-building of vignette outputs ... SKIPPED
* checking PDF version of manual ... OK
* DONE

Status: 1 NOTE
See
  'D:/biocbuild/bbs-3.14-bioc/meat/ChIPpeakAnno.Rcheck/00check.log'
for details.



Installation output

ChIPpeakAnno.Rcheck/00install.out

##############################################################################
##############################################################################
###
### Running command:
###
###   C:\cygwin\bin\curl.exe -O http://155.52.207.166/BBS/3.14/bioc/src/contrib/ChIPpeakAnno_3.27.0.tar.gz && rm -rf ChIPpeakAnno.buildbin-libdir && mkdir ChIPpeakAnno.buildbin-libdir && D:\biocbuild\bbs-3.14-bioc\R\bin\R.exe CMD INSTALL --merge-multiarch --build --library=ChIPpeakAnno.buildbin-libdir ChIPpeakAnno_3.27.0.tar.gz && D:\biocbuild\bbs-3.14-bioc\R\bin\R.exe CMD INSTALL ChIPpeakAnno_3.27.0.zip && rm ChIPpeakAnno_3.27.0.tar.gz ChIPpeakAnno_3.27.0.zip
###
##############################################################################
##############################################################################


  % Total    % Received % Xferd  Average Speed   Time    Time     Time  Current
                                 Dload  Upload   Total   Spent    Left  Speed

  0     0    0     0    0     0      0      0 --:--:-- --:--:-- --:--:--     0
  2 15.6M    2  351k    0     0  2070k      0  0:00:07 --:--:--  0:00:07 2058k
 50 15.6M   50 8173k    0     0  6956k      0  0:00:02  0:00:01  0:00:01 6950k
100 15.6M  100 15.6M    0     0  8338k      0  0:00:01  0:00:01 --:--:-- 8338k

install for i386

* installing *source* package 'ChIPpeakAnno' ...
** using staged installation
** R
** data
*** moving datasets to lazyload DB
** inst
** byte-compile and prepare package for lazy loading
** help
*** installing help indices
  converting help for package 'ChIPpeakAnno'
    finding HTML links ... done
    ChIPpeakAnno-deprecated                 html  
    ChIPpeakAnno-package                    html  
    EnsDb2GR                                html  
    ExonPlusUtr.human.GRCh37                html  
    HOT.spots                               html  
    IDRfilter                               html  
    Peaks.Ste12.Replicate1                  html  
    Peaks.Ste12.Replicate2                  html  
    Peaks.Ste12.Replicate3                  html  
    TSS.human.GRCh37                        html  
    TSS.human.GRCh38                        html  
    TSS.human.NCBI36                        html  
    TSS.mouse.GRCm38                        html  
    TSS.mouse.NCBIM37                       html  
    TSS.rat.RGSC3.4                         html  
    TSS.rat.Rnor_5.0                        html  
    TSS.zebrafish.Zv8                       html  
    TSS.zebrafish.Zv9                       html  
    TxDb2GR                                 html  
    addAncestors                            html  
    addGeneIDs                              html  
    addMetadata                             html  
    annoGR                                  html  
    annoPeaks                               html  
    annotatePeakInBatch                     html  
    annotatedPeak                           html  
    assignChromosomeRegion                  html  
    bdp                                     html  
    binOverFeature                          html  
    binOverGene                             html  
    binOverRegions                          html  
    bindist                                 html  
REDIRECT:topic	 $<-,bindist-method -> bindist.html [ FAIL ]
    cntOverlaps                             html  
    condenseMatrixByColnames                html  
    convert2EntrezID                        html  
    countPatternInSeqs                      html  
    cumulativePercentage                    html  
    downstreams                             html  
    egOrgMap                                html  
    enrichedGO                              html  
    enrichmentPlot                          html  
    estFragmentLength                       html  
    estLibSize                              html  
    featureAlignedDistribution              html  
    featureAlignedExtendSignal              html  
    featureAlignedHeatmap                   html  
    featureAlignedSignal                    html  
    findEnhancers                           html  
    findMotifsInPromoterSeqs                html  
    findOverlappingPeaks                    html  
    findOverlapsOfPeaks                     html  
    genomicElementDistribution              html  
    genomicElementUpSetR                    html  
    getAllPeakSequence                      html  
    getAnnotation                           html  
    getEnrichedGO                           html  
    getEnrichedPATH                         html  
    getGO                                   html  
    getGeneSeq                              html  
    getUniqueGOidCount                      html  
    getVennCounts                           html  
    hyperGtest                              html  
    makeVennDiagram                         html  
    mergePlusMinusPeaks                     html  
    metagenePlot                            html  
    myPeakList                              html  
    oligoFrequency                          html  
    oligoSummary                            html  
    peakPermTest                            html  
    peaksNearBDP                            html  
    permPool                                html  
REDIRECT:topic	 $<-,permPool-method -> permPool.html [ FAIL ]
    pie1                                    html  
    plotBinOverRegions                      html  
    preparePool                             html  
    reCenterPeaks                           html  
    summarizeOverlapsByBins                 html  
    summarizePatternInPeaks                 html  
    tileCount                               html  
    tileGRanges                             html  
    toGRanges                               html  
    translatePattern                        html  
    wgEncodeTfbsV3                          html  
    write2FASTA                             html  
    xget                                    html  
** building package indices
** installing vignettes
** testing if installed package can be loaded from temporary location
** testing if installed package can be loaded from final location
** testing if installed package keeps a record of temporary installation path

install for x64

* installing *source* package 'ChIPpeakAnno' ...
** testing if installed package can be loaded
* MD5 sums
packaged installation of 'ChIPpeakAnno' as ChIPpeakAnno_3.27.0.zip
* DONE (ChIPpeakAnno)
* installing to library 'D:/biocbuild/bbs-3.14-bioc/R/library'
package 'ChIPpeakAnno' successfully unpacked and MD5 sums checked

Tests output

ChIPpeakAnno.Rcheck/tests_i386/runTests.Rout


R version 4.1.0 (2021-05-18) -- "Camp Pontanezen"
Copyright (C) 2021 The R Foundation for Statistical Computing
Platform: i386-w64-mingw32/i386 (32-bit)

R is free software and comes with ABSOLUTELY NO WARRANTY.
You are welcome to redistribute it under certain conditions.
Type 'license()' or 'licence()' for distribution details.

R is a collaborative project with many contributors.
Type 'contributors()' for more information and
'citation()' on how to cite R or R packages in publications.

Type 'demo()' for some demos, 'help()' for on-line help, or
'help.start()' for an HTML browser interface to help.
Type 'q()' to quit R.

> require("ChIPpeakAnno") || stop("unable to load Package:ChIPpeakAnno")
Loading required package: ChIPpeakAnno
Loading required package: IRanges
Loading required package: BiocGenerics

Attaching package: 'BiocGenerics'

The following objects are masked from 'package:stats':

    IQR, mad, sd, var, xtabs

The following objects are masked from 'package:base':

    Filter, Find, Map, Position, Reduce, anyDuplicated, append,
    as.data.frame, basename, cbind, colnames, dirname, do.call,
    duplicated, eval, evalq, get, grep, grepl, intersect, is.unsorted,
    lapply, mapply, match, mget, order, paste, pmax, pmax.int, pmin,
    pmin.int, rank, rbind, rownames, sapply, setdiff, sort, table,
    tapply, union, unique, unsplit, which.max, which.min

Loading required package: S4Vectors
Loading required package: stats4

Attaching package: 'S4Vectors'

The following objects are masked from 'package:base':

    I, expand.grid, unname


Attaching package: 'IRanges'

The following object is masked from 'package:grDevices':

    windows

Loading required package: GenomicRanges
Loading required package: GenomeInfoDb
[1] TRUE
> require("BSgenome.Drerio.UCSC.danRer7") || stop("unable to load Package:BSgenome.Drerio.UCSC.danRer7")
Loading required package: BSgenome.Drerio.UCSC.danRer7
Loading required package: BSgenome
Loading required package: Biostrings
Loading required package: XVector

Attaching package: 'Biostrings'

The following object is masked from 'package:base':

    strsplit

Loading required package: rtracklayer
[1] TRUE
> require("org.Hs.eg.db") || stop("unable to load Package:org.Hs.eg.db")
Loading required package: org.Hs.eg.db
Loading required package: AnnotationDbi
Loading required package: Biobase
Welcome to Bioconductor

    Vignettes contain introductory material; view with
    'browseVignettes()'. To cite Bioconductor, see
    'citation("Biobase")', and for packages 'citation("pkgname")'.


[1] TRUE
> require("org.Ce.eg.db") || stop("unable to load Package:org.Ce.eg.db")
Loading required package: org.Ce.eg.db

[1] TRUE
> require("BSgenome.Celegans.UCSC.ce10") || stop("unable to load Package:BSgenome.Celegans.UCSC.ce10")
Loading required package: BSgenome.Celegans.UCSC.ce10
[1] TRUE
> require("EnsDb.Hsapiens.v79") || stop("unable to load Package:EnsDb.Hsapiens.v79")
Loading required package: EnsDb.Hsapiens.v79
Loading required package: ensembldb
Loading required package: GenomicFeatures
Loading required package: AnnotationFilter

Attaching package: 'ensembldb'

The following object is masked from 'package:stats':

    filter

[1] TRUE
> require("TxDb.Hsapiens.UCSC.hg38.knownGene") || stop("unable to load TxDb.Hsapiens.UCSC.hg38.knownGene")
Loading required package: TxDb.Hsapiens.UCSC.hg38.knownGene
[1] TRUE
> require("biomaRt") || stop("unable to load biomaRt")
Loading required package: biomaRt
[1] TRUE
> require("testthat") || stop("unable to load testthat")
Loading required package: testthat

Attaching package: 'testthat'

The following object is masked from 'package:AnnotationFilter':

    not

[1] TRUE
> test_check("ChIPpeakAnno")
== Skipped tests ===============================================================
* empty test (5)

[ FAIL 0 | WARN 1 | SKIP 5 | PASS 214 ]
> 
> proc.time()
   user  system elapsed 
  72.62    2.68   78.59 

ChIPpeakAnno.Rcheck/tests_x64/runTests.Rout


R version 4.1.0 (2021-05-18) -- "Camp Pontanezen"
Copyright (C) 2021 The R Foundation for Statistical Computing
Platform: x86_64-w64-mingw32/x64 (64-bit)

R is free software and comes with ABSOLUTELY NO WARRANTY.
You are welcome to redistribute it under certain conditions.
Type 'license()' or 'licence()' for distribution details.

R is a collaborative project with many contributors.
Type 'contributors()' for more information and
'citation()' on how to cite R or R packages in publications.

Type 'demo()' for some demos, 'help()' for on-line help, or
'help.start()' for an HTML browser interface to help.
Type 'q()' to quit R.

> require("ChIPpeakAnno") || stop("unable to load Package:ChIPpeakAnno")
Loading required package: ChIPpeakAnno
Loading required package: IRanges
Loading required package: BiocGenerics

Attaching package: 'BiocGenerics'

The following objects are masked from 'package:stats':

    IQR, mad, sd, var, xtabs

The following objects are masked from 'package:base':

    Filter, Find, Map, Position, Reduce, anyDuplicated, append,
    as.data.frame, basename, cbind, colnames, dirname, do.call,
    duplicated, eval, evalq, get, grep, grepl, intersect, is.unsorted,
    lapply, mapply, match, mget, order, paste, pmax, pmax.int, pmin,
    pmin.int, rank, rbind, rownames, sapply, setdiff, sort, table,
    tapply, union, unique, unsplit, which.max, which.min

Loading required package: S4Vectors
Loading required package: stats4

Attaching package: 'S4Vectors'

The following objects are masked from 'package:base':

    I, expand.grid, unname


Attaching package: 'IRanges'

The following object is masked from 'package:grDevices':

    windows

Loading required package: GenomicRanges
Loading required package: GenomeInfoDb
[1] TRUE
> require("BSgenome.Drerio.UCSC.danRer7") || stop("unable to load Package:BSgenome.Drerio.UCSC.danRer7")
Loading required package: BSgenome.Drerio.UCSC.danRer7
Loading required package: BSgenome
Loading required package: Biostrings
Loading required package: XVector

Attaching package: 'Biostrings'

The following object is masked from 'package:base':

    strsplit

Loading required package: rtracklayer
[1] TRUE
> require("org.Hs.eg.db") || stop("unable to load Package:org.Hs.eg.db")
Loading required package: org.Hs.eg.db
Loading required package: AnnotationDbi
Loading required package: Biobase
Welcome to Bioconductor

    Vignettes contain introductory material; view with
    'browseVignettes()'. To cite Bioconductor, see
    'citation("Biobase")', and for packages 'citation("pkgname")'.


[1] TRUE
> require("org.Ce.eg.db") || stop("unable to load Package:org.Ce.eg.db")
Loading required package: org.Ce.eg.db

[1] TRUE
> require("BSgenome.Celegans.UCSC.ce10") || stop("unable to load Package:BSgenome.Celegans.UCSC.ce10")
Loading required package: BSgenome.Celegans.UCSC.ce10
[1] TRUE
> require("EnsDb.Hsapiens.v79") || stop("unable to load Package:EnsDb.Hsapiens.v79")
Loading required package: EnsDb.Hsapiens.v79
Loading required package: ensembldb
Loading required package: GenomicFeatures
Loading required package: AnnotationFilter

Attaching package: 'ensembldb'

The following object is masked from 'package:stats':

    filter

[1] TRUE
> require("TxDb.Hsapiens.UCSC.hg38.knownGene") || stop("unable to load TxDb.Hsapiens.UCSC.hg38.knownGene")
Loading required package: TxDb.Hsapiens.UCSC.hg38.knownGene
[1] TRUE
> require("biomaRt") || stop("unable to load biomaRt")
Loading required package: biomaRt
[1] TRUE
> require("testthat") || stop("unable to load testthat")
Loading required package: testthat

Attaching package: 'testthat'

The following object is masked from 'package:AnnotationFilter':

    not

[1] TRUE
> test_check("ChIPpeakAnno")
== Skipped tests ===============================================================
* empty test (5)

[ FAIL 0 | WARN 1 | SKIP 5 | PASS 214 ]
> 
> proc.time()
   user  system elapsed 
  72.93    2.64   78.03 

Example timings

ChIPpeakAnno.Rcheck/examples_i386/ChIPpeakAnno-Ex.timings

nameusersystemelapsed
ChIPpeakAnno-package000
ExonPlusUtr.human.GRCh372.310.062.37
HOT.spots0.150.000.15
IDRfilter0.020.000.02
Peaks.Ste12.Replicate10.060.000.06
Peaks.Ste12.Replicate20.030.000.03
Peaks.Ste12.Replicate30.030.000.04
TSS.human.GRCh370.220.020.23
TSS.human.GRCh380.170.000.17
TSS.human.NCBI360.140.000.14
TSS.mouse.GRCm380.130.000.12
TSS.mouse.NCBIM370.110.010.13
TSS.rat.RGSC3.40.090.000.09
TSS.rat.Rnor_5.00.060.000.06
TSS.zebrafish.Zv80.070.020.08
TSS.zebrafish.Zv90.060.010.08
addAncestors0.830.080.91
addGeneIDs1.611.052.65
addMetadata1.140.011.16
annoGR000
annoPeaks1.950.223.58
annotatePeakInBatch7.810.318.12
annotatedPeak0.050.000.05
assignChromosomeRegion0.020.000.01
bdp000
binOverFeature0.670.020.69
binOverGene000
binOverRegions000
condenseMatrixByColnames000
convert2EntrezID0.230.000.23
countPatternInSeqs0.110.000.11
cumulativePercentage000
downstreams0.030.000.03
egOrgMap000
enrichedGO000
enrichmentPlot0.360.000.36
estFragmentLength000
estLibSize000
featureAlignedDistribution0.170.000.17
featureAlignedExtendSignal0.020.000.02
featureAlignedHeatmap0.260.000.27
featureAlignedSignal0.240.010.25
findEnhancers18.81 0.1718.98
findMotifsInPromoterSeqs8.680.138.92
findOverlappingPeaks000
findOverlapsOfPeaks0.50.00.5
genomicElementDistribution000
genomicElementUpSetR000
getAllPeakSequence0.470.010.48
getAnnotation000
getEnrichedGO0.000.020.02
getEnrichedPATH000
getGO000
getGeneSeq000
getUniqueGOidCount000
getVennCounts000
hyperGtest0.020.000.01
makeVennDiagram000
mergePlusMinusPeaks000
metagenePlot2.300.032.33
myPeakList0.010.000.02
oligoFrequency0.080.050.12
oligoSummary000
peakPermTest0.030.000.03
peaksNearBDP000
pie1000
plotBinOverRegions000
preparePool000
reCenterPeaks0.030.000.03
summarizeOverlapsByBins 1.55 0.0011.97
summarizePatternInPeaks0.390.020.40
tileCount 0.73 0.0011.19
tileGRanges0.040.000.03
toGRanges0.070.000.08
translatePattern000
wgEncodeTfbsV30.210.000.20
write2FASTA0.010.000.02
xget0.050.010.06

ChIPpeakAnno.Rcheck/examples_x64/ChIPpeakAnno-Ex.timings

nameusersystemelapsed
ChIPpeakAnno-package000
ExonPlusUtr.human.GRCh372.550.032.58
HOT.spots0.10.00.1
IDRfilter000
Peaks.Ste12.Replicate10.030.020.05
Peaks.Ste12.Replicate20.000.010.01
Peaks.Ste12.Replicate30.020.020.03
TSS.human.GRCh370.120.030.16
TSS.human.GRCh380.110.010.12
TSS.human.NCBI360.060.020.08
TSS.mouse.GRCm380.080.000.08
TSS.mouse.NCBIM370.050.030.08
TSS.rat.RGSC3.40.040.020.06
TSS.rat.Rnor_5.00.040.030.06
TSS.zebrafish.Zv80.060.000.07
TSS.zebrafish.Zv90.040.010.06
addAncestors0.800.020.81
addGeneIDs1.920.802.72
addMetadata1.110.121.23
annoGR000
annoPeaks1.750.343.03
annotatePeakInBatch 9.80 0.3110.14
annotatedPeak0.050.000.05
assignChromosomeRegion000
bdp000
binOverFeature0.680.020.70
binOverGene000
binOverRegions000
condenseMatrixByColnames000
convert2EntrezID0.240.000.24
countPatternInSeqs0.120.000.12
cumulativePercentage000
downstreams0.020.000.02
egOrgMap000
enrichedGO000
enrichmentPlot0.290.000.28
estFragmentLength000
estLibSize000
featureAlignedDistribution0.200.000.21
featureAlignedExtendSignal000
featureAlignedHeatmap0.340.000.34
featureAlignedSignal0.160.010.17
findEnhancers19.09 0.3019.39
findMotifsInPromoterSeqs8.270.088.35
findOverlappingPeaks000
findOverlapsOfPeaks0.460.000.45
genomicElementDistribution000
genomicElementUpSetR000
getAllPeakSequence0.500.010.52
getAnnotation000
getEnrichedGO000
getEnrichedPATH000
getGO0.000.010.02
getGeneSeq000
getUniqueGOidCount000
getVennCounts000
hyperGtest000
makeVennDiagram000
mergePlusMinusPeaks000
metagenePlot1.590.021.61
myPeakList0.020.000.01
oligoFrequency0.110.010.13
oligoSummary000
peakPermTest000
peaksNearBDP000
pie1000
plotBinOverRegions000
preparePool000
reCenterPeaks0.030.000.03
summarizeOverlapsByBins 1.97 0.0214.37
summarizePatternInPeaks0.670.000.68
tileCount 0.97 0.0012.53
tileGRanges0.050.000.05
toGRanges0.160.000.16
translatePattern000
wgEncodeTfbsV30.180.000.18
write2FASTA0.020.000.02
xget0.080.000.08