Back to Multiple platform build/check report for BioC 3.14
AB[C]DEFGHIJKLMNOPQRSTUVWXYZ

This page was generated on 2021-06-21 12:05:29 -0400 (Mon, 21 Jun 2021).

BUILD results for ChIPpeakAnno on riesling1

To the developers/maintainers of the ChIPpeakAnno package:
- Please allow up to 24 hours (and sometimes 48 hours) for your latest push to git@git.bioconductor.org:packages/ChIPpeakAnno.git to
reflect on this report. See How and When does the builder pull? When will my changes propagate? here for more information.
- Make sure to use the following settings in order to reproduce any error or warning you see on this page.

raw results

Package 286/1993HostnameOS / ArchINSTALLBUILDCHECKBUILD BIN
ChIPpeakAnno 3.27.0  (landing page)
Jianhong Ou
Snapshot Date: 2021-06-20 14:50:05 -0400 (Sun, 20 Jun 2021)
URL: https://git.bioconductor.org/packages/ChIPpeakAnno
Branch: master
Last Commit: 3aa31ea
Last Changed Date: 2021-05-19 11:43:39 -0400 (Wed, 19 May 2021)
nebbiolo2Linux (Ubuntu 20.04.2 LTS) / x86_64  OK    OK    OK  UNNEEDED, same version is already published
riesling1Windows Server 2019 Standard / x64  OK    OK    OK    OK  UNNEEDED, same version is already published
merida1macOS 10.14.6 Mojave / x86_64  OK    OK    OK    OK  UNNEEDED, same version is already published

Summary

Package: ChIPpeakAnno
Version: 3.27.0
Command: chmod a+r ChIPpeakAnno -R && D:\biocbuild\bbs-3.14-bioc\R\bin\R.exe CMD build --keep-empty-dirs --no-resave-data ChIPpeakAnno
StartedAt: 2021-06-20 19:17:12 -0400 (Sun, 20 Jun 2021)
EndedAt: 2021-06-20 19:25:14 -0400 (Sun, 20 Jun 2021)
EllapsedTime: 481.9 seconds
RetCode: 0
Status:   OK  
PackageFile: ChIPpeakAnno_3.27.0.tar.gz
PackageFileSize: 17.54 MiB

Command output

##############################################################################
##############################################################################
###
### Running command:
###
###   chmod a+r ChIPpeakAnno -R && D:\biocbuild\bbs-3.14-bioc\R\bin\R.exe CMD build --keep-empty-dirs --no-resave-data ChIPpeakAnno
###
##############################################################################
##############################################################################


* checking for file 'ChIPpeakAnno/DESCRIPTION' ... OK
* preparing 'ChIPpeakAnno':
* checking DESCRIPTION meta-information ... OK
* installing the package to build vignettes
* creating vignettes ... OK
* checking for LF line-endings in source and make files and shell scripts
* checking for empty or unneeded directories
* building 'ChIPpeakAnno_3.27.0.tar.gz'