Back to Multiple platform build/check report for BioC 3.14
AB[C]DEFGHIJKLMNOPQRSTUVWXYZ

This page was generated on 2021-09-21 12:05:58 -0400 (Tue, 21 Sep 2021).

BUILD BIN results for ChIPpeakAnno on riesling1

To the developers/maintainers of the ChIPpeakAnno package:
- Please allow up to 24 hours (and sometimes 48 hours) for your latest push to git@git.bioconductor.org:packages/ChIPpeakAnno.git to
reflect on this report. See How and When does the builder pull? When will my changes propagate? here for more information.
- Make sure to use the following settings in order to reproduce any error or warning you see on this page.

raw results

Package 292/2029HostnameOS / ArchINSTALLBUILDCHECKBUILD BIN
ChIPpeakAnno 3.27.6  (landing page)
Jianhong Ou
Snapshot Date: 2021-09-20 14:50:09 -0400 (Mon, 20 Sep 2021)
git_url: https://git.bioconductor.org/packages/ChIPpeakAnno
git_branch: master
git_last_commit: 66a9c05
git_last_commit_date: 2021-09-09 15:08:28 -0400 (Thu, 09 Sep 2021)
nebbiolo2Linux (Ubuntu 20.04.2 LTS) / x86_64  OK    OK    OK  UNNEEDED, same version is already published
riesling1Windows Server 2019 Standard / x64  OK    OK    ERROR    OK  
merida1macOS 10.14.6 Mojave / x86_64  OK    OK    OK    OK  UNNEEDED, same version is already published

Summary

Package: ChIPpeakAnno
Version: 3.27.6
Command: rm -rf ChIPpeakAnno.buildbin-libdir && mkdir ChIPpeakAnno.buildbin-libdir && D:\biocbuild\bbs-3.14-bioc\R\bin\R.exe CMD INSTALL --merge-multiarch --build --library=ChIPpeakAnno.buildbin-libdir ChIPpeakAnno_3.27.6.tar.gz
StartedAt: 2021-09-21 04:31:29 -0400 (Tue, 21 Sep 2021)
EndedAt: 2021-09-21 04:35:29 -0400 (Tue, 21 Sep 2021)
EllapsedTime: 239.6 seconds
RetCode: 0
Status:   OK  
PackageFile: ChIPpeakAnno_3.27.6.zip
PackageFileSize: 18.53 MiB

Command output

##############################################################################
##############################################################################
###
### Running command:
###
###   rm -rf ChIPpeakAnno.buildbin-libdir && mkdir ChIPpeakAnno.buildbin-libdir && D:\biocbuild\bbs-3.14-bioc\R\bin\R.exe CMD INSTALL --merge-multiarch --build --library=ChIPpeakAnno.buildbin-libdir ChIPpeakAnno_3.27.6.tar.gz
###
##############################################################################
##############################################################################



install for i386

* installing *source* package 'ChIPpeakAnno' ...
** using staged installation
** R
** data
*** moving datasets to lazyload DB
** inst
** byte-compile and prepare package for lazy loading
** help
*** installing help indices
  converting help for package 'ChIPpeakAnno'
    finding HTML links ... done
    ChIPpeakAnno-deprecated                 html  
    ChIPpeakAnno-package                    html  
    EnsDb2GR                                html  
    ExonPlusUtr.human.GRCh37                html  
    HOT.spots                               html  
    IDRfilter                               html  
    Peaks.Ste12.Replicate1                  html  
    Peaks.Ste12.Replicate2                  html  
    Peaks.Ste12.Replicate3                  html  
    TSS.human.GRCh37                        html  
    TSS.human.GRCh38                        html  
    TSS.human.NCBI36                        html  
    TSS.mouse.GRCm38                        html  
    TSS.mouse.NCBIM37                       html  
    TSS.rat.RGSC3.4                         html  
    TSS.rat.Rnor_5.0                        html  
    TSS.zebrafish.Zv8                       html  
    TSS.zebrafish.Zv9                       html  
    TxDb2GR                                 html  
    addAncestors                            html  
    addGeneIDs                              html  
    addMetadata                             html  
    annoGR                                  html  
    annoPeaks                               html  
    annotatePeakInBatch                     html  
    annotatedPeak                           html  
    assignChromosomeRegion                  html  
    bdp                                     html  
    binOverFeature                          html  
    binOverGene                             html  
    binOverRegions                          html  
    bindist                                 html  
    cntOverlaps                             html  
    condenseMatrixByColnames                html  
    convert2EntrezID                        html  
    countPatternInSeqs                      html  
    cumulativePercentage                    html  
    downstreams                             html  
    egOrgMap                                html  
    enrichedGO                              html  
    enrichmentPlot                          html  
    estFragmentLength                       html  
    estLibSize                              html  
    featureAlignedDistribution              html  
    featureAlignedExtendSignal              html  
    featureAlignedHeatmap                   html  
    featureAlignedSignal                    html  
    findEnhancers                           html  
    findMotifsInPromoterSeqs                html  
    findOverlappingPeaks                    html  
    findOverlapsOfPeaks                     html  
    genomicElementDistribution              html  
    genomicElementUpSetR                    html  
    getAllPeakSequence                      html  
    getAnnotation                           html  
    getEnrichedGO                           html  
    getEnrichedPATH                         html  
    getGO                                   html  
    getGeneSeq                              html  
    getUniqueGOidCount                      html  
    getVennCounts                           html  
    hyperGtest                              html  
    makeVennDiagram                         html  
    mergePlusMinusPeaks                     html  
    metagenePlot                            html  
    myPeakList                              html  
    oligoFrequency                          html  
    oligoSummary                            html  
    peakPermTest                            html  
    peaksNearBDP                            html  
    permPool                                html  
    pie1                                    html  
    plotBinOverRegions                      html  
    preparePool                             html  
    reCenterPeaks                           html  
    summarizeOverlapsByBins                 html  
    summarizePatternInPeaks                 html  
    tileCount                               html  
    tileGRanges                             html  
    toGRanges                               html  
    translatePattern                        html  
    wgEncodeTfbsV3                          html  
    write2FASTA                             html  
    xget                                    html  
** building package indices
** installing vignettes
** testing if installed package can be loaded from temporary location
** testing if installed package can be loaded from final location
** testing if installed package keeps a record of temporary installation path

install for x64

* installing *source* package 'ChIPpeakAnno' ...
** testing if installed package can be loaded
* MD5 sums
packaged installation of 'ChIPpeakAnno' as ChIPpeakAnno_3.27.6.zip
* DONE (ChIPpeakAnno)