Back to Multiple platform build/check report for BioC 3.14
AB[C]DEFGHIJKLMNOPQRSTUVWXYZ

This page was generated on 2021-10-22 12:03:56 -0400 (Fri, 22 Oct 2021).

BUILD results for ChIPpeakAnno on nebbiolo2

To the developers/maintainers of the ChIPpeakAnno package:
- Please allow up to 24 hours (and sometimes 48 hours) for your latest push to git@git.bioconductor.org:packages/ChIPpeakAnno.git to
reflect on this report. See How and When does the builder pull? When will my changes propagate? here for more information.
- Make sure to use the following settings in order to reproduce any error or warning you see on this page.

raw results

Package 299/2075HostnameOS / ArchINSTALLBUILDCHECKBUILD BIN
ChIPpeakAnno 3.27.7  (landing page)
Jianhong Ou
Snapshot Date: 2021-10-21 14:50:08 -0400 (Thu, 21 Oct 2021)
git_url: https://git.bioconductor.org/packages/ChIPpeakAnno
git_branch: master
git_last_commit: 3c2c9fb
git_last_commit_date: 2021-10-19 09:12:15 -0400 (Tue, 19 Oct 2021)
nebbiolo2Linux (Ubuntu 20.04.2 LTS) / x86_64  OK    OK    OK  UNNEEDED, same version is already published
riesling1Windows Server 2019 Standard / x64  OK    OK    OK    OK  UNNEEDED, same version is already published
merida1macOS 10.14.6 Mojave / x86_64  OK    OK    OK    OK  UNNEEDED, same version is already published

Summary

Package: ChIPpeakAnno
Version: 3.27.7
Command: /home/biocbuild/bbs-3.14-bioc/R/bin/R CMD build --keep-empty-dirs --no-resave-data ChIPpeakAnno
StartedAt: 2021-10-21 16:56:58 -0400 (Thu, 21 Oct 2021)
EndedAt: 2021-10-21 17:04:27 -0400 (Thu, 21 Oct 2021)
EllapsedTime: 448.7 seconds
RetCode: 0
Status:   OK  
PackageFile: ChIPpeakAnno_3.27.7.tar.gz
PackageFileSize: 18.6 MiB

Command output

##############################################################################
##############################################################################
###
### Running command:
###
###   /home/biocbuild/bbs-3.14-bioc/R/bin/R CMD build --keep-empty-dirs --no-resave-data ChIPpeakAnno
###
##############################################################################
##############################################################################


* checking for file ‘ChIPpeakAnno/DESCRIPTION’ ... OK
* preparing ‘ChIPpeakAnno’:
* checking DESCRIPTION meta-information ... OK
* installing the package to build vignettes
* creating vignettes ... OK
* checking for LF line-endings in source and make files and shell scripts
* checking for empty or unneeded directories
* building ‘ChIPpeakAnno_3.27.7.tar.gz’