Back to Multiple platform build/check report for BioC 3.14
AB[C]DEFGHIJKLMNOPQRSTUVWXYZ

This page was generated on 2021-08-02 12:05:08 -0400 (Mon, 02 Aug 2021).

INSTALL results for ChIPpeakAnno on merida1

To the developers/maintainers of the ChIPpeakAnno package:
- Please allow up to 24 hours (and sometimes 48 hours) for your latest push to git@git.bioconductor.org:packages/ChIPpeakAnno.git to
reflect on this report. See How and When does the builder pull? When will my changes propagate? here for more information.
- Make sure to use the following settings in order to reproduce any error or warning you see on this page.

raw results

Package 290/2015HostnameOS / ArchINSTALLBUILDCHECKBUILD BIN
ChIPpeakAnno 3.27.4  (landing page)
Jianhong Ou
Snapshot Date: 2021-08-01 14:50:04 -0400 (Sun, 01 Aug 2021)
URL: https://git.bioconductor.org/packages/ChIPpeakAnno
Branch: master
Last Commit: 18eea1a
Last Changed Date: 2021-07-13 08:15:27 -0400 (Tue, 13 Jul 2021)
nebbiolo2Linux (Ubuntu 20.04.2 LTS) / x86_64  OK    OK    OK  UNNEEDED, same version is already published
riesling1Windows Server 2019 Standard / x64  OK    OK    OK    OK  UNNEEDED, same version is already published
merida1macOS 10.14.6 Mojave / x86_64  OK    OK    OK    OK  UNNEEDED, same version is already published

Summary

Package: ChIPpeakAnno
Version: 3.27.4
Command: /Library/Frameworks/R.framework/Resources/bin/R CMD INSTALL ChIPpeakAnno
StartedAt: 2021-08-01 17:41:51 -0400 (Sun, 01 Aug 2021)
EndedAt: 2021-08-01 17:43:55 -0400 (Sun, 01 Aug 2021)
EllapsedTime: 124.5 seconds
RetCode: 0
Status:   OK  

Command output

##############################################################################
##############################################################################
###
### Running command:
###
###   /Library/Frameworks/R.framework/Resources/bin/R CMD INSTALL ChIPpeakAnno
###
##############################################################################
##############################################################################


* installing to library ‘/Library/Frameworks/R.framework/Versions/4.1/Resources/library’
* installing *source* package ‘ChIPpeakAnno’ ...
** using staged installation
** R
** data
*** moving datasets to lazyload DB
** inst
** byte-compile and prepare package for lazy loading
** help
*** installing help indices
** building package indices
** installing vignettes
** testing if installed package can be loaded from temporary location
** testing if installed package can be loaded from final location
** testing if installed package keeps a record of temporary installation path
* DONE (ChIPpeakAnno)