Back to Multiple platform build/check report for BioC 3.14
AB[C]DEFGHIJKLMNOPQRSTUVWXYZ

This page was generated on 2021-08-02 12:05:08 -0400 (Mon, 02 Aug 2021).

BUILD results for ChIPpeakAnno on merida1

To the developers/maintainers of the ChIPpeakAnno package:
- Please allow up to 24 hours (and sometimes 48 hours) for your latest push to git@git.bioconductor.org:packages/ChIPpeakAnno.git to
reflect on this report. See How and When does the builder pull? When will my changes propagate? here for more information.
- Make sure to use the following settings in order to reproduce any error or warning you see on this page.

raw results

Package 290/2015HostnameOS / ArchINSTALLBUILDCHECKBUILD BIN
ChIPpeakAnno 3.27.4  (landing page)
Jianhong Ou
Snapshot Date: 2021-08-01 14:50:04 -0400 (Sun, 01 Aug 2021)
URL: https://git.bioconductor.org/packages/ChIPpeakAnno
Branch: master
Last Commit: 18eea1a
Last Changed Date: 2021-07-13 08:15:27 -0400 (Tue, 13 Jul 2021)
nebbiolo2Linux (Ubuntu 20.04.2 LTS) / x86_64  OK    OK    OK  UNNEEDED, same version is already published
riesling1Windows Server 2019 Standard / x64  OK    OK    OK    OK  UNNEEDED, same version is already published
merida1macOS 10.14.6 Mojave / x86_64  OK    OK    OK    OK  UNNEEDED, same version is already published

Summary

Package: ChIPpeakAnno
Version: 3.27.4
Command: /Library/Frameworks/R.framework/Resources/bin/R CMD build --keep-empty-dirs --no-resave-data ChIPpeakAnno
StartedAt: 2021-08-01 18:45:19 -0400 (Sun, 01 Aug 2021)
EndedAt: 2021-08-01 18:56:04 -0400 (Sun, 01 Aug 2021)
EllapsedTime: 645.4 seconds
RetCode: 0
Status:   OK  
PackageFile: ChIPpeakAnno_3.27.4.tar.gz
PackageFileSize: 18.57 MiB

Command output

##############################################################################
##############################################################################
###
### Running command:
###
###   /Library/Frameworks/R.framework/Resources/bin/R CMD build --keep-empty-dirs --no-resave-data ChIPpeakAnno
###
##############################################################################
##############################################################################


* checking for file ‘ChIPpeakAnno/DESCRIPTION’ ... OK
* preparing ‘ChIPpeakAnno’:
* checking DESCRIPTION meta-information ... OK
* installing the package to build vignettes
* creating vignettes ... OK
* checking for LF line-endings in source and make files and shell scripts
* checking for empty or unneeded directories
* building ‘ChIPpeakAnno_3.27.4.tar.gz’