Back to Multiple platform build/check report for BioC 3.14
AB[C]DEFGHIJKLMNOPQRSTUVWXYZ

All results for package ChAMP

This page was generated on 2021-06-12 12:04:14 -0400 (Sat, 12 Jun 2021).

Package 275/1993HostnameOS / ArchINSTALLBUILDCHECKBUILD BIN
ChAMP 2.23.0  (landing page)
Yuan Tian
Snapshot Date: 2021-06-11 14:50:09 -0400 (Fri, 11 Jun 2021)
URL: https://git.bioconductor.org/packages/ChAMP
Branch: master
Last Commit: 2e1046c
Last Changed Date: 2021-05-19 12:01:34 -0400 (Wed, 19 May 2021)
nebbiolo2Linux (Ubuntu 20.04.2 LTS) / x86_64  OK    OK    WARNINGS  UNNEEDED, same version is already published
riesling1Windows Server 2019 Standard / x64  OK    OK    WARNINGS    OK  NO, package depends on 'minfi' which is not available
merida1macOS 10.14.6 Mojave / x86_64  OK    OK    WARNINGS    OK  UNNEEDED, same version is already published