Back to Multiple platform build/check report for BioC 3.14
AB[C]DEFGHIJKLMNOPQRSTUVWXYZ

This page was generated on 2021-10-23 14:06:54 -0400 (Sat, 23 Oct 2021).

BUILD results for CellNOptR on merida1

To the developers/maintainers of the CellNOptR package:
- Please allow up to 24 hours (and sometimes 48 hours) for your latest push to git@git.bioconductor.org:packages/CellNOptR.git to
reflect on this report. See How and When does the builder pull? When will my changes propagate? here for more information.
- Make sure to use the following settings in order to reproduce any error or warning you see on this page.

raw results

Package 272/2083HostnameOS / ArchINSTALLBUILDCHECKBUILD BIN
CellNOptR 1.39.2  (landing page)
A.Gabor
Snapshot Date: 2021-10-22 14:50:11 -0400 (Fri, 22 Oct 2021)
git_url: https://git.bioconductor.org/packages/CellNOptR
git_branch: master
git_last_commit: d018f80
git_last_commit_date: 2021-10-18 04:54:08 -0400 (Mon, 18 Oct 2021)
nebbiolo2Linux (Ubuntu 20.04.2 LTS) / x86_64  OK    OK    OK  UNNEEDED, same version is already published
riesling1Windows Server 2019 Standard / x64  OK    OK    OK    OK  UNNEEDED, same version is already published
merida1macOS 10.14.6 Mojave / x86_64  OK    OK    OK    OK  UNNEEDED, same version is already published

Summary

Package: CellNOptR
Version: 1.39.2
Command: /Library/Frameworks/R.framework/Resources/bin/R CMD build --keep-empty-dirs --no-resave-data CellNOptR
StartedAt: 2021-10-22 19:01:59 -0400 (Fri, 22 Oct 2021)
EndedAt: 2021-10-22 19:02:42 -0400 (Fri, 22 Oct 2021)
EllapsedTime: 42.9 seconds
RetCode: 0
Status:   OK  
PackageFile: CellNOptR_1.39.2.tar.gz
PackageFileSize: 2.253 MiB

Command output

##############################################################################
##############################################################################
###
### Running command:
###
###   /Library/Frameworks/R.framework/Resources/bin/R CMD build --keep-empty-dirs --no-resave-data CellNOptR
###
##############################################################################
##############################################################################


* checking for file ‘CellNOptR/DESCRIPTION’ ... OK
* preparing ‘CellNOptR’:
* checking DESCRIPTION meta-information ... OK
* cleaning src
* installing the package to build vignettes
* creating vignettes ... OK
* cleaning src
* checking for LF line-endings in source and make files and shell scripts
* checking for empty or unneeded directories
* looking to see if a ‘data/datalist’ file should be added
* building ‘CellNOptR_1.39.2.tar.gz’