Back to Multiple platform build/check report for BioC 3.14
AB[C]DEFGHIJKLMNOPQRSTUVWXYZ

This page was generated on 2021-10-21 12:04:40 -0400 (Thu, 21 Oct 2021).

BUILD results for Category on riesling1

To the developers/maintainers of the Category package:
- Please allow up to 24 hours (and sometimes 48 hours) for your latest push to git@git.bioconductor.org:packages/Category.git to
reflect on this report. See How and When does the builder pull? When will my changes propagate? here for more information.
- Make sure to use the following settings in order to reproduce any error or warning you see on this page.

raw results

Package 248/2075HostnameOS / ArchINSTALLBUILDCHECKBUILD BIN
Category 2.59.0  (landing page)
Bioconductor Package Maintainer
Snapshot Date: 2021-10-20 14:50:05 -0400 (Wed, 20 Oct 2021)
git_url: https://git.bioconductor.org/packages/Category
git_branch: master
git_last_commit: 0a1b891
git_last_commit_date: 2021-05-19 11:35:55 -0400 (Wed, 19 May 2021)
nebbiolo2Linux (Ubuntu 20.04.2 LTS) / x86_64  OK    OK    OK  UNNEEDED, same version is already published
riesling1Windows Server 2019 Standard / x64  OK    OK    OK    OK  UNNEEDED, same version is already published
merida1macOS 10.14.6 Mojave / x86_64  OK    OK    OK    OK  UNNEEDED, same version is already published

Summary

Package: Category
Version: 2.59.0
Command: chmod a+r Category -R && D:\biocbuild\bbs-3.14-bioc\R\bin\R.exe CMD build --keep-empty-dirs --no-resave-data Category
StartedAt: 2021-10-20 20:08:31 -0400 (Wed, 20 Oct 2021)
EndedAt: 2021-10-20 20:13:47 -0400 (Wed, 20 Oct 2021)
EllapsedTime: 315.9 seconds
RetCode: 0
Status:   OK  
PackageFile: Category_2.59.0.tar.gz
PackageFileSize: 922.7 KiB

Command output

##############################################################################
##############################################################################
###
### Running command:
###
###   chmod a+r Category -R && D:\biocbuild\bbs-3.14-bioc\R\bin\R.exe CMD build --keep-empty-dirs --no-resave-data Category
###
##############################################################################
##############################################################################


* checking for file 'Category/DESCRIPTION' ... OK
* preparing 'Category':
* checking DESCRIPTION meta-information ... OK
* installing the package to build vignettes
* creating vignettes ... OK
* checking for LF line-endings in source and make files and shell scripts
* checking for empty or unneeded directories
* building 'Category_2.59.0.tar.gz'