Back to Multiple platform build/check report for BioC 3.14
AB[C]DEFGHIJKLMNOPQRSTUVWXYZ

This page was generated on 2021-10-23 14:06:54 -0400 (Sat, 23 Oct 2021).

BUILD BIN results for Category on merida1

To the developers/maintainers of the Category package:
- Please allow up to 24 hours (and sometimes 48 hours) for your latest push to git@git.bioconductor.org:packages/Category.git to
reflect on this report. See How and When does the builder pull? When will my changes propagate? here for more information.
- Make sure to use the following settings in order to reproduce any error or warning you see on this page.

raw results

Package 250/2083HostnameOS / ArchINSTALLBUILDCHECKBUILD BIN
Category 2.59.0  (landing page)
Bioconductor Package Maintainer
Snapshot Date: 2021-10-22 14:50:11 -0400 (Fri, 22 Oct 2021)
git_url: https://git.bioconductor.org/packages/Category
git_branch: master
git_last_commit: 0a1b891
git_last_commit_date: 2021-05-19 11:35:55 -0400 (Wed, 19 May 2021)
nebbiolo2Linux (Ubuntu 20.04.2 LTS) / x86_64  OK    OK    OK  UNNEEDED, same version is already published
riesling1Windows Server 2019 Standard / x64  OK    OK    OK    OK  UNNEEDED, same version is already published
merida1macOS 10.14.6 Mojave / x86_64  OK    OK    OK    OK  UNNEEDED, same version is already published

Summary

Package: Category
Version: 2.59.0
Command: rm -rf Category.buildbin-libdir && mkdir Category.buildbin-libdir && /Users/biocbuild/BBS/utils/build-universal.sh Category_2.59.0.tar.gz /Library/Frameworks/R.framework/Resources/bin/R Category.buildbin-libdir
StartedAt: 2021-10-23 11:19:41 -0400 (Sat, 23 Oct 2021)
EndedAt: 2021-10-23 11:20:39 -0400 (Sat, 23 Oct 2021)
EllapsedTime: 58.5 seconds
RetCode: 0
Status:   OK  
PackageFile: Category_2.59.0.tgz
PackageFileSize: 1.489 MiB

Command output

##############################################################################
##############################################################################
###
### Running command:
###
###   rm -rf Category.buildbin-libdir && mkdir Category.buildbin-libdir && /Users/biocbuild/BBS/utils/build-universal.sh Category_2.59.0.tar.gz /Library/Frameworks/R.framework/Resources/bin/R Category.buildbin-libdir
###
##############################################################################
##############################################################################


>>>>>>> 
>>>>>>> INSTALLATION WITH 'R CMD INSTALL --preclean --no-multiarch --library=Category.buildbin-libdir Category_2.59.0.tar.gz'
>>>>>>> 

* installing *source* package ‘Category’ ...
** using staged installation
** R
** inst
** byte-compile and prepare package for lazy loading
** help
*** installing help indices
** building package indices
** installing vignettes
** testing if installed package can be loaded from temporary location
** testing if installed package can be loaded from final location
** testing if installed package keeps a record of temporary installation path
* DONE (Category)