Back to Multiple platform build/check report for BioC 3.20:   simplified   long
AB[C]DEFGHIJKLMNOPQRSTUVWXYZ

This page was generated on 2024-05-22 11:35:00 -0400 (Wed, 22 May 2024).

HostnameOSArch (*)R versionInstalled pkgs
nebbiolo2Linux (Ubuntu 22.04.3 LTS)x86_644.4.0 RC (2024-04-16 r86468) -- "Puppy Cup" 4665
palomino4Windows Server 2022 Datacenterx644.4.0 RC (2024-04-16 r86468 ucrt) -- "Puppy Cup" 4400
merida1macOS 12.7.4 Montereyx86_644.4.0 Patched (2024-04-24 r86482) -- "Puppy Cup" 4427
Click on any hostname to see more info about the system (e.g. compilers)      (*) as reported by 'uname -p', except on Windows and Mac OS X

All results for package CardinalIO


To the developers/maintainers of the CardinalIO package:
- Allow up to 24 hours (and sometimes 48 hours) for your latest push to git@git.bioconductor.org:packages/CardinalIO.git to reflect on this report. See Troubleshooting Build Report for more information.
- Use the following Renviron settings to reproduce errors and warnings.
- If 'R CMD check' started to fail recently on the Linux builder(s) over a missing dependency, add the missing dependency to 'Suggests:' in your DESCRIPTION file. See Renviron.bioc for more information.

raw results

Package 267/2233HostnameOS / ArchINSTALLBUILDCHECKBUILD BIN
CardinalIO 1.3.0  (landing page)
Kylie Ariel Bemis
Snapshot Date: 2024-05-20 14:05:07 -0400 (Mon, 20 May 2024)
git_url: https://git.bioconductor.org/packages/CardinalIO
git_branch: devel
git_last_commit: 1474ac4
git_last_commit_date: 2024-05-07 15:40:36 -0400 (Tue, 07 May 2024)
nebbiolo2Linux (Ubuntu 22.04.3 LTS) / x86_64  OK    OK    ERROR  
palomino4Windows Server 2022 Datacenter / x64  OK    OK    ERROR    OK  
merida1macOS 12.7.4 Monterey / x86_64  OK    OK    ERROR    OK  
kjohnson1macOS 13.6.6 Ventura / arm64see weekly results here

Results for Bioconductor software packages that depend directly on package CardinalIO

QUICK STATSOS / ArchINSTALLBUILDCHECKBUILD BIN
nebbiolo2Linux (Ubuntu 22.04.3 LTS) / x86_64
001
010
0000
palomino4Windows Server 2022 Datacenter / x64
001
010
0000
000
merida1macOS 12.7.4 Monterey / x86_64
001
010
0000
000
Package 1/1HostnameOS / ArchINSTALLBUILDCHECKBUILD BIN
Cardinal 3.7.0  (landing page)
Kylie Ariel Bemis
git_last_commit: 5a5d2f2
git_last_commit_date: 2024-04-30 10:41:31 -0400
nebbiolo2Linux (Ubuntu 22.04.3 LTS) / x86_64  OK    ERROR  skipped
palomino4Windows Server 2022 Datacenter / x64  OK    ERROR  skippedskipped
merida1macOS 12.7.4 Monterey / x86_64  OK    ERROR  skippedskipped
kjohnson1macOS 13.6.6 Ventura / arm64see weekly results here