Index of /checkResults/devel/bioc-LATEST/CaDrA/raw-results/nebbiolo2

[ICO]NameLast modifiedSizeDescription

[DIR]Parent Directory  -  
[TXT]buildsrc-out.txt12-Jul-2024 00:59 914  
[   ]buildsrc-summary.dcf12-Jul-2024 00:59 416  
[TXT]checksrc-out.txt12-Jul-2024 00:59 3.5K 
[   ]checksrc-summary.dcf12-Jul-2024 00:59 404  
[TXT]install-out.txt12-Jul-2024 00:59 1.6K 
[   ]install-summary.dcf12-Jul-2024 00:59 254