Index of /checkResults/devel/bioc-LATEST/CaDrA/raw-results/lconway

[ICO]NameLast modifiedSizeDescription

[DIR]Parent Directory  -  
[TXT]buildbin-out.txt12-Jul-2024 01:00 3.8K 
[   ]buildbin-summary.dcf12-Jul-2024 01:00 515  
[TXT]buildsrc-out.txt12-Jul-2024 01:00 900  
[   ]buildsrc-summary.dcf12-Jul-2024 01:00 420  
[TXT]checksrc-out.txt12-Jul-2024 01:00 3.6K 
[   ]checksrc-summary.dcf12-Jul-2024 01:00 434  
[TXT]install-out.txt12-Jul-2024 01:00 1.9K 
[   ]install-summary.dcf12-Jul-2024 01:00 264