Index of /checkResults/devel/bioc-LATEST/CaDrA/raw-results/kjohnson3

[ICO]NameLast modifiedSizeDescription

[DIR]Parent Directory  -  
[TXT]buildbin-out.txt19-Jul-2024 00:42 3.7K 
[   ]buildbin-summary.dcf19-Jul-2024 00:42 515  
[TXT]buildsrc-out.txt19-Jul-2024 00:42 900  
[   ]buildsrc-summary.dcf19-Jul-2024 00:42 419  
[TXT]checksrc-out.txt19-Jul-2024 00:42 3.6K 
[   ]checksrc-summary.dcf19-Jul-2024 00:42 434  
[TXT]install-out.txt19-Jul-2024 00:42 1.9K 
[   ]install-summary.dcf19-Jul-2024 00:42 263