Back to Multiple platform build/check report for BioC 3.20:   simplified   long
AB[C]DEFGHIJKLMNOPQRSTUVWXYZ

This page was generated on 2024-06-15 12:33 -0400 (Sat, 15 Jun 2024).

HostnameOSArch (*)R versionInstalled pkgs
nebbiolo2Linux (Ubuntu 22.04.3 LTS)x86_644.4.0 RC (2024-04-16 r86468) -- "Puppy Cup" 4685
lconwaymacOS 12.7.1 Montereyx86_644.4.1 RC (2024-06-06 r86719) -- "Race for Your Life" 4400
kjohnson3macOS 13.6.5 Venturaarm644.4.1 RC (2024-06-06 r86719) -- "Race for Your Life" 4349
Click on any hostname to see more info about the system (e.g. compilers)      (*) as reported by 'uname -p', except on Windows and Mac OS X

Package 388/2242HostnameOS / ArchINSTALLBUILDCHECKBUILD BIN
CNViz 1.13.0  (landing page)
Rebecca Greenblatt
Snapshot Date: 2024-06-14 14:00 -0400 (Fri, 14 Jun 2024)
git_url: https://git.bioconductor.org/packages/CNViz
git_branch: devel
git_last_commit: c757067
git_last_commit_date: 2024-04-30 11:33:06 -0400 (Tue, 30 Apr 2024)
nebbiolo2Linux (Ubuntu 22.04.3 LTS) / x86_64  OK    OK    OK  UNNEEDED, same version is already published
lconwaymacOS 12.7.1 Monterey / x86_64  OK    OK    OK    OK  UNNEEDED, same version is already published
kjohnson3macOS 13.6.5 Ventura / arm64  OK    OK    OK    OK  UNNEEDED, same version is already published


CHECK results for CNViz on nebbiolo2

To the developers/maintainers of the CNViz package:
- Allow up to 24 hours (and sometimes 48 hours) for your latest push to git@git.bioconductor.org:packages/CNViz.git to reflect on this report. See Troubleshooting Build Report for more information.
- Use the following Renviron settings to reproduce errors and warnings.
- If 'R CMD check' started to fail recently on the Linux builder(s) over a missing dependency, add the missing dependency to 'Suggests:' in your DESCRIPTION file. See Renviron.bioc for more information.

raw results


Summary

Package: CNViz
Version: 1.13.0
Command: /home/biocbuild/bbs-3.20-bioc/R/bin/R CMD check --install=check:CNViz.install-out.txt --library=/home/biocbuild/bbs-3.20-bioc/R/site-library --timings CNViz_1.13.0.tar.gz
StartedAt: 2024-06-14 21:42:58 -0400 (Fri, 14 Jun 2024)
EndedAt: 2024-06-14 21:48:32 -0400 (Fri, 14 Jun 2024)
EllapsedTime: 334.5 seconds
RetCode: 0
Status:   OK  
CheckDir: CNViz.Rcheck
Warnings: 0

Command output

##############################################################################
##############################################################################
###
### Running command:
###
###   /home/biocbuild/bbs-3.20-bioc/R/bin/R CMD check --install=check:CNViz.install-out.txt --library=/home/biocbuild/bbs-3.20-bioc/R/site-library --timings CNViz_1.13.0.tar.gz
###
##############################################################################
##############################################################################


* using log directory ‘/home/biocbuild/bbs-3.20-bioc/meat/CNViz.Rcheck’
* using R version 4.4.0 RC (2024-04-16 r86468)
* using platform: x86_64-pc-linux-gnu
* R was compiled by
    gcc (Ubuntu 11.4.0-1ubuntu1~22.04) 11.4.0
    GNU Fortran (Ubuntu 11.4.0-1ubuntu1~22.04) 11.4.0
* running under: Ubuntu 22.04.4 LTS
* using session charset: UTF-8
* checking for file ‘CNViz/DESCRIPTION’ ... OK
* checking extension type ... Package
* this is package ‘CNViz’ version ‘1.13.0’
* package encoding: UTF-8
* checking package namespace information ... OK
* checking package dependencies ... OK
* checking if this is a source package ... OK
* checking if there is a namespace ... OK
* checking for hidden files and directories ... OK
* checking for portable file names ... OK
* checking for sufficient/correct file permissions ... OK
* checking whether package ‘CNViz’ can be installed ... OK
* checking installed package size ... OK
* checking package directory ... OK
* checking ‘build’ directory ... OK
* checking DESCRIPTION meta-information ... OK
* checking top-level files ... OK
* checking for left-over files ... OK
* checking index information ... OK
* checking package subdirectories ... OK
* checking code files for non-ASCII characters ... OK
* checking R files for syntax errors ... OK
* checking whether the package can be loaded ... OK
* checking whether the package can be loaded with stated dependencies ... OK
* checking whether the package can be unloaded cleanly ... OK
* checking whether the namespace can be loaded with stated dependencies ... OK
* checking whether the namespace can be unloaded cleanly ... OK
* checking loading without being on the library search path ... OK
* checking dependencies in R code ... OK
* checking S3 generic/method consistency ... OK
* checking replacement functions ... OK
* checking foreign function calls ... OK
* checking R code for possible problems ... NOTE
launchCNViz: no visible global function definition for 'is'
launchCNViz: no visible binding for global variable 'gene'
launchCNViz: no visible binding for global variable 'mutation_id'
launchCNViz: no visible binding for global variable 'ref'
launchCNViz: no visible binding for global variable 'alt'
launchCNViz: no visible binding for global variable 'sampleNames'
launchCNViz : server: no visible binding for global variable 'gene'
launchCNViz : server: no visible binding for global variable 'weight'
launchCNViz : server: no visible binding for global variable
  'mean_log2'
launchCNViz : server: no visible binding for global variable 's'
launchCNViz : server: no visible binding for global variable 'e'
launchCNViz : server: no visible binding for global variable 'cn'
launchCNViz : server: no visible binding for global variable
  'total_weight'
launchCNViz : server: no visible binding for global variable 'loh'
launchCNViz : server: no visible binding for global variable 'chrom'
launchCNViz : server: no visible binding for global variable
  'chr1_subplot'
launchCNViz : server: no visible binding for global variable
  'chr2_subplot'
launchCNViz : server: no visible binding for global variable
  'chr3_subplot'
launchCNViz : server: no visible binding for global variable
  'chr4_subplot'
launchCNViz : server: no visible binding for global variable
  'chr5_subplot'
launchCNViz : server: no visible binding for global variable
  'chr6_subplot'
launchCNViz : server: no visible binding for global variable
  'chr7_subplot'
launchCNViz : server: no visible binding for global variable
  'chr8_subplot'
launchCNViz : server: no visible binding for global variable
  'chr9_subplot'
launchCNViz : server: no visible binding for global variable
  'chr10_subplot'
launchCNViz : server: no visible binding for global variable
  'chr11_subplot'
launchCNViz : server: no visible binding for global variable
  'chr12_subplot'
launchCNViz : server: no visible binding for global variable
  'chr13_subplot'
launchCNViz : server: no visible binding for global variable
  'chr14_subplot'
launchCNViz : server: no visible binding for global variable
  'chr15_subplot'
launchCNViz : server: no visible binding for global variable
  'chr16_subplot'
launchCNViz : server: no visible binding for global variable
  'chr17_subplot'
launchCNViz : server: no visible binding for global variable
  'chr18_subplot'
launchCNViz : server: no visible binding for global variable
  'chr19_subplot'
launchCNViz : server: no visible binding for global variable
  'chr20_subplot'
launchCNViz : server: no visible binding for global variable
  'chr21_subplot'
launchCNViz : server: no visible binding for global variable
  'chr22_subplot'
launchCNViz : server: no visible binding for global variable
  'chrX_subplot'
launchCNViz : server: no visible binding for global variable
  'chrY_subplot'
launchCNViz : server: no visible binding for global variable
  'study_name'
launchCNViz : server: no visible binding for global variable
  'hugoGeneSymbol'
launchCNViz : server: no visible binding for global variable 'Gain'
launchCNViz : server: no visible binding for global variable
  'Amplification'
launchCNViz : server: no visible binding for global variable
  'ShallowDeletion'
launchCNViz : server: no visible binding for global variable
  'DeepDeletion'
launchCNViz : server : <anonymous>: no visible binding for global
  variable 'loh'
Undefined global functions or variables:
  Amplification DeepDeletion Gain ShallowDeletion alt chr10_subplot
  chr11_subplot chr12_subplot chr13_subplot chr14_subplot chr15_subplot
  chr16_subplot chr17_subplot chr18_subplot chr19_subplot chr1_subplot
  chr20_subplot chr21_subplot chr22_subplot chr2_subplot chr3_subplot
  chr4_subplot chr5_subplot chr6_subplot chr7_subplot chr8_subplot
  chr9_subplot chrX_subplot chrY_subplot chrom cn e gene hugoGeneSymbol
  is loh mean_log2 mutation_id ref s sampleNames study_name
  total_weight weight
Consider adding
  importFrom("methods", "is")
to your NAMESPACE file (and ensure that your DESCRIPTION Imports field
contains 'methods').
* checking Rd files ... OK
* checking Rd metadata ... OK
* checking Rd cross-references ... OK
* checking for missing documentation entries ... OK
* checking for code/documentation mismatches ... OK
* checking Rd \usage sections ... OK
* checking Rd contents ... OK
* checking for unstated dependencies in examples ... OK
* checking contents of ‘data’ directory ... OK
* checking data for non-ASCII characters ... OK
* checking data for ASCII and uncompressed saves ... OK
* checking R/sysdata.rda ... OK
* checking files in ‘vignettes’ ... OK
* checking examples ... OK
* checking for unstated dependencies in vignettes ... OK
* checking package vignettes ... OK
* checking re-building of vignette outputs ... OK
* checking PDF version of manual ... OK
* DONE

Status: 1 NOTE
See
  ‘/home/biocbuild/bbs-3.20-bioc/meat/CNViz.Rcheck/00check.log’
for details.


Installation output

CNViz.Rcheck/00install.out

##############################################################################
##############################################################################
###
### Running command:
###
###   /home/biocbuild/bbs-3.20-bioc/R/bin/R CMD INSTALL CNViz
###
##############################################################################
##############################################################################


* installing to library ‘/home/biocbuild/bbs-3.20-bioc/R/site-library’
* installing *source* package ‘CNViz’ ...
** using staged installation
** R
** data
** byte-compile and prepare package for lazy loading
** help
*** installing help indices
** building package indices
** installing vignettes
** testing if installed package can be loaded from temporary location
** testing if installed package can be loaded from final location
** testing if installed package keeps a record of temporary installation path
* DONE (CNViz)

Tests output


Example timings

CNViz.Rcheck/CNViz-Ex.timings

nameusersystemelapsed
launchCNViz0.0020.0010.003