Back to Multiple platform build/check report for BioC 3.14
AB[C]DEFGHIJKLMNOPQRSTUVWXYZ

This page was generated on 2021-10-25 14:06:54 -0400 (Mon, 25 Oct 2021).

CHECK results for CNORode on merida1

To the developers/maintainers of the CNORode package:
- Please allow up to 24 hours (and sometimes 48 hours) for your latest push to git@git.bioconductor.org:packages/CNORode.git to
reflect on this report. See How and When does the builder pull? When will my changes propagate? here for more information.
- Make sure to use the following settings in order to reproduce any error or warning you see on this page.

raw results

Package 354/2083HostnameOS / ArchINSTALLBUILDCHECKBUILD BIN
CNORode 1.35.1  (landing page)
Attila Gabor
Snapshot Date: 2021-10-24 14:50:04 -0400 (Sun, 24 Oct 2021)
git_url: https://git.bioconductor.org/packages/CNORode
git_branch: master
git_last_commit: f1baab4
git_last_commit_date: 2021-10-13 05:30:43 -0400 (Wed, 13 Oct 2021)
nebbiolo2Linux (Ubuntu 20.04.2 LTS) / x86_64  OK    OK    OK  UNNEEDED, same version is already published
riesling1Windows Server 2019 Standard / x64  OK    OK    OK    OK  UNNEEDED, same version is already published
merida1macOS 10.14.6 Mojave / x86_64  OK    OK    OK    OK  UNNEEDED, same version is already published
machv2macOS 10.14.6 Mojave / x86_64  OK    OK    OK    OK  

Summary

Package: CNORode
Version: 1.35.1
Command: /Library/Frameworks/R.framework/Resources/bin/R CMD check --install=check:CNORode.install-out.txt --library=/Library/Frameworks/R.framework/Resources/library --no-vignettes --timings CNORode_1.35.1.tar.gz
StartedAt: 2021-10-25 02:00:10 -0400 (Mon, 25 Oct 2021)
EndedAt: 2021-10-25 02:02:17 -0400 (Mon, 25 Oct 2021)
EllapsedTime: 127.0 seconds
RetCode: 0
Status:   OK  
CheckDir: CNORode.Rcheck
Warnings: 0

Command output

##############################################################################
##############################################################################
###
### Running command:
###
###   /Library/Frameworks/R.framework/Resources/bin/R CMD check --install=check:CNORode.install-out.txt --library=/Library/Frameworks/R.framework/Resources/library --no-vignettes --timings CNORode_1.35.1.tar.gz
###
##############################################################################
##############################################################################


* using log directory ‘/Users/biocbuild/bbs-3.14-bioc/meat/CNORode.Rcheck’
* using R version 4.1.1 Patched (2021-08-22 r80813)
* using platform: x86_64-apple-darwin17.0 (64-bit)
* using session charset: UTF-8
* using option ‘--no-vignettes’
* checking for file ‘CNORode/DESCRIPTION’ ... OK
* checking extension type ... Package
* this is package ‘CNORode’ version ‘1.35.1’
* checking package namespace information ... OK
* checking package dependencies ... OK
* checking if this is a source package ... OK
* checking if there is a namespace ... OK
* checking for hidden files and directories ... NOTE
Found the following hidden files and directories:
  .travis.yml
These were most likely included in error. See section ‘Package
structure’ in the ‘Writing R Extensions’ manual.
* checking for portable file names ... OK
* checking for sufficient/correct file permissions ... OK
* checking whether package ‘CNORode’ can be installed ... OK
* checking installed package size ... OK
* checking package directory ... OK
* checking ‘build’ directory ... OK
* checking DESCRIPTION meta-information ... OK
* checking top-level files ... OK
* checking for left-over files ... OK
* checking index information ... OK
* checking package subdirectories ... OK
* checking R files for non-ASCII characters ... OK
* checking R files for syntax errors ... OK
* checking whether the package can be loaded ... OK
* checking whether the package can be loaded with stated dependencies ... OK
* checking whether the package can be unloaded cleanly ... OK
* checking whether the namespace can be loaded with stated dependencies ... OK
* checking whether the namespace can be unloaded cleanly ... OK
* checking dependencies in R code ... OK
* checking S3 generic/method consistency ... OK
* checking replacement functions ... OK
* checking foreign function calls ... OK
* checking R code for possible problems ... NOTE
NB: .First.lib is obsolete and will not be used in R >= 3.0.0

createLBodeContPars: no visible global function definition for ‘runif’
crossvalidateODE: no visible global function definition for ‘error’
minlpLBodeSSm: no visible global function definition for ‘essR’
minlpLBodeSSm: no visible global function definition for ‘runif’
parEstimationLBodeGA: no visible global function definition for
  ‘plot.new’
parEstimationLBodeGA : monitor_func: no visible global function
  definition for ‘par’
parEstimationLBodeGA : monitor_func: no visible global function
  definition for ‘lines’
runCNORode: no visible global function definition for ‘pdf’
runCNORode: no visible global function definition for ‘dev.off’
Undefined global functions or variables:
  dev.off error essR lines par pdf plot.new runif
Consider adding
  importFrom("grDevices", "dev.off", "pdf")
  importFrom("graphics", "lines", "par", "plot.new")
  importFrom("stats", "runif")
to your NAMESPACE file.
* checking Rd files ... OK
* checking Rd metadata ... OK
* checking Rd cross-references ... OK
* checking for missing documentation entries ... OK
* checking for code/documentation mismatches ... OK
* checking Rd \usage sections ... OK
* checking Rd contents ... OK
* checking for unstated dependencies in examples ... OK
* checking contents of ‘data’ directory ... OK
* checking data for non-ASCII characters ... OK
* checking data for ASCII and uncompressed saves ... OK
* checking line endings in C/C++/Fortran sources/headers ... OK
* checking line endings in Makefiles ... OK
* checking compilation flags in Makevars ... OK
* checking for GNU extensions in Makefiles ... OK
* checking for portable use of $(BLAS_LIBS) and $(LAPACK_LIBS) ... OK
* checking use of PKG_*FLAGS in Makefiles ... OK
* checking compiled code ... NOTE
Note: information on .o files is not available
File ‘/Library/Frameworks/R.framework/Versions/4.1/Resources/library/CNORode/libs/CNORode.so’:
  Found ‘___stderrp’, possibly from ‘stderr’ (C)
  Found ‘_printf’, possibly from ‘printf’ (C)
  Found ‘_putchar’, possibly from ‘putchar’ (C)
  Found ‘_puts’, possibly from ‘printf’ (C), ‘puts’ (C)

Compiled code should not call entry points which might terminate R nor
write to stdout/stderr instead of to the console, nor use Fortran I/O
nor system RNGs. The detected symbols are linked into the code but
might come from libraries and not actually be called.

See ‘Writing portable packages’ in the ‘Writing R Extensions’ manual.
* checking sizes of PDF files under ‘inst/doc’ ... OK
* checking files in ‘vignettes’ ... OK
* checking examples ... OK
Examples with CPU (user + system) or elapsed time > 5s
                    user system elapsed
parEstimationLBode 8.333  0.164   8.581
* checking for unstated dependencies in vignettes ... OK
* checking package vignettes in ‘inst/doc’ ... OK
* checking running R code from vignettes ... SKIPPED
* checking re-building of vignette outputs ... SKIPPED
* checking PDF version of manual ... OK
* DONE

Status: 3 NOTEs
See
  ‘/Users/biocbuild/bbs-3.14-bioc/meat/CNORode.Rcheck/00check.log’
for details.



Installation output

CNORode.Rcheck/00install.out

##############################################################################
##############################################################################
###
### Running command:
###
###   /Library/Frameworks/R.framework/Resources/bin/R CMD INSTALL CNORode
###
##############################################################################
##############################################################################


* installing to library ‘/Library/Frameworks/R.framework/Versions/4.1/Resources/library’
* installing *source* package ‘CNORode’ ...
** using staged installation
** libs
clang -mmacosx-version-min=10.13 -I"/Library/Frameworks/R.framework/Resources/include" -DNDEBUG   -I/usr/local/include  -I./include  -fPIC  -Wall -g -O2  -c FG_transfer_function.c -o FG_transfer_function.o
clang -mmacosx-version-min=10.13 -I"/Library/Frameworks/R.framework/Resources/include" -DNDEBUG   -I/usr/local/include  -I./include  -fPIC  -Wall -g -O2  -c cvodea.c -o cvodea.o
clang -mmacosx-version-min=10.13 -I"/Library/Frameworks/R.framework/Resources/include" -DNDEBUG   -I/usr/local/include  -I./include  -fPIC  -Wall -g -O2  -c cvodea_io.c -o cvodea_io.o
clang -mmacosx-version-min=10.13 -I"/Library/Frameworks/R.framework/Resources/include" -DNDEBUG   -I/usr/local/include  -I./include  -fPIC  -Wall -g -O2  -c cvodes.c -o cvodes.o
clang -mmacosx-version-min=10.13 -I"/Library/Frameworks/R.framework/Resources/include" -DNDEBUG   -I/usr/local/include  -I./include  -fPIC  -Wall -g -O2  -c cvodes_band.c -o cvodes_band.o
clang -mmacosx-version-min=10.13 -I"/Library/Frameworks/R.framework/Resources/include" -DNDEBUG   -I/usr/local/include  -I./include  -fPIC  -Wall -g -O2  -c cvodes_bandpre.c -o cvodes_bandpre.o
clang -mmacosx-version-min=10.13 -I"/Library/Frameworks/R.framework/Resources/include" -DNDEBUG   -I/usr/local/include  -I./include  -fPIC  -Wall -g -O2  -c cvodes_bbdpre.c -o cvodes_bbdpre.o
clang -mmacosx-version-min=10.13 -I"/Library/Frameworks/R.framework/Resources/include" -DNDEBUG   -I/usr/local/include  -I./include  -fPIC  -Wall -g -O2  -c cvodes_dense.c -o cvodes_dense.o
clang -mmacosx-version-min=10.13 -I"/Library/Frameworks/R.framework/Resources/include" -DNDEBUG   -I/usr/local/include  -I./include  -fPIC  -Wall -g -O2  -c cvodes_diag.c -o cvodes_diag.o
clang -mmacosx-version-min=10.13 -I"/Library/Frameworks/R.framework/Resources/include" -DNDEBUG   -I/usr/local/include  -I./include  -fPIC  -Wall -g -O2  -c cvodes_direct.c -o cvodes_direct.o
clang -mmacosx-version-min=10.13 -I"/Library/Frameworks/R.framework/Resources/include" -DNDEBUG   -I/usr/local/include  -I./include  -fPIC  -Wall -g -O2  -c cvodes_io.c -o cvodes_io.o
clang -mmacosx-version-min=10.13 -I"/Library/Frameworks/R.framework/Resources/include" -DNDEBUG   -I/usr/local/include  -I./include  -fPIC  -Wall -g -O2  -c cvodes_spbcgs.c -o cvodes_spbcgs.o
clang -mmacosx-version-min=10.13 -I"/Library/Frameworks/R.framework/Resources/include" -DNDEBUG   -I/usr/local/include  -I./include  -fPIC  -Wall -g -O2  -c cvodes_spgmr.c -o cvodes_spgmr.o
clang -mmacosx-version-min=10.13 -I"/Library/Frameworks/R.framework/Resources/include" -DNDEBUG   -I/usr/local/include  -I./include  -fPIC  -Wall -g -O2  -c cvodes_spils.c -o cvodes_spils.o
clang -mmacosx-version-min=10.13 -I"/Library/Frameworks/R.framework/Resources/include" -DNDEBUG   -I/usr/local/include  -I./include  -fPIC  -Wall -g -O2  -c cvodes_sptfqmr.c -o cvodes_sptfqmr.o
clang -mmacosx-version-min=10.13 -I"/Library/Frameworks/R.framework/Resources/include" -DNDEBUG   -I/usr/local/include  -I./include  -fPIC  -Wall -g -O2  -c decimal2binary.c -o decimal2binary.o
clang -mmacosx-version-min=10.13 -I"/Library/Frameworks/R.framework/Resources/include" -DNDEBUG   -I/usr/local/include  -I./include  -fPIC  -Wall -g -O2  -c findStates.c -o findStates.o
clang -mmacosx-version-min=10.13 -I"/Library/Frameworks/R.framework/Resources/include" -DNDEBUG   -I/usr/local/include  -I./include  -fPIC  -Wall -g -O2  -c fnvector_serial.c -o fnvector_serial.o
clang -mmacosx-version-min=10.13 -I"/Library/Frameworks/R.framework/Resources/include" -DNDEBUG   -I/usr/local/include  -I./include  -fPIC  -Wall -g -O2  -c getAdjacencyMatrix.c -o getAdjacencyMatrix.o
clang -mmacosx-version-min=10.13 -I"/Library/Frameworks/R.framework/Resources/include" -DNDEBUG   -I/usr/local/include  -I./include  -fPIC  -Wall -g -O2  -c getNumBits.c -o getNumBits.o
clang -mmacosx-version-min=10.13 -I"/Library/Frameworks/R.framework/Resources/include" -DNDEBUG   -I/usr/local/include  -I./include  -fPIC  -Wall -g -O2  -c getNumInputs.c -o getNumInputs.o
clang -mmacosx-version-min=10.13 -I"/Library/Frameworks/R.framework/Resources/include" -DNDEBUG   -I/usr/local/include  -I./include  -fPIC  -Wall -g -O2  -c getStateIndex.c -o getStateIndex.o
clang -mmacosx-version-min=10.13 -I"/Library/Frameworks/R.framework/Resources/include" -DNDEBUG   -I/usr/local/include  -I./include  -fPIC  -Wall -g -O2  -c getTruthTables.c -o getTruthTables.o
clang -mmacosx-version-min=10.13 -I"/Library/Frameworks/R.framework/Resources/include" -DNDEBUG   -I/usr/local/include  -I./include  -fPIC  -Wall -g -O2  -c get_count_bits.c -o get_count_bits.o
clang -mmacosx-version-min=10.13 -I"/Library/Frameworks/R.framework/Resources/include" -DNDEBUG   -I/usr/local/include  -I./include  -fPIC  -Wall -g -O2  -c get_input_index.c -o get_input_index.o
clang -mmacosx-version-min=10.13 -I"/Library/Frameworks/R.framework/Resources/include" -DNDEBUG   -I/usr/local/include  -I./include  -fPIC  -Wall -g -O2  -c get_support_truth_tables.c -o get_support_truth_tables.o
clang -mmacosx-version-min=10.13 -I"/Library/Frameworks/R.framework/Resources/include" -DNDEBUG   -I/usr/local/include  -I./include  -fPIC  -Wall -g -O2  -c get_truth_tables_index.c -o get_truth_tables_index.o
clang -mmacosx-version-min=10.13 -I"/Library/Frameworks/R.framework/Resources/include" -DNDEBUG   -I/usr/local/include  -I./include  -fPIC  -Wall -g -O2  -c hill_function.c -o hill_function.o
clang -mmacosx-version-min=10.13 -I"/Library/Frameworks/R.framework/Resources/include" -DNDEBUG   -I/usr/local/include  -I./include  -fPIC  -Wall -g -O2  -c linear_transfer_function.c -o linear_transfer_function.o
clang -mmacosx-version-min=10.13 -I"/Library/Frameworks/R.framework/Resources/include" -DNDEBUG   -I/usr/local/include  -I./include  -fPIC  -Wall -g -O2  -c normHill.c -o normHill.o
clang -mmacosx-version-min=10.13 -I"/Library/Frameworks/R.framework/Resources/include" -DNDEBUG   -I/usr/local/include  -I./include  -fPIC  -Wall -g -O2  -c normHill_mod.c -o normHill_mod.o
clang -mmacosx-version-min=10.13 -I"/Library/Frameworks/R.framework/Resources/include" -DNDEBUG   -I/usr/local/include  -I./include  -fPIC  -Wall -g -O2  -c nvector_serial.c -o nvector_serial.o
clang -mmacosx-version-min=10.13 -I"/Library/Frameworks/R.framework/Resources/include" -DNDEBUG   -I/usr/local/include  -I./include  -fPIC  -Wall -g -O2  -c printAdjMat.c -o printAdjMat.o
clang -mmacosx-version-min=10.13 -I"/Library/Frameworks/R.framework/Resources/include" -DNDEBUG   -I/usr/local/include  -I./include  -fPIC  -Wall -g -O2  -c printInterMat.c -o printInterMat.o
clang -mmacosx-version-min=10.13 -I"/Library/Frameworks/R.framework/Resources/include" -DNDEBUG   -I/usr/local/include  -I./include  -fPIC  -Wall -g -O2  -c printNminiTerms.c -o printNminiTerms.o
clang -mmacosx-version-min=10.13 -I"/Library/Frameworks/R.framework/Resources/include" -DNDEBUG   -I/usr/local/include  -I./include  -fPIC  -Wall -g -O2  -c printTruthTables.c -o printTruthTables.o
clang -mmacosx-version-min=10.13 -I"/Library/Frameworks/R.framework/Resources/include" -DNDEBUG   -I/usr/local/include  -I./include  -fPIC  -Wall -g -O2  -c rhsODE.c -o rhsODE.o
clang -mmacosx-version-min=10.13 -I"/Library/Frameworks/R.framework/Resources/include" -DNDEBUG   -I/usr/local/include  -I./include  -fPIC  -Wall -g -O2  -c sim_logic_ode.c -o sim_logic_ode.o
clang -mmacosx-version-min=10.13 -I"/Library/Frameworks/R.framework/Resources/include" -DNDEBUG   -I/usr/local/include  -I./include  -fPIC  -Wall -g -O2  -c simulateODE.c -o simulateODE.o
clang -mmacosx-version-min=10.13 -I"/Library/Frameworks/R.framework/Resources/include" -DNDEBUG   -I/usr/local/include  -I./include  -fPIC  -Wall -g -O2  -c sundials_band.c -o sundials_band.o
clang -mmacosx-version-min=10.13 -I"/Library/Frameworks/R.framework/Resources/include" -DNDEBUG   -I/usr/local/include  -I./include  -fPIC  -Wall -g -O2  -c sundials_dense.c -o sundials_dense.o
clang -mmacosx-version-min=10.13 -I"/Library/Frameworks/R.framework/Resources/include" -DNDEBUG   -I/usr/local/include  -I./include  -fPIC  -Wall -g -O2  -c sundials_direct.c -o sundials_direct.o
clang -mmacosx-version-min=10.13 -I"/Library/Frameworks/R.framework/Resources/include" -DNDEBUG   -I/usr/local/include  -I./include  -fPIC  -Wall -g -O2  -c sundials_iterative.c -o sundials_iterative.o
clang -mmacosx-version-min=10.13 -I"/Library/Frameworks/R.framework/Resources/include" -DNDEBUG   -I/usr/local/include  -I./include  -fPIC  -Wall -g -O2  -c sundials_math.c -o sundials_math.o
clang -mmacosx-version-min=10.13 -I"/Library/Frameworks/R.framework/Resources/include" -DNDEBUG   -I/usr/local/include  -I./include  -fPIC  -Wall -g -O2  -c sundials_nvector.c -o sundials_nvector.o
clang -mmacosx-version-min=10.13 -I"/Library/Frameworks/R.framework/Resources/include" -DNDEBUG   -I/usr/local/include  -I./include  -fPIC  -Wall -g -O2  -c sundials_spbcgs.c -o sundials_spbcgs.o
clang -mmacosx-version-min=10.13 -I"/Library/Frameworks/R.framework/Resources/include" -DNDEBUG   -I/usr/local/include  -I./include  -fPIC  -Wall -g -O2  -c sundials_spgmr.c -o sundials_spgmr.o
clang -mmacosx-version-min=10.13 -I"/Library/Frameworks/R.framework/Resources/include" -DNDEBUG   -I/usr/local/include  -I./include  -fPIC  -Wall -g -O2  -c sundials_sptfqmr.c -o sundials_sptfqmr.o
clang -mmacosx-version-min=10.13 -dynamiclib -Wl,-headerpad_max_install_names -undefined dynamic_lookup -single_module -multiply_defined suppress -L/Library/Frameworks/R.framework/Resources/lib -L/usr/local/lib -o CNORode.so FG_transfer_function.o cvodea.o cvodea_io.o cvodes.o cvodes_band.o cvodes_bandpre.o cvodes_bbdpre.o cvodes_dense.o cvodes_diag.o cvodes_direct.o cvodes_io.o cvodes_spbcgs.o cvodes_spgmr.o cvodes_spils.o cvodes_sptfqmr.o decimal2binary.o findStates.o fnvector_serial.o getAdjacencyMatrix.o getNumBits.o getNumInputs.o getStateIndex.o getTruthTables.o get_count_bits.o get_input_index.o get_support_truth_tables.o get_truth_tables_index.o hill_function.o linear_transfer_function.o normHill.o normHill_mod.o nvector_serial.o printAdjMat.o printInterMat.o printNminiTerms.o printTruthTables.o rhsODE.o sim_logic_ode.o simulateODE.o sundials_band.o sundials_dense.o sundials_direct.o sundials_iterative.o sundials_math.o sundials_nvector.o sundials_spbcgs.o sundials_spgmr.o sundials_sptfqmr.o -F/Library/Frameworks/R.framework/.. -framework R -Wl,-framework -Wl,CoreFoundation
installing to /Library/Frameworks/R.framework/Versions/4.1/Resources/library/00LOCK-CNORode/00new/CNORode/libs
** R
** data
** inst
** byte-compile and prepare package for lazy loading
** help
*** installing help indices
** building package indices
** installing vignettes
** testing if installed package can be loaded from temporary location
** checking absolute paths in shared objects and dynamic libraries
** testing if installed package can be loaded from final location
** testing if installed package keeps a record of temporary installation path
* DONE (CNORode)

Tests output


Example timings

CNORode.Rcheck/CNORode-Ex.timings

nameusersystemelapsed
createLBodeContPars0.0100.0020.013
getLBodeContObjFunction0.0190.0030.024
getLBodeDataSim0.0120.0020.013
getLBodeMINLPObjFunction0.0180.0020.021
getLBodeModelSim0.0130.0020.014
minlpLBodeSSm0.0000.0010.000
parEstimationLBode8.3330.1648.581
parEstimationLBodeGA3.4120.0513.494
parEstimationLBodeSSm000
plotLBodeFitness0.9310.0150.949
plotLBodeModelSim0.5680.0120.582
runCNORode000
simdata2cnolist0.0190.0020.022
simulate0.0140.0020.016