Back to Multiple platform build/check report for BioC 3.14
AB[C]DEFGHIJKLMNOPQRSTUVWXYZ

This page was generated on 2021-10-21 12:04:41 -0400 (Thu, 21 Oct 2021).

BUILD results for CNORfuzzy on riesling1

To the developers/maintainers of the CNORfuzzy package:
- Please allow up to 24 hours (and sometimes 48 hours) for your latest push to git@git.bioconductor.org:packages/CNORfuzzy.git to
reflect on this report. See How and When does the builder pull? When will my changes propagate? here for more information.
- Make sure to use the following settings in order to reproduce any error or warning you see on this page.

raw results

Package 350/2075HostnameOS / ArchINSTALLBUILDCHECKBUILD BIN
CNORfuzzy 1.35.0  (landing page)
T. Cokelaer
Snapshot Date: 2021-10-20 14:50:05 -0400 (Wed, 20 Oct 2021)
git_url: https://git.bioconductor.org/packages/CNORfuzzy
git_branch: master
git_last_commit: 98a1c72
git_last_commit_date: 2021-05-19 11:53:34 -0400 (Wed, 19 May 2021)
nebbiolo2Linux (Ubuntu 20.04.2 LTS) / x86_64  OK    OK    OK  UNNEEDED, same version is already published
riesling1Windows Server 2019 Standard / x64  OK    OK    OK    OK  UNNEEDED, same version is already published
merida1macOS 10.14.6 Mojave / x86_64  OK    OK    OK    OK  UNNEEDED, same version is already published

Summary

Package: CNORfuzzy
Version: 1.35.0
Command: chmod a+r CNORfuzzy -R && D:\biocbuild\bbs-3.14-bioc\R\bin\R.exe CMD build --keep-empty-dirs --no-resave-data CNORfuzzy
StartedAt: 2021-10-20 20:23:20 -0400 (Wed, 20 Oct 2021)
EndedAt: 2021-10-20 20:28:13 -0400 (Wed, 20 Oct 2021)
EllapsedTime: 292.9 seconds
RetCode: 0
Status:   OK  
PackageFile: CNORfuzzy_1.35.0.tar.gz
PackageFileSize: 914.4 KiB

Command output

##############################################################################
##############################################################################
###
### Running command:
###
###   chmod a+r CNORfuzzy -R && D:\biocbuild\bbs-3.14-bioc\R\bin\R.exe CMD build --keep-empty-dirs --no-resave-data CNORfuzzy
###
##############################################################################
##############################################################################


* checking for file 'CNORfuzzy/DESCRIPTION' ... OK
* preparing 'CNORfuzzy':
* checking DESCRIPTION meta-information ... OK
* cleaning src
* installing the package to build vignettes
* creating vignettes ... OK
* cleaning src
* checking for LF line-endings in source and make files and shell scripts
* checking for empty or unneeded directories
* building 'CNORfuzzy_1.35.0.tar.gz'