Back to Multiple platform build/check report for BioC 3.14
AB[C]DEFGHIJKLMNOPQRSTUVWXYZ

This page was generated on 2021-07-24 12:05:50 -0400 (Sat, 24 Jul 2021).

INSTALL results for CNORfeeder on riesling1

To the developers/maintainers of the CNORfeeder package:
- Please allow up to 24 hours (and sometimes 48 hours) for your latest push to git@git.bioconductor.org:packages/CNORfeeder.git to
reflect on this report. See How and When does the builder pull? When will my changes propagate? here for more information.
- Make sure to use the following settings in order to reproduce any error or warning you see on this page.

raw results

Package 336/2008HostnameOS / ArchINSTALLBUILDCHECKBUILD BIN
CNORfeeder 1.33.0  (landing page)
E.Gjerga
Snapshot Date: 2021-07-23 14:50:08 -0400 (Fri, 23 Jul 2021)
URL: https://git.bioconductor.org/packages/CNORfeeder
Branch: master
Last Commit: 3557575
Last Changed Date: 2021-05-19 11:58:14 -0400 (Wed, 19 May 2021)
nebbiolo2Linux (Ubuntu 20.04.2 LTS) / x86_64  OK    OK    OK  UNNEEDED, same version is already published
riesling1Windows Server 2019 Standard / x64  OK    OK    OK    OK  NO, package depends on 'CellNOptR' which is not available
merida1macOS 10.14.6 Mojave / x86_64  OK    OK    OK    OK  UNNEEDED, same version is already published

Summary

Package: CNORfeeder
Version: 1.33.0
Command: C:\cygwin\bin\curl.exe -O http://155.52.207.166/BBS/3.14/bioc/src/contrib/CNORfeeder_1.33.0.tar.gz && rm -rf CNORfeeder.buildbin-libdir && mkdir CNORfeeder.buildbin-libdir && D:\biocbuild\bbs-3.14-bioc\R\bin\R.exe CMD INSTALL --merge-multiarch --build --library=CNORfeeder.buildbin-libdir CNORfeeder_1.33.0.tar.gz && D:\biocbuild\bbs-3.14-bioc\R\bin\R.exe CMD INSTALL CNORfeeder_1.33.0.zip && rm CNORfeeder_1.33.0.tar.gz CNORfeeder_1.33.0.zip
StartedAt: 2021-07-23 16:59:08 -0400 (Fri, 23 Jul 2021)
EndedAt: 2021-07-23 17:01:44 -0400 (Fri, 23 Jul 2021)
EllapsedTime: 155.9 seconds
RetCode: 0
Status:   OK  

Command output

##############################################################################
##############################################################################
###
### Running command:
###
###   C:\cygwin\bin\curl.exe -O http://155.52.207.166/BBS/3.14/bioc/src/contrib/CNORfeeder_1.33.0.tar.gz && rm -rf CNORfeeder.buildbin-libdir && mkdir CNORfeeder.buildbin-libdir && D:\biocbuild\bbs-3.14-bioc\R\bin\R.exe CMD INSTALL --merge-multiarch --build --library=CNORfeeder.buildbin-libdir CNORfeeder_1.33.0.tar.gz && D:\biocbuild\bbs-3.14-bioc\R\bin\R.exe CMD INSTALL CNORfeeder_1.33.0.zip && rm CNORfeeder_1.33.0.tar.gz CNORfeeder_1.33.0.zip
###
##############################################################################
##############################################################################


  % Total    % Received % Xferd  Average Speed   Time    Time     Time  Current
                                 Dload  Upload   Total   Spent    Left  Speed

  0     0    0     0    0     0      0      0 --:--:-- --:--:-- --:--:--     0
 98 3472k   98 3420k    0     0  3869k      0 --:--:-- --:--:-- --:--:-- 3869k
100 3472k  100 3472k    0     0  3923k      0 --:--:-- --:--:-- --:--:-- 3918k

install for i386

* installing *source* package 'CNORfeeder' ...
** using staged installation
** R
** data
** inst
** byte-compile and prepare package for lazy loading
** help
*** installing help indices
  converting help for package 'CNORfeeder'
    finding HTML links ... done
    Binference                              html  
    finding level-2 HTML links ... done

    CNORfeeder-package                      html  
    MIinference                             html  
    PPINigraph                              html  
    UniprotIDdream                          html  
    buildFeederObjectDynamic                html  
    cnolist                                 html  
    database                                html  
    feederObject                            html  
    gaBinaryT1W                             html  
    identifyMisfitIndices                   html  
    indices                                 html  
    integrateLinks                          html  
    integratedModel                         html  
    linksRanking                            html  
    makeBTables                             html  
    mapBTables2model                        html  
    mapDDN2model                            html  
    model                                   html  
    runDynamicFeeder                        html  
    simData                                 html  
    weighting                               html  
** building package indices
** installing vignettes
** testing if installed package can be loaded from temporary location
** testing if installed package can be loaded from final location
** testing if installed package keeps a record of temporary installation path

install for x64

* installing *source* package 'CNORfeeder' ...
** testing if installed package can be loaded
* MD5 sums
packaged installation of 'CNORfeeder' as CNORfeeder_1.33.0.zip
* DONE (CNORfeeder)
* installing to library 'D:/biocbuild/bbs-3.14-bioc/R/library'
package 'CNORfeeder' successfully unpacked and MD5 sums checked