Back to Multiple platform build/check report for BioC 3.14
AB[C]DEFGHIJKLMNOPQRSTUVWXYZ

This page was generated on 2021-09-25 12:05:25 -0400 (Sat, 25 Sep 2021).

CHECK results for CNORfeeder on riesling1

To the developers/maintainers of the CNORfeeder package:
- Please allow up to 24 hours (and sometimes 48 hours) for your latest push to git@git.bioconductor.org:packages/CNORfeeder.git to
reflect on this report. See How and When does the builder pull? When will my changes propagate? here for more information.
- Make sure to use the following settings in order to reproduce any error or warning you see on this page.

raw results

Package 341/2034HostnameOS / ArchINSTALLBUILDCHECKBUILD BIN
CNORfeeder 1.33.0  (landing page)
E.Gjerga
Snapshot Date: 2021-09-24 14:50:08 -0400 (Fri, 24 Sep 2021)
git_url: https://git.bioconductor.org/packages/CNORfeeder
git_branch: master
git_last_commit: 3557575
git_last_commit_date: 2021-05-19 11:58:14 -0400 (Wed, 19 May 2021)
nebbiolo2Linux (Ubuntu 20.04.2 LTS) / x86_64  OK    OK    OK  UNNEEDED, same version is already published
riesling1Windows Server 2019 Standard / x64  OK    OK    OK    OK  UNNEEDED, same version is already published
merida1macOS 10.14.6 Mojave / x86_64  OK    OK    OK    OK  UNNEEDED, same version is already published

Summary

Package: CNORfeeder
Version: 1.33.0
Command: D:\biocbuild\bbs-3.14-bioc\R\bin\R.exe CMD check --force-multiarch --install=check:CNORfeeder.install-out.txt --library=D:\biocbuild\bbs-3.14-bioc\R\library --no-vignettes --timings CNORfeeder_1.33.0.tar.gz
StartedAt: 2021-09-25 00:34:33 -0400 (Sat, 25 Sep 2021)
EndedAt: 2021-09-25 00:39:14 -0400 (Sat, 25 Sep 2021)
EllapsedTime: 281.3 seconds
RetCode: 0
Status:   OK  
CheckDir: CNORfeeder.Rcheck
Warnings: 0

Command output

##############################################################################
##############################################################################
###
### Running command:
###
###   D:\biocbuild\bbs-3.14-bioc\R\bin\R.exe CMD check --force-multiarch --install=check:CNORfeeder.install-out.txt --library=D:\biocbuild\bbs-3.14-bioc\R\library --no-vignettes --timings CNORfeeder_1.33.0.tar.gz
###
##############################################################################
##############################################################################


* using log directory 'D:/biocbuild/bbs-3.14-bioc/meat/CNORfeeder.Rcheck'
* using R version 4.1.1 (2021-08-10)
* using platform: x86_64-w64-mingw32 (64-bit)
* using session charset: ISO8859-1
* using option '--no-vignettes'
* checking for file 'CNORfeeder/DESCRIPTION' ... OK
* checking extension type ... Package
* this is package 'CNORfeeder' version '1.33.0'
* checking package namespace information ... OK
* checking package dependencies ... OK
* checking if this is a source package ... OK
* checking if there is a namespace ... OK
* checking for hidden files and directories ... OK
* checking for portable file names ... OK
* checking whether package 'CNORfeeder' can be installed ... OK
* checking installed package size ... OK
* checking package directory ... OK
* checking 'build' directory ... OK
* checking DESCRIPTION meta-information ... OK
* checking top-level files ... OK
* checking for left-over files ... OK
* checking index information ... OK
* checking package subdirectories ... OK
* checking R files for non-ASCII characters ... OK
* checking R files for syntax errors ... OK
* loading checks for arch 'i386'
** checking whether the package can be loaded ... OK
** checking whether the package can be loaded with stated dependencies ... OK
** checking whether the package can be unloaded cleanly ... OK
** checking whether the namespace can be loaded with stated dependencies ... OK
** checking whether the namespace can be unloaded cleanly ... OK
* loading checks for arch 'x64'
** checking whether the package can be loaded ... OK
** checking whether the package can be loaded with stated dependencies ... OK
** checking whether the package can be unloaded cleanly ... OK
** checking whether the namespace can be loaded with stated dependencies ... OK
** checking whether the namespace can be unloaded cleanly ... OK
* checking dependencies in R code ... NOTE
'library' or 'require' call to 'MEIGOR' in package code.
  Please use :: or requireNamespace() instead.
  See section 'Suggested packages' in the 'Writing R Extensions' manual.
* checking S3 generic/method consistency ... OK
* checking replacement functions ... OK
* checking foreign function calls ... OK
* checking R code for possible problems ... NOTE
Binference: no visible global function definition for 'write.table'
MIinference: no visible global function definition for 'as'
MIinference: no visible global function definition for 'write.table'
gaBinaryT1W: no visible global function definition for 'runif'
getLBodeContObjFunctionWeighted: no visible global function definition
  for 'incidence2Adjacency'
getLBodeContObjFunctionWeighted: no visible global function definition
  for 'getLBodeSimFunction'
integrateLinks: no visible global function definition for 'write.table'
linksRanking: no visible global function definition for 'write.table'
makeBTables: no visible global function definition for 'na.omit'
mapBTables2model: no visible global function definition for 'new'
parEstimationLBodeSSmWeighted: no visible global function definition
  for 'incidence2Adjacency'
parEstimationLBodeSSmWeighted: no visible global function definition
  for 'createLBodeContPars'
parEstimationLBodeSSmWeighted: no visible global function definition
  for 'essR'
parEstimationLBodeWeighted: no visible global function definition for
  'defaultParametersSSm'
parEstimationLBodeWeighted: no visible global function definition for
  'defaultParametersGA'
parEstimationLBodeWeighted: no visible global function definition for
  'parEstimationLBodeGA'
preprocessingWeighted: no visible global function definition for
  'graph_from_graphnel'
preprocessingWeighted: no visible global function definition for
  'get.adjacency'
preprocessingWeighted: no visible global function definition for
  'all_simple_paths'
preprocessingWeighted: no visible global function definition for
  'write.table'
runDynamicFeeder: no visible global function definition for
  'defaultParametersSSm'
shift: no visible global function definition for 'tail'
shift: no visible global function definition for 'head'
Undefined global functions or variables:
  all_simple_paths as createLBodeContPars defaultParametersGA
  defaultParametersSSm essR get.adjacency getLBodeSimFunction
  graph_from_graphnel head incidence2Adjacency na.omit new
  parEstimationLBodeGA runif tail write.table
Consider adding
  importFrom("methods", "as", "new")
  importFrom("stats", "na.omit", "runif")
  importFrom("utils", "head", "tail", "write.table")
to your NAMESPACE file (and ensure that your DESCRIPTION Imports field
contains 'methods').
* checking Rd files ... OK
* checking Rd metadata ... OK
* checking Rd cross-references ... OK
* checking for missing documentation entries ... OK
* checking for code/documentation mismatches ... OK
* checking Rd \usage sections ... OK
* checking Rd contents ... OK
* checking for unstated dependencies in examples ... OK
* checking contents of 'data' directory ... OK
* checking data for non-ASCII characters ... OK
* checking data for ASCII and uncompressed saves ... OK
* checking files in 'vignettes' ... OK
* checking examples ...
** running examples for arch 'i386' ... OK
Examples with CPU (user + system) or elapsed time > 5s
           user system elapsed
Binference 0.08      0   16.22
** running examples for arch 'x64' ... OK
Examples with CPU (user + system) or elapsed time > 5s
           user system elapsed
Binference 0.06      0   16.18
* checking for unstated dependencies in 'tests' ... OK
* checking tests ...
** running tests for arch 'i386' ...
  Running 'runTests.R'
 OK
** running tests for arch 'x64' ...
  Running 'runTests.R'
 OK
* checking for unstated dependencies in vignettes ... OK
* checking package vignettes in 'inst/doc' ... OK
* checking running R code from vignettes ... SKIPPED
* checking re-building of vignette outputs ... SKIPPED
* checking PDF version of manual ... OK
* DONE

Status: 2 NOTEs
See
  'D:/biocbuild/bbs-3.14-bioc/meat/CNORfeeder.Rcheck/00check.log'
for details.



Installation output

CNORfeeder.Rcheck/00install.out

##############################################################################
##############################################################################
###
### Running command:
###
###   C:\cygwin\bin\curl.exe -O http://155.52.207.166/BBS/3.14/bioc/src/contrib/CNORfeeder_1.33.0.tar.gz && rm -rf CNORfeeder.buildbin-libdir && mkdir CNORfeeder.buildbin-libdir && D:\biocbuild\bbs-3.14-bioc\R\bin\R.exe CMD INSTALL --merge-multiarch --build --library=CNORfeeder.buildbin-libdir CNORfeeder_1.33.0.tar.gz && D:\biocbuild\bbs-3.14-bioc\R\bin\R.exe CMD INSTALL CNORfeeder_1.33.0.zip && rm CNORfeeder_1.33.0.tar.gz CNORfeeder_1.33.0.zip
###
##############################################################################
##############################################################################


  % Total    % Received % Xferd  Average Speed   Time    Time     Time  Current
                                 Dload  Upload   Total   Spent    Left  Speed

  0     0    0     0    0     0      0      0 --:--:-- --:--:-- --:--:--     0
  0 3472k    0 13435    0     0  83447      0  0:00:42 --:--:--  0:00:42 82932
 68 3472k   68 2386k    0     0  2080k      0  0:00:01  0:00:01 --:--:-- 2078k
100 3472k  100 3472k    0     0  2214k      0  0:00:01  0:00:01 --:--:-- 2214k

install for i386

* installing *source* package 'CNORfeeder' ...
** using staged installation
** R
** data
** inst
** byte-compile and prepare package for lazy loading
** help
*** installing help indices
  converting help for package 'CNORfeeder'
    finding HTML links ... done
    Binference                              html  
    finding level-2 HTML links ... done

    CNORfeeder-package                      html  
    MIinference                             html  
    PPINigraph                              html  
    UniprotIDdream                          html  
    buildFeederObjectDynamic                html  
    cnolist                                 html  
    database                                html  
    feederObject                            html  
    gaBinaryT1W                             html  
    identifyMisfitIndices                   html  
    indices                                 html  
    integrateLinks                          html  
    integratedModel                         html  
    linksRanking                            html  
    makeBTables                             html  
    mapBTables2model                        html  
    mapDDN2model                            html  
    model                                   html  
    runDynamicFeeder                        html  
    simData                                 html  
    weighting                               html  
** building package indices
** installing vignettes
** testing if installed package can be loaded from temporary location
** testing if installed package can be loaded from final location
** testing if installed package keeps a record of temporary installation path

install for x64

* installing *source* package 'CNORfeeder' ...
** testing if installed package can be loaded
* MD5 sums
packaged installation of 'CNORfeeder' as CNORfeeder_1.33.0.zip
* DONE (CNORfeeder)
* installing to library 'D:/biocbuild/bbs-3.14-bioc/R/library'
package 'CNORfeeder' successfully unpacked and MD5 sums checked

Tests output

CNORfeeder.Rcheck/tests_i386/runTests.Rout


R version 4.1.1 (2021-08-10) -- "Kick Things"
Copyright (C) 2021 The R Foundation for Statistical Computing
Platform: i386-w64-mingw32/i386 (32-bit)

R is free software and comes with ABSOLUTELY NO WARRANTY.
You are welcome to redistribute it under certain conditions.
Type 'license()' or 'licence()' for distribution details.

R is a collaborative project with many contributors.
Type 'contributors()' for more information and
'citation()' on how to cite R or R packages in publications.

Type 'demo()' for some demos, 'help()' for on-line help, or
'help.start()' for an HTML browser interface to help.
Type 'q()' to quit R.

> BiocGenerics:::testPackage("CNORfeeder")

Attaching package: 'BiocGenerics'

The following objects are masked from 'package:stats':

    IQR, mad, sd, var, xtabs

The following objects are masked from 'package:base':

    Filter, Find, Map, Position, Reduce, anyDuplicated, append,
    as.data.frame, basename, cbind, colnames, dirname, do.call,
    duplicated, eval, evalq, get, grep, grepl, intersect, is.unsorted,
    lapply, mapply, match, mget, order, paste, pmax, pmax.int, pmin,
    pmin.int, rank, rbind, rownames, sapply, setdiff, sort, table,
    tapply, union, unique, unsplit, which.max, which.min

hash-2.2.6.1 provided by Decision Patterns


Attaching package: 'XML'

The following object is masked from 'package:graph':

    addNode

[1] "p38 : the condition with stimulus il1a and inhibitor p38  is missing or NA"
[1] "p38 : the condition with stimulus tgfa and inhibitor p38  is missing or NA"
[1] "mek12 : the condition with stimulus il1a and inhibitor mek12  is missing or NA"
[1] "mek12 : the condition with stimulus tgfa and inhibitor mek12  is missing or NA"
[1] "p38 : the condition with stimulus il1a and inhibitor p38  is missing or NA"
[1] "p38 : the condition with stimulus tgfa and inhibitor p38  is missing or NA"
[1] "mek12 : the condition with stimulus il1a and inhibitor mek12  is missing or NA"
[1] "mek12 : the condition with stimulus tgfa and inhibitor mek12  is missing or NA"
[1] "The following species are measured: akt, erk12, ikb, jnk12, p38, hsp27, mek12"
[1] "The following species are stimulated: igf1, il1a, tgfa, tnfa"
[1] "The following species are inhibited: ikk, mek12, pi3k, p38"
[1] "The following species are not observable and/or not controllable: "
[1] "---------------------------------------------"
[1] "stimulus:  igf1      signal:  akt"
[1] "Added links:"
[1] "igf1->akt"
[1] "---------------------------------------------"
[1] ""
[1] "---------------------------------------------"
[1] "stimulus:  il1a      signal:  akt"
[1] "Added links:"
[1] "---------------------------------------------"
[1] ""
[1] "---------------------------------------------"
[1] "stimulus:  tgfa      signal:  akt"
[1] "Added links:"
[1] "tgfa->akt"
[1] "---------------------------------------------"
[1] ""
[1] "---------------------------------------------"
[1] "stimulus:  tnfa      signal:  akt"
[1] "Added links:"
[1] "---------------------------------------------"
[1] ""
[1] "---------------------------------------------"
[1] "stimulus:  igf1      signal:  erk12"
[1] "Added links:"
[1] "---------------------------------------------"
[1] ""
[1] "---------------------------------------------"
[1] "stimulus:  il1a      signal:  erk12"
[1] "Added links:"
[1] "---------------------------------------------"
[1] ""
[1] "---------------------------------------------"
[1] "stimulus:  tgfa      signal:  erk12"
[1] "Added links:"
[1] "tgfa->mek12"
[1] "!il1a+mek12->erk12"
[1] "---------------------------------------------"
[1] ""
[1] "---------------------------------------------"
[1] "stimulus:  tnfa      signal:  erk12"
[1] "Added links:"
[1] "---------------------------------------------"
[1] ""
[1] "---------------------------------------------"
[1] "stimulus:  igf1      signal:  ikb"
[1] "Added links:"
[1] "---------------------------------------------"
[1] ""
[1] "---------------------------------------------"
[1] "stimulus:  il1a      signal:  ikb"
[1] "Added links:"
[1] "il1a->ikk"
[1] "---------------------------------------------"
[1] ""
[1] "---------------------------------------------"
[1] "stimulus:  tgfa      signal:  ikb"
[1] "Added links:"
[1] "---------------------------------------------"
[1] ""
[1] "---------------------------------------------"
[1] "stimulus:  tnfa      signal:  ikb"
[1] "Added links:"
[1] "tnfa->ikk"
[1] "jnk12->ikk"
[1] "---------------------------------------------"
[1] ""
[1] "---------------------------------------------"
[1] "stimulus:  igf1      signal:  jnk12"
[1] "Added links:"
[1] "---------------------------------------------"
[1] ""
[1] "---------------------------------------------"
[1] "stimulus:  il1a      signal:  jnk12"
[1] "Added links:"
[1] "il1a->jnk12"
[1] "---------------------------------------------"
[1] ""
[1] "---------------------------------------------"
[1] "stimulus:  tgfa      signal:  jnk12"
[1] "Added links:"
[1] "---------------------------------------------"
[1] ""
[1] "---------------------------------------------"
[1] "stimulus:  tnfa      signal:  jnk12"
[1] "Added links:"
[1] "---------------------------------------------"
[1] ""
[1] "---------------------------------------------"
[1] "stimulus:  igf1      signal:  p38"
[1] "Added links:"
[1] "---------------------------------------------"
[1] ""
[1] "---------------------------------------------"
[1] "stimulus:  il1a      signal:  p38"
[1] "Added links:"
[1] "il1a->p38"
[1] "---------------------------------------------"
[1] ""
[1] "---------------------------------------------"
[1] "stimulus:  tgfa      signal:  p38"
[1] "Added links:"
[1] "ikk->p38"
[1] "ikb->p38"
[1] "mek12->p38"
[1] "erk12->p38"
[1] "hsp27->p38"
[1] "pi3k->p38"
[1] "akt->p38"
[1] "---------------------------------------------"
[1] ""
[1] "---------------------------------------------"
[1] "stimulus:  tnfa      signal:  p38"
[1] "Added links:"
[1] "---------------------------------------------"
[1] ""
[1] "---------------------------------------------"
[1] "stimulus:  igf1      signal:  hsp27"
[1] "Added links:"
[1] "---------------------------------------------"
[1] ""
[1] "---------------------------------------------"
[1] "stimulus:  il1a      signal:  hsp27"
[1] "Added links:"
[1] "il1a->p38"
[1] "!tgfa+p38->hsp27"
[1] "---------------------------------------------"
[1] ""
[1] "---------------------------------------------"
[1] "stimulus:  tgfa      signal:  hsp27"
[1] "Added links:"
[1] "---------------------------------------------"
[1] ""
[1] "---------------------------------------------"
[1] "stimulus:  tnfa      signal:  hsp27"
[1] "Added links:"
[1] "---------------------------------------------"
[1] ""
[1] "---------------------------------------------"
[1] "stimulus:  igf1      signal:  mek12"
[1] "Added links:"
[1] "---------------------------------------------"
[1] ""
[1] "---------------------------------------------"
[1] "stimulus:  il1a      signal:  mek12"
[1] "Added links:"
[1] "il1a->mek12"
[1] "---------------------------------------------"
[1] ""
[1] "---------------------------------------------"
[1] "stimulus:  tgfa      signal:  mek12"
[1] "Added links:"
[1] "tgfa->mek12"
[1] "---------------------------------------------"
[1] ""
[1] "---------------------------------------------"
[1] "stimulus:  tnfa      signal:  mek12"
[1] "Added links:"
[1] "---------------------------------------------"
[1] ""
[1] "p38 : the condition with stimulus il1a and inhibitor p38  is missing or NA"
[1] "p38 : the condition with stimulus tgfa and inhibitor p38  is missing or NA"
[1] "mek12 : the condition with stimulus il1a and inhibitor mek12  is missing or NA"
[1] "mek12 : the condition with stimulus tgfa and inhibitor mek12  is missing or NA"
[1] "The following species are measured: akt, erk12, ikb, jnk12, p38, hsp27, mek12"
[1] "The following species are stimulated: igf1, il1a, tgfa, tnfa"
[1] "The following species are inhibited: ikk, mek12, pi3k, p38"
[1] "The following species are not observable and/or not controllable: "
[1] "---------------------------------------------"
[1] "stimulus:  igf1      signal:  akt"
[1] "Added links:"
[1] "igf1->akt"
[1] "---------------------------------------------"
[1] ""
[1] "---------------------------------------------"
[1] "stimulus:  il1a      signal:  akt"
[1] "Added links:"
[1] "---------------------------------------------"
[1] ""
[1] "---------------------------------------------"
[1] "stimulus:  tgfa      signal:  akt"
[1] "Added links:"
[1] "tgfa->akt"
[1] "---------------------------------------------"
[1] ""
[1] "---------------------------------------------"
[1] "stimulus:  tnfa      signal:  akt"
[1] "Added links:"
[1] "---------------------------------------------"
[1] ""
[1] "---------------------------------------------"
[1] "stimulus:  igf1      signal:  erk12"
[1] "Added links:"
[1] "---------------------------------------------"
[1] ""
[1] "---------------------------------------------"
[1] "stimulus:  il1a      signal:  erk12"
[1] "Added links:"
[1] "---------------------------------------------"
[1] ""
[1] "---------------------------------------------"
[1] "stimulus:  tgfa      signal:  erk12"
[1] "Added links:"
[1] "tgfa->mek12"
[1] "!il1a+mek12->erk12"
[1] "---------------------------------------------"
[1] ""
[1] "---------------------------------------------"
[1] "stimulus:  tnfa      signal:  erk12"
[1] "Added links:"
[1] "---------------------------------------------"
[1] ""
[1] "---------------------------------------------"
[1] "stimulus:  igf1      signal:  ikb"
[1] "Added links:"
[1] "---------------------------------------------"
[1] ""
[1] "---------------------------------------------"
[1] "stimulus:  il1a      signal:  ikb"
[1] "Added links:"
[1] "il1a->ikk"
[1] "---------------------------------------------"
[1] ""
[1] "---------------------------------------------"
[1] "stimulus:  tgfa      signal:  ikb"
[1] "Added links:"
[1] "---------------------------------------------"
[1] ""
[1] "---------------------------------------------"
[1] "stimulus:  tnfa      signal:  ikb"
[1] "Added links:"
[1] "tnfa->ikk"
[1] "jnk12->ikk"
[1] "---------------------------------------------"
[1] ""
[1] "---------------------------------------------"
[1] "stimulus:  igf1      signal:  jnk12"
[1] "Added links:"
[1] "---------------------------------------------"
[1] ""
[1] "---------------------------------------------"
[1] "stimulus:  il1a      signal:  jnk12"
[1] "Added links:"
[1] "il1a->jnk12"
[1] "---------------------------------------------"
[1] ""
[1] "---------------------------------------------"
[1] "stimulus:  tgfa      signal:  jnk12"
[1] "Added links:"
[1] "---------------------------------------------"
[1] ""
[1] "---------------------------------------------"
[1] "stimulus:  tnfa      signal:  jnk12"
[1] "Added links:"
[1] "---------------------------------------------"
[1] ""
[1] "---------------------------------------------"
[1] "stimulus:  igf1      signal:  p38"
[1] "Added links:"
[1] "---------------------------------------------"
[1] ""
[1] "---------------------------------------------"
[1] "stimulus:  il1a      signal:  p38"
[1] "Added links:"
[1] "il1a->p38"
[1] "---------------------------------------------"
[1] ""
[1] "---------------------------------------------"
[1] "stimulus:  tgfa      signal:  p38"
[1] "Added links:"
[1] "ikk->p38"
[1] "ikb->p38"
[1] "mek12->p38"
[1] "erk12->p38"
[1] "hsp27->p38"
[1] "pi3k->p38"
[1] "akt->p38"
[1] "---------------------------------------------"
[1] ""
[1] "---------------------------------------------"
[1] "stimulus:  tnfa      signal:  p38"
[1] "Added links:"
[1] "---------------------------------------------"
[1] ""
[1] "---------------------------------------------"
[1] "stimulus:  igf1      signal:  hsp27"
[1] "Added links:"
[1] "---------------------------------------------"
[1] ""
[1] "---------------------------------------------"
[1] "stimulus:  il1a      signal:  hsp27"
[1] "Added links:"
[1] "il1a->p38"
[1] "!tgfa+p38->hsp27"
[1] "---------------------------------------------"
[1] ""
[1] "---------------------------------------------"
[1] "stimulus:  tgfa      signal:  hsp27"
[1] "Added links:"
[1] "---------------------------------------------"
[1] ""
[1] "---------------------------------------------"
[1] "stimulus:  tnfa      signal:  hsp27"
[1] "Added links:"
[1] "---------------------------------------------"
[1] ""
[1] "---------------------------------------------"
[1] "stimulus:  igf1      signal:  mek12"
[1] "Added links:"
[1] "---------------------------------------------"
[1] ""
[1] "---------------------------------------------"
[1] "stimulus:  il1a      signal:  mek12"
[1] "Added links:"
[1] "il1a->mek12"
[1] "---------------------------------------------"
[1] ""
[1] "---------------------------------------------"
[1] "stimulus:  tgfa      signal:  mek12"
[1] "Added links:"
[1] "tgfa->mek12"
[1] "---------------------------------------------"
[1] ""
[1] "---------------------------------------------"
[1] "stimulus:  tnfa      signal:  mek12"
[1] "Added links:"
[1] "---------------------------------------------"
[1] ""


RUNIT TEST PROTOCOL -- Sat Sep 25 00:36:01 2021 
*********************************************** 
Number of test functions: 3 
Number of errors: 0 
Number of failures: 0 

 
1 Test Suite : 
CNORfeeder RUnit Tests - 3 test functions, 0 errors, 0 failures
Number of test functions: 3 
Number of errors: 0 
Number of failures: 0 
> 
> proc.time()
   user  system elapsed 
   1.71    0.09    1.79 

CNORfeeder.Rcheck/tests_x64/runTests.Rout


R version 4.1.1 (2021-08-10) -- "Kick Things"
Copyright (C) 2021 The R Foundation for Statistical Computing
Platform: x86_64-w64-mingw32/x64 (64-bit)

R is free software and comes with ABSOLUTELY NO WARRANTY.
You are welcome to redistribute it under certain conditions.
Type 'license()' or 'licence()' for distribution details.

R is a collaborative project with many contributors.
Type 'contributors()' for more information and
'citation()' on how to cite R or R packages in publications.

Type 'demo()' for some demos, 'help()' for on-line help, or
'help.start()' for an HTML browser interface to help.
Type 'q()' to quit R.

> BiocGenerics:::testPackage("CNORfeeder")

Attaching package: 'BiocGenerics'

The following objects are masked from 'package:stats':

    IQR, mad, sd, var, xtabs

The following objects are masked from 'package:base':

    Filter, Find, Map, Position, Reduce, anyDuplicated, append,
    as.data.frame, basename, cbind, colnames, dirname, do.call,
    duplicated, eval, evalq, get, grep, grepl, intersect, is.unsorted,
    lapply, mapply, match, mget, order, paste, pmax, pmax.int, pmin,
    pmin.int, rank, rbind, rownames, sapply, setdiff, sort, table,
    tapply, union, unique, unsplit, which.max, which.min

hash-2.2.6.1 provided by Decision Patterns


Attaching package: 'XML'

The following object is masked from 'package:graph':

    addNode

[1] "p38 : the condition with stimulus il1a and inhibitor p38  is missing or NA"
[1] "p38 : the condition with stimulus tgfa and inhibitor p38  is missing or NA"
[1] "mek12 : the condition with stimulus il1a and inhibitor mek12  is missing or NA"
[1] "mek12 : the condition with stimulus tgfa and inhibitor mek12  is missing or NA"
[1] "p38 : the condition with stimulus il1a and inhibitor p38  is missing or NA"
[1] "p38 : the condition with stimulus tgfa and inhibitor p38  is missing or NA"
[1] "mek12 : the condition with stimulus il1a and inhibitor mek12  is missing or NA"
[1] "mek12 : the condition with stimulus tgfa and inhibitor mek12  is missing or NA"
[1] "The following species are measured: akt, erk12, ikb, jnk12, p38, hsp27, mek12"
[1] "The following species are stimulated: igf1, il1a, tgfa, tnfa"
[1] "The following species are inhibited: ikk, mek12, pi3k, p38"
[1] "The following species are not observable and/or not controllable: "
[1] "---------------------------------------------"
[1] "stimulus:  igf1      signal:  akt"
[1] "Added links:"
[1] "igf1->akt"
[1] "---------------------------------------------"
[1] ""
[1] "---------------------------------------------"
[1] "stimulus:  il1a      signal:  akt"
[1] "Added links:"
[1] "---------------------------------------------"
[1] ""
[1] "---------------------------------------------"
[1] "stimulus:  tgfa      signal:  akt"
[1] "Added links:"
[1] "tgfa->akt"
[1] "---------------------------------------------"
[1] ""
[1] "---------------------------------------------"
[1] "stimulus:  tnfa      signal:  akt"
[1] "Added links:"
[1] "---------------------------------------------"
[1] ""
[1] "---------------------------------------------"
[1] "stimulus:  igf1      signal:  erk12"
[1] "Added links:"
[1] "---------------------------------------------"
[1] ""
[1] "---------------------------------------------"
[1] "stimulus:  il1a      signal:  erk12"
[1] "Added links:"
[1] "---------------------------------------------"
[1] ""
[1] "---------------------------------------------"
[1] "stimulus:  tgfa      signal:  erk12"
[1] "Added links:"
[1] "tgfa->mek12"
[1] "!il1a+mek12->erk12"
[1] "---------------------------------------------"
[1] ""
[1] "---------------------------------------------"
[1] "stimulus:  tnfa      signal:  erk12"
[1] "Added links:"
[1] "---------------------------------------------"
[1] ""
[1] "---------------------------------------------"
[1] "stimulus:  igf1      signal:  ikb"
[1] "Added links:"
[1] "---------------------------------------------"
[1] ""
[1] "---------------------------------------------"
[1] "stimulus:  il1a      signal:  ikb"
[1] "Added links:"
[1] "il1a->ikk"
[1] "---------------------------------------------"
[1] ""
[1] "---------------------------------------------"
[1] "stimulus:  tgfa      signal:  ikb"
[1] "Added links:"
[1] "---------------------------------------------"
[1] ""
[1] "---------------------------------------------"
[1] "stimulus:  tnfa      signal:  ikb"
[1] "Added links:"
[1] "tnfa->ikk"
[1] "jnk12->ikk"
[1] "---------------------------------------------"
[1] ""
[1] "---------------------------------------------"
[1] "stimulus:  igf1      signal:  jnk12"
[1] "Added links:"
[1] "---------------------------------------------"
[1] ""
[1] "---------------------------------------------"
[1] "stimulus:  il1a      signal:  jnk12"
[1] "Added links:"
[1] "il1a->jnk12"
[1] "---------------------------------------------"
[1] ""
[1] "---------------------------------------------"
[1] "stimulus:  tgfa      signal:  jnk12"
[1] "Added links:"
[1] "---------------------------------------------"
[1] ""
[1] "---------------------------------------------"
[1] "stimulus:  tnfa      signal:  jnk12"
[1] "Added links:"
[1] "---------------------------------------------"
[1] ""
[1] "---------------------------------------------"
[1] "stimulus:  igf1      signal:  p38"
[1] "Added links:"
[1] "---------------------------------------------"
[1] ""
[1] "---------------------------------------------"
[1] "stimulus:  il1a      signal:  p38"
[1] "Added links:"
[1] "il1a->p38"
[1] "---------------------------------------------"
[1] ""
[1] "---------------------------------------------"
[1] "stimulus:  tgfa      signal:  p38"
[1] "Added links:"
[1] "ikk->p38"
[1] "ikb->p38"
[1] "mek12->p38"
[1] "erk12->p38"
[1] "hsp27->p38"
[1] "pi3k->p38"
[1] "akt->p38"
[1] "---------------------------------------------"
[1] ""
[1] "---------------------------------------------"
[1] "stimulus:  tnfa      signal:  p38"
[1] "Added links:"
[1] "---------------------------------------------"
[1] ""
[1] "---------------------------------------------"
[1] "stimulus:  igf1      signal:  hsp27"
[1] "Added links:"
[1] "---------------------------------------------"
[1] ""
[1] "---------------------------------------------"
[1] "stimulus:  il1a      signal:  hsp27"
[1] "Added links:"
[1] "il1a->p38"
[1] "!tgfa+p38->hsp27"
[1] "---------------------------------------------"
[1] ""
[1] "---------------------------------------------"
[1] "stimulus:  tgfa      signal:  hsp27"
[1] "Added links:"
[1] "---------------------------------------------"
[1] ""
[1] "---------------------------------------------"
[1] "stimulus:  tnfa      signal:  hsp27"
[1] "Added links:"
[1] "---------------------------------------------"
[1] ""
[1] "---------------------------------------------"
[1] "stimulus:  igf1      signal:  mek12"
[1] "Added links:"
[1] "---------------------------------------------"
[1] ""
[1] "---------------------------------------------"
[1] "stimulus:  il1a      signal:  mek12"
[1] "Added links:"
[1] "il1a->mek12"
[1] "---------------------------------------------"
[1] ""
[1] "---------------------------------------------"
[1] "stimulus:  tgfa      signal:  mek12"
[1] "Added links:"
[1] "tgfa->mek12"
[1] "---------------------------------------------"
[1] ""
[1] "---------------------------------------------"
[1] "stimulus:  tnfa      signal:  mek12"
[1] "Added links:"
[1] "---------------------------------------------"
[1] ""
[1] "p38 : the condition with stimulus il1a and inhibitor p38  is missing or NA"
[1] "p38 : the condition with stimulus tgfa and inhibitor p38  is missing or NA"
[1] "mek12 : the condition with stimulus il1a and inhibitor mek12  is missing or NA"
[1] "mek12 : the condition with stimulus tgfa and inhibitor mek12  is missing or NA"
[1] "The following species are measured: akt, erk12, ikb, jnk12, p38, hsp27, mek12"
[1] "The following species are stimulated: igf1, il1a, tgfa, tnfa"
[1] "The following species are inhibited: ikk, mek12, pi3k, p38"
[1] "The following species are not observable and/or not controllable: "
[1] "---------------------------------------------"
[1] "stimulus:  igf1      signal:  akt"
[1] "Added links:"
[1] "igf1->akt"
[1] "---------------------------------------------"
[1] ""
[1] "---------------------------------------------"
[1] "stimulus:  il1a      signal:  akt"
[1] "Added links:"
[1] "---------------------------------------------"
[1] ""
[1] "---------------------------------------------"
[1] "stimulus:  tgfa      signal:  akt"
[1] "Added links:"
[1] "tgfa->akt"
[1] "---------------------------------------------"
[1] ""
[1] "---------------------------------------------"
[1] "stimulus:  tnfa      signal:  akt"
[1] "Added links:"
[1] "---------------------------------------------"
[1] ""
[1] "---------------------------------------------"
[1] "stimulus:  igf1      signal:  erk12"
[1] "Added links:"
[1] "---------------------------------------------"
[1] ""
[1] "---------------------------------------------"
[1] "stimulus:  il1a      signal:  erk12"
[1] "Added links:"
[1] "---------------------------------------------"
[1] ""
[1] "---------------------------------------------"
[1] "stimulus:  tgfa      signal:  erk12"
[1] "Added links:"
[1] "tgfa->mek12"
[1] "!il1a+mek12->erk12"
[1] "---------------------------------------------"
[1] ""
[1] "---------------------------------------------"
[1] "stimulus:  tnfa      signal:  erk12"
[1] "Added links:"
[1] "---------------------------------------------"
[1] ""
[1] "---------------------------------------------"
[1] "stimulus:  igf1      signal:  ikb"
[1] "Added links:"
[1] "---------------------------------------------"
[1] ""
[1] "---------------------------------------------"
[1] "stimulus:  il1a      signal:  ikb"
[1] "Added links:"
[1] "il1a->ikk"
[1] "---------------------------------------------"
[1] ""
[1] "---------------------------------------------"
[1] "stimulus:  tgfa      signal:  ikb"
[1] "Added links:"
[1] "---------------------------------------------"
[1] ""
[1] "---------------------------------------------"
[1] "stimulus:  tnfa      signal:  ikb"
[1] "Added links:"
[1] "tnfa->ikk"
[1] "jnk12->ikk"
[1] "---------------------------------------------"
[1] ""
[1] "---------------------------------------------"
[1] "stimulus:  igf1      signal:  jnk12"
[1] "Added links:"
[1] "---------------------------------------------"
[1] ""
[1] "---------------------------------------------"
[1] "stimulus:  il1a      signal:  jnk12"
[1] "Added links:"
[1] "il1a->jnk12"
[1] "---------------------------------------------"
[1] ""
[1] "---------------------------------------------"
[1] "stimulus:  tgfa      signal:  jnk12"
[1] "Added links:"
[1] "---------------------------------------------"
[1] ""
[1] "---------------------------------------------"
[1] "stimulus:  tnfa      signal:  jnk12"
[1] "Added links:"
[1] "---------------------------------------------"
[1] ""
[1] "---------------------------------------------"
[1] "stimulus:  igf1      signal:  p38"
[1] "Added links:"
[1] "---------------------------------------------"
[1] ""
[1] "---------------------------------------------"
[1] "stimulus:  il1a      signal:  p38"
[1] "Added links:"
[1] "il1a->p38"
[1] "---------------------------------------------"
[1] ""
[1] "---------------------------------------------"
[1] "stimulus:  tgfa      signal:  p38"
[1] "Added links:"
[1] "ikk->p38"
[1] "ikb->p38"
[1] "mek12->p38"
[1] "erk12->p38"
[1] "hsp27->p38"
[1] "pi3k->p38"
[1] "akt->p38"
[1] "---------------------------------------------"
[1] ""
[1] "---------------------------------------------"
[1] "stimulus:  tnfa      signal:  p38"
[1] "Added links:"
[1] "---------------------------------------------"
[1] ""
[1] "---------------------------------------------"
[1] "stimulus:  igf1      signal:  hsp27"
[1] "Added links:"
[1] "---------------------------------------------"
[1] ""
[1] "---------------------------------------------"
[1] "stimulus:  il1a      signal:  hsp27"
[1] "Added links:"
[1] "il1a->p38"
[1] "!tgfa+p38->hsp27"
[1] "---------------------------------------------"
[1] ""
[1] "---------------------------------------------"
[1] "stimulus:  tgfa      signal:  hsp27"
[1] "Added links:"
[1] "---------------------------------------------"
[1] ""
[1] "---------------------------------------------"
[1] "stimulus:  tnfa      signal:  hsp27"
[1] "Added links:"
[1] "---------------------------------------------"
[1] ""
[1] "---------------------------------------------"
[1] "stimulus:  igf1      signal:  mek12"
[1] "Added links:"
[1] "---------------------------------------------"
[1] ""
[1] "---------------------------------------------"
[1] "stimulus:  il1a      signal:  mek12"
[1] "Added links:"
[1] "il1a->mek12"
[1] "---------------------------------------------"
[1] ""
[1] "---------------------------------------------"
[1] "stimulus:  tgfa      signal:  mek12"
[1] "Added links:"
[1] "tgfa->mek12"
[1] "---------------------------------------------"
[1] ""
[1] "---------------------------------------------"
[1] "stimulus:  tnfa      signal:  mek12"
[1] "Added links:"
[1] "---------------------------------------------"
[1] ""


RUNIT TEST PROTOCOL -- Sat Sep 25 00:36:03 2021 
*********************************************** 
Number of test functions: 3 
Number of errors: 0 
Number of failures: 0 

 
1 Test Suite : 
CNORfeeder RUnit Tests - 3 test functions, 0 errors, 0 failures
Number of test functions: 3 
Number of errors: 0 
Number of failures: 0 
> 
> proc.time()
   user  system elapsed 
   1.73    0.15    1.86 

Example timings

CNORfeeder.Rcheck/examples_i386/CNORfeeder-Ex.timings

nameusersystemelapsed
Binference 0.08 0.0016.22
CNORfeeder-package0.270.000.27
MIinference0.130.000.13
buildFeederObjectDynamic0.700.030.73
gaBinaryT1W0.280.020.30
identifyMisfitIndices0.020.000.01
integrateLinks0.000.010.03
linksRanking0.010.000.02
makeBTables0.020.000.02
mapBTables2model0.20.00.2
mapDDN2model0.020.020.03
runDynamicFeeder000
weighting0.220.000.22

CNORfeeder.Rcheck/examples_x64/CNORfeeder-Ex.timings

nameusersystemelapsed
Binference 0.06 0.0016.18
CNORfeeder-package0.280.000.29
MIinference0.120.000.13
buildFeederObjectDynamic0.750.020.76
gaBinaryT1W0.270.030.30
identifyMisfitIndices0.010.000.01
integrateLinks0.020.000.02
linksRanking0.010.000.02
makeBTables0.020.000.01
mapBTables2model0.220.000.22
mapDDN2model0.010.020.03
runDynamicFeeder000
weighting0.220.000.22